| Back to Multiple platform build/check report for BioC 3.12 |
|
This page was generated on 2021-05-06 12:27:51 -0400 (Thu, 06 May 2021).
|
To the developers/maintainers of the hapFabia package: Please make sure to use the following settings in order to reproduce any error or warning you see on this page. |
| Package 813/1974 | Hostname | OS / Arch | INSTALL | BUILD | CHECK | BUILD BIN | ||||||||
| hapFabia 1.32.0 (landing page) Andreas Mitterecker
| malbec1 | Linux (Ubuntu 18.04.5 LTS) / x86_64 | OK | OK | OK | |||||||||
| tokay1 | Windows Server 2012 R2 Standard / x64 | OK | OK | WARNINGS | OK | |||||||||
| merida1 | macOS 10.14.6 Mojave / x86_64 | OK | OK | OK | OK | |||||||||
| Package: hapFabia |
| Version: 1.32.0 |
| Command: /home/biocbuild/bbs-3.12-bioc/R/bin/R CMD check --install=check:hapFabia.install-out.txt --library=/home/biocbuild/bbs-3.12-bioc/R/library --no-vignettes --timings hapFabia_1.32.0.tar.gz |
| StartedAt: 2021-05-06 02:20:21 -0400 (Thu, 06 May 2021) |
| EndedAt: 2021-05-06 02:21:31 -0400 (Thu, 06 May 2021) |
| EllapsedTime: 70.8 seconds |
| RetCode: 0 |
| Status: OK |
| CheckDir: hapFabia.Rcheck |
| Warnings: 0 |
##############################################################################
##############################################################################
###
### Running command:
###
### /home/biocbuild/bbs-3.12-bioc/R/bin/R CMD check --install=check:hapFabia.install-out.txt --library=/home/biocbuild/bbs-3.12-bioc/R/library --no-vignettes --timings hapFabia_1.32.0.tar.gz
###
##############################################################################
##############################################################################
* using log directory ‘/home/biocbuild/bbs-3.12-bioc/meat/hapFabia.Rcheck’
* using R version 4.0.5 (2021-03-31)
* using platform: x86_64-pc-linux-gnu (64-bit)
* using session charset: UTF-8
* using option ‘--no-vignettes’
* checking for file ‘hapFabia/DESCRIPTION’ ... OK
* this is package ‘hapFabia’ version ‘1.32.0’
* checking package namespace information ... OK
* checking package dependencies ... OK
* checking if this is a source package ... OK
* checking if there is a namespace ... OK
* checking for hidden files and directories ... OK
* checking for portable file names ... OK
* checking for sufficient/correct file permissions ... OK
* checking whether package ‘hapFabia’ can be installed ... OK
* checking installed package size ... OK
* checking package directory ... OK
* checking ‘build’ directory ... OK
* checking DESCRIPTION meta-information ... OK
* checking top-level files ... OK
* checking for left-over files ... OK
* checking index information ... OK
* checking package subdirectories ... OK
* checking R files for non-ASCII characters ... OK
* checking R files for syntax errors ... OK
* checking whether the package can be loaded ... OK
* checking whether the package can be loaded with stated dependencies ... OK
* checking whether the package can be unloaded cleanly ... OK
* checking whether the namespace can be loaded with stated dependencies ... OK
* checking whether the namespace can be unloaded cleanly ... OK
* checking dependencies in R code ... OK
* checking S3 generic/method consistency ... OK
* checking replacement functions ... OK
* checking foreign function calls ... OK
* checking R code for possible problems ... NOTE
File ‘hapFabia/R/zzz.R’:
.onLoad calls:
packageStartupMessage("+--------------------------+ # # ## ##### \n", "|#.....#...#.......#.#....#| # # # # # # \n", "|#.....#...#.......#.#....#| ###### # # # # \n", "|#.....#...#...............| # # ###### ##### \n", "|#.....#...#.......#.#....#| # # # # # \n", "|#.....#...#...............| # # # # # \n", "|#.....#...#.......#.#....#| ####### \n", "|..................#.#....#| # ## ##### # ## \n", "|#.....#...#.......#.#....#| # # # # # # # # \n", "|..................#.#....#| ##### # # ##### # # # \n", "|#.....#...#.......#.#....#| # ###### # # # ###### \n", "|#.....#...#.......#.#....#| # # # # # # # # \n", "+--------------------------+ # # # ##### # # # \n")
packageStartupMessage("Citation: S. Hochreiter,", "\n", "HapFABIA: Identification of very short segments of identity by descent characterized by rare variants in large sequencing data,", "\n", "Nucleic Acids Research, 2013, doi: 10.1093/nar/gkt1013.", "\n", "BibTex: enter 'toBibtex(citation(\"hapFabia\"))'", "\n\n", "Homepage: http://www.bioinf.jku.at/software/hapFabia/index.html", "\n\n", "hapFabia Package Version ", version, "\n")
See section ‘Good practice’ in '?.onAttach'.
* checking Rd files ... OK
* checking Rd metadata ... OK
* checking Rd cross-references ... OK
* checking for missing documentation entries ... OK
* checking for code/documentation mismatches ... OK
* checking Rd \usage sections ... OK
* checking Rd contents ... OK
* checking for unstated dependencies in examples ... OK
* checking contents of ‘data’ directory ... OK
* checking data for non-ASCII characters ... OK
* checking data for ASCII and uncompressed saves ... OK
* checking line endings in shell scripts ... OK
* checking line endings in C/C++/Fortran sources/headers ... OK
* checking line endings in Makefiles ... OK
* checking compilation flags in Makevars ... OK
* checking for GNU extensions in Makefiles ... OK
* checking for portable use of $(BLAS_LIBS) and $(LAPACK_LIBS) ... OK
* checking use of PKG_*FLAGS in Makefiles ... OK
* checking compiled code ... NOTE
Note: information on .o files is not available
* checking files in ‘vignettes’ ... OK
* checking examples ... OK
Examples with CPU (user + system) or elapsed time > 5s
user system elapsed
iterateIntervals 6.288 0.084 6.402
* checking for unstated dependencies in vignettes ... OK
* checking package vignettes in ‘inst/doc’ ... OK
* checking running R code from vignettes ... SKIPPED
* checking re-building of vignette outputs ... SKIPPED
* checking PDF version of manual ... OK
* DONE
Status: 2 NOTEs
See
‘/home/biocbuild/bbs-3.12-bioc/meat/hapFabia.Rcheck/00check.log’
for details.
hapFabia.Rcheck/00install.out
##############################################################################
##############################################################################
###
### Running command:
###
### /home/biocbuild/bbs-3.12-bioc/R/bin/R CMD INSTALL hapFabia
###
##############################################################################
##############################################################################
* installing to library ‘/home/biocbuild/bbs-3.12-bioc/R/library’
* installing *source* package ‘hapFabia’ ...
** using staged installation
** libs
gcc -I"/home/biocbuild/bbs-3.12-bioc/R/include" -DNDEBUG -I/usr/local/include -fpic -g -O2 -Wall -c interfaceR.c -o interfaceR.o
gcc -I"/home/biocbuild/bbs-3.12-bioc/R/include" -DNDEBUG -I/usr/local/include -fpic -g -O2 -Wall -c split_sparse_matrixB.c -o split_sparse_matrixB.o
gcc -I"/home/biocbuild/bbs-3.12-bioc/R/include" -DNDEBUG -I/usr/local/include -fpic -g -O2 -Wall -c vcftoFABIAB.c -o vcftoFABIAB.o
vcftoFABIAB.c: In function ‘getdelimS’:
vcftoFABIAB.c:50:7: warning: this ‘if’ clause does not guard... [-Wmisleading-indentation]
if (ch == EOF)
^~
vcftoFABIAB.c:54:10: note: ...this statement, but the latter is misleadingly indented as if it were guarded by the ‘if’
while (idx > *linebufsz - 2) {
^~~~~
gcc -shared -L/home/biocbuild/bbs-3.12-bioc/R/lib -L/usr/local/lib -o hapFabia.so interfaceR.o split_sparse_matrixB.o vcftoFABIAB.o -L/home/biocbuild/bbs-3.12-bioc/R/lib -lR
gcc -c ./commandLine/split_sparse_matrix.c -o ./commandLine/split_sparse_matrix.o -g -O2 -Wall
gcc -c split_sparse_matrixB.c -o ./commandLine/split_sparse_matrixB.o -g -O2 -Wall
gcc ./commandLine/split_sparse_matrix.o ./commandLine/split_sparse_matrixB.o -o ./commandLine/split_sparse_matrix
mv ./commandLine/split_sparse_matrix ../inst/commandLine/
gcc -c ./commandLine/vcftoFABIA.c -o ./commandLine/vcftoFABIA.o -g -O2 -Wall
gcc -c vcftoFABIAB.c -o ./commandLine/vcftoFABIAB.o -g -O2 -Wall
vcftoFABIAB.c: In function ‘getdelimS’:
vcftoFABIAB.c:50:7: warning: this ‘if’ clause does not guard... [-Wmisleading-indentation]
if (ch == EOF)
^~
vcftoFABIAB.c:54:10: note: ...this statement, but the latter is misleadingly indented as if it were guarded by the ‘if’
while (idx > *linebufsz - 2) {
^~~~~
gcc ./commandLine/vcftoFABIA.o ./commandLine/vcftoFABIAB.o -o ./commandLine/vcftoFABIA
mv ./commandLine/vcftoFABIA ../inst/commandLine/
installing to /home/biocbuild/bbs-3.12-bioc/R/library/00LOCK-hapFabia/00new/hapFabia/libs
** R
** data
** inst
** byte-compile and prepare package for lazy loading
** help
*** installing help indices
** building package indices
** installing vignettes
** testing if installed package can be loaded from temporary location
** checking absolute paths in shared objects and dynamic libraries
** testing if installed package can be loaded from final location
** testing if installed package keeps a record of temporary installation path
* DONE (hapFabia)
hapFabia.Rcheck/hapFabia-Ex.timings
| name | user | system | elapsed | |
| IBDsegment-class | 0.352 | 0.040 | 0.395 | |
| IBDsegmentList-class | 0.012 | 0.000 | 0.012 | |
| IBDsegmentList2excel | 0.008 | 0.000 | 0.009 | |
| analyzeIBDsegments | 0.000 | 0.000 | 0.001 | |
| compareIBDsegmentLists | 0.020 | 0.000 | 0.018 | |
| extractIBDsegments | 0.044 | 0.004 | 0.046 | |
| findDenseRegions | 0.004 | 0.000 | 0.004 | |
| hapFabia | 2.260 | 0.040 | 2.308 | |
| hapFabiaVersion | 0.000 | 0.000 | 0.001 | |
| identifyDuplicates | 0.000 | 0.000 | 0.001 | |
| iterateIntervals | 6.288 | 0.084 | 6.402 | |
| makePipelineFile | 0.004 | 0.000 | 0.005 | |
| matrixPlot | 0.004 | 0.000 | 0.007 | |
| mergeIBDsegmentLists | 0.020 | 0.000 | 0.021 | |
| plotIBDsegment | 0.400 | 0.024 | 0.424 | |
| setAnnotation | 0.056 | 0.000 | 0.054 | |
| setStatistics | 0.044 | 0.004 | 0.048 | |
| sim | 0.000 | 0.000 | 0.001 | |
| simulateIBDsegments | 0 | 0 | 0 | |
| simulateIBDsegmentsFabia | 1.240 | 0.008 | 1.249 | |
| split_sparse_matrix | 0.000 | 0.000 | 0.001 | |
| toolsFactorizationClass | 0.728 | 0.008 | 0.737 | |
| vcftoFABIA | 0.004 | 0.000 | 0.000 | |