| Back to Multiple platform build/check report for BioC 3.12 |
|
This page was generated on 2021-05-06 12:35:10 -0400 (Thu, 06 May 2021).
|
To the developers/maintainers of the gpart package: Please make sure to use the following settings in order to reproduce any error or warning you see on this page. |
| Package 772/1974 | Hostname | OS / Arch | INSTALL | BUILD | CHECK | BUILD BIN | ||||||||
| gpart 1.8.0 (landing page) Sun Ah Kim
| malbec1 | Linux (Ubuntu 18.04.5 LTS) / x86_64 | OK | OK | OK | |||||||||
| tokay1 | Windows Server 2012 R2 Standard / x64 | OK | OK | OK | OK | |||||||||
| merida1 | macOS 10.14.6 Mojave / x86_64 | OK | OK | OK | OK | |||||||||
| Package: gpart |
| Version: 1.8.0 |
| Command: rm -rf gpart.buildbin-libdir && mkdir gpart.buildbin-libdir && /Users/biocbuild/BBS/utils/build-universal.sh gpart_1.8.0.tar.gz /Library/Frameworks/R.framework/Versions/Current/Resources/bin/R gpart.buildbin-libdir |
| StartedAt: 2021-05-06 08:49:32 -0400 (Thu, 06 May 2021) |
| EndedAt: 2021-05-06 08:51:16 -0400 (Thu, 06 May 2021) |
| EllapsedTime: 104.2 seconds |
| RetCode: 0 |
| Status: OK |
| PackageFile: gpart_1.8.0.tgz |
| PackageFileSize: 1.16 MiB |
##############################################################################
##############################################################################
###
### Running command:
###
### rm -rf gpart.buildbin-libdir && mkdir gpart.buildbin-libdir && /Users/biocbuild/BBS/utils/build-universal.sh gpart_1.8.0.tar.gz /Library/Frameworks/R.framework/Versions/Current/Resources/bin/R gpart.buildbin-libdir
###
##############################################################################
##############################################################################
>>>>>>>
>>>>>>> INSTALLATION WITH 'R CMD INSTALL --preclean --no-multiarch --library=gpart.buildbin-libdir gpart_1.8.0.tar.gz'
>>>>>>>
* installing *source* package ‘gpart’ ...
** using staged installation
** libs
clang++ -mmacosx-version-min=10.13 -std=gnu++11 -I"/Library/Frameworks/R.framework/Resources/include" -DNDEBUG -I'/Library/Frameworks/R.framework/Versions/4.0/Resources/library/Rcpp/include' -I/usr/local/include -fPIC -Wall -g -O2 -c RcppExports.cpp -o RcppExports.o
In file included from RcppExports.cpp:4:
In file included from /Library/Frameworks/R.framework/Versions/4.0/Resources/library/Rcpp/include/Rcpp.h:57:
/Library/Frameworks/R.framework/Versions/4.0/Resources/library/Rcpp/include/Rcpp/DataFrame.h:136:18: warning: unused variable 'data' [-Wunused-variable]
SEXP data = Parent::get__();
^
1 warning generated.
clang++ -mmacosx-version-min=10.13 -std=gnu++11 -I"/Library/Frameworks/R.framework/Resources/include" -DNDEBUG -I'/Library/Frameworks/R.framework/Versions/4.0/Resources/library/Rcpp/include' -I/usr/local/include -fPIC -Wall -g -O2 -c gpart_cpp.cpp -o gpart_cpp.o
In file included from gpart_cpp.cpp:3:
In file included from /Library/Frameworks/R.framework/Versions/4.0/Resources/library/Rcpp/include/Rcpp.h:57:
/Library/Frameworks/R.framework/Versions/4.0/Resources/library/Rcpp/include/Rcpp/DataFrame.h:136:18: warning: unused variable 'data' [-Wunused-variable]
SEXP data = Parent::get__();
^
1 warning generated.
clang++ -mmacosx-version-min=10.13 -std=gnu++11 -dynamiclib -Wl,-headerpad_max_install_names -undefined dynamic_lookup -single_module -multiply_defined suppress -L/Library/Frameworks/R.framework/Resources/lib -L/usr/local/lib -o gpart.so RcppExports.o gpart_cpp.o -F/Library/Frameworks/R.framework/.. -framework R -Wl,-framework -Wl,CoreFoundation
installing to /Users/biocbuild/bbs-3.12-bioc/meat/gpart.buildbin-libdir/00LOCK-gpart/00new/gpart/libs
** R
** data
*** moving datasets to lazyload DB
** inst
** byte-compile and prepare package for lazy loading
** help
*** installing help indices
** building package indices
** installing vignettes
** testing if installed package can be loaded from temporary location
** checking absolute paths in shared objects and dynamic libraries
** testing if installed package can be loaded from final location
** testing if installed package keeps a record of temporary installation path
* DONE (gpart)
>>>>>>>
>>>>>>> FIXING LINKS FOR gpart.buildbin-libdir/gpart/libs/gpart.so
>>>>>>>
install_name_tool -change "/usr/local/lib/libgcc_s.1.dylib" "/Library/Frameworks/R.framework/Versions/4.0/Resources/lib/libgcc_s.1.dylib" "gpart.buildbin-libdir/gpart/libs/gpart.so"
install_name_tool -change "/usr/local/lib/libgfortran.5.dylib" "/Library/Frameworks/R.framework/Versions/4.0/Resources/lib/libgfortran.5.dylib" "gpart.buildbin-libdir/gpart/libs/gpart.so"
install_name_tool -change "/usr/local/lib/libquadmath.0.dylib" "/Library/Frameworks/R.framework/Versions/4.0/Resources/lib/libquadmath.0.dylib" "gpart.buildbin-libdir/gpart/libs/gpart.so"