| Back to Multiple platform build/check report for BioC 3.12 |
|
This page was generated on 2021-05-06 12:35:10 -0400 (Thu, 06 May 2021).
|
To the developers/maintainers of the goProfiles package: Please make sure to use the following settings in order to reproduce any error or warning you see on this page. |
| Package 762/1974 | Hostname | OS / Arch | INSTALL | BUILD | CHECK | BUILD BIN | ||||||||
| goProfiles 1.52.0 (landing page) Alex Sanchez
| malbec1 | Linux (Ubuntu 18.04.5 LTS) / x86_64 | OK | OK | OK | |||||||||
| tokay1 | Windows Server 2012 R2 Standard / x64 | OK | OK | OK | OK | |||||||||
| merida1 | macOS 10.14.6 Mojave / x86_64 | OK | OK | OK | OK | |||||||||
| Package: goProfiles |
| Version: 1.52.0 |
| Command: /Library/Frameworks/R.framework/Versions/Current/Resources/bin/R CMD check --install=check:goProfiles.install-out.txt --library=/Library/Frameworks/R.framework/Versions/Current/Resources/library --no-vignettes --timings goProfiles_1.52.0.tar.gz |
| StartedAt: 2021-05-06 02:20:23 -0400 (Thu, 06 May 2021) |
| EndedAt: 2021-05-06 02:23:23 -0400 (Thu, 06 May 2021) |
| EllapsedTime: 180.2 seconds |
| RetCode: 0 |
| Status: OK |
| CheckDir: goProfiles.Rcheck |
| Warnings: 0 |
##############################################################################
##############################################################################
###
### Running command:
###
### /Library/Frameworks/R.framework/Versions/Current/Resources/bin/R CMD check --install=check:goProfiles.install-out.txt --library=/Library/Frameworks/R.framework/Versions/Current/Resources/library --no-vignettes --timings goProfiles_1.52.0.tar.gz
###
##############################################################################
##############################################################################
* using log directory ‘/Users/biocbuild/bbs-3.12-bioc/meat/goProfiles.Rcheck’
* using R version 4.0.5 (2021-03-31)
* using platform: x86_64-apple-darwin17.0 (64-bit)
* using session charset: UTF-8
* using option ‘--no-vignettes’
* checking for file ‘goProfiles/DESCRIPTION’ ... OK
* checking extension type ... Package
* this is package ‘goProfiles’ version ‘1.52.0’
* checking package namespace information ... OK
* checking package dependencies ... OK
* checking if this is a source package ... OK
* checking if there is a namespace ... OK
* checking for hidden files and directories ... OK
* checking for portable file names ... OK
* checking for sufficient/correct file permissions ... OK
* checking whether package ‘goProfiles’ can be installed ... OK
* checking installed package size ... OK
* checking package directory ... OK
* checking ‘build’ directory ... OK
* checking DESCRIPTION meta-information ... OK
* checking top-level files ... OK
* checking for left-over files ... OK
* checking index information ... OK
* checking package subdirectories ... OK
* checking R files for non-ASCII characters ... OK
* checking R files for syntax errors ... OK
* checking whether the package can be loaded ... OK
* checking whether the package can be loaded with stated dependencies ... OK
* checking whether the package can be unloaded cleanly ... OK
* checking whether the namespace can be loaded with stated dependencies ... OK
* checking whether the namespace can be unloaded cleanly ... OK
* checking dependencies in R code ... OK
* checking S3 generic/method consistency ... OK
* checking replacement functions ... OK
* checking foreign function calls ... OK
* checking R code for possible problems ... OK
* checking Rd files ... OK
* checking Rd metadata ... OK
* checking Rd cross-references ... OK
* checking for missing documentation entries ... OK
* checking for code/documentation mismatches ... OK
* checking Rd \usage sections ... OK
* checking Rd contents ... OK
* checking for unstated dependencies in examples ... OK
* checking contents of ‘data’ directory ... OK
* checking data for non-ASCII characters ... OK
* checking data for ASCII and uncompressed saves ... OK
* checking sizes of PDF files under ‘inst/doc’ ... OK
* checking installed files from ‘inst/doc’ ... OK
* checking files in ‘vignettes’ ... OK
* checking examples ... OK
Examples with CPU (user + system) or elapsed time > 5s
user system elapsed
compareGeneLists 20.520 0.168 20.714
equivalentGOProfiles 15.627 0.133 15.789
fisherGOProfiles 6.469 0.053 6.531
plotProfiles 5.960 0.039 6.005
printProfiles 5.891 0.059 5.957
mergeProfilesLists 5.643 0.051 5.700
* checking for unstated dependencies in vignettes ... OK
* checking package vignettes in ‘inst/doc’ ... OK
* checking running R code from vignettes ... SKIPPED
* checking re-building of vignette outputs ... SKIPPED
* checking PDF version of manual ... OK
* DONE
Status: OK
goProfiles.Rcheck/00install.out
############################################################################## ############################################################################## ### ### Running command: ### ### /Library/Frameworks/R.framework/Versions/Current/Resources/bin/R CMD INSTALL goProfiles ### ############################################################################## ############################################################################## * installing to library ‘/Library/Frameworks/R.framework/Versions/4.0/Resources/library’ * installing *source* package ‘goProfiles’ ... ** using staged installation ** R ** data ** inst ** byte-compile and prepare package for lazy loading ** help *** installing help indices ** building package indices ** installing vignettes ** testing if installed package can be loaded from temporary location ** testing if installed package can be loaded from final location ** testing if installed package keeps a record of temporary installation path * DONE (goProfiles)
goProfiles.Rcheck/goProfiles-Ex.timings
| name | user | system | elapsed | |
| CD4ids | 0.004 | 0.003 | 0.007 | |
| GOTermsList | 0.000 | 0.000 | 0.001 | |
| basicProfile | 3.700 | 0.141 | 3.845 | |
| compSummary | 0.000 | 0.001 | 0.001 | |
| compareGOProfiles | 4.214 | 0.060 | 4.279 | |
| compareGeneLists | 20.520 | 0.168 | 20.714 | |
| compareProfilesLists | 0.001 | 0.001 | 0.001 | |
| contractedProfile | 2.097 | 0.031 | 2.131 | |
| conversionFunctions | 0.045 | 0.008 | 0.054 | |
| drosophila | 0.003 | 0.002 | 0.006 | |
| equivClust | 0 | 0 | 0 | |
| equivClust2pdf | 0.035 | 0.008 | 0.044 | |
| equivSummary | 0.000 | 0.001 | 0.001 | |
| equivalentGOProfiles | 15.627 | 0.133 | 15.789 | |
| expandedLevel | 0.926 | 0.020 | 0.949 | |
| expandedProfile | 0.948 | 0.013 | 0.962 | |
| fisherGOProfiles | 6.469 | 0.053 | 6.531 | |
| fitGOProfile | 0.000 | 0.000 | 0.001 | |
| hugoIds | 0.016 | 0.002 | 0.018 | |
| iterEquivClust | 0 | 0 | 0 | |
| mergeProfilesLists | 5.643 | 0.051 | 5.700 | |
| ngenes | 2.380 | 0.018 | 2.401 | |
| omimIds | 0.009 | 0.002 | 0.012 | |
| plotProfiles | 5.960 | 0.039 | 6.005 | |
| printProfiles | 5.891 | 0.059 | 5.957 | |
| prostateIds | 0.008 | 0.003 | 0.011 | |