| Back to Multiple platform build/check report for BioC 3.12 |
|
This page was generated on 2021-05-06 12:31:29 -0400 (Thu, 06 May 2021).
|
To the developers/maintainers of the gespeR package: Please make sure to use the following settings in order to reproduce any error or warning you see on this page. |
| Package 732/1974 | Hostname | OS / Arch | INSTALL | BUILD | CHECK | BUILD BIN | ||||||||
| gespeR 1.22.0 (landing page) Fabian Schmich
| malbec1 | Linux (Ubuntu 18.04.5 LTS) / x86_64 | OK | OK | WARNINGS | |||||||||
| tokay1 | Windows Server 2012 R2 Standard / x64 | OK | OK | WARNINGS | OK | |||||||||
| merida1 | macOS 10.14.6 Mojave / x86_64 | OK | OK | WARNINGS | OK | |||||||||
| Package: gespeR |
| Version: 1.22.0 |
| Command: rm -rf gespeR.buildbin-libdir && mkdir gespeR.buildbin-libdir && C:\Users\biocbuild\bbs-3.12-bioc\R\bin\R.exe CMD INSTALL --merge-multiarch --build --library=gespeR.buildbin-libdir gespeR_1.22.0.tar.gz |
| StartedAt: 2021-05-06 09:11:25 -0400 (Thu, 06 May 2021) |
| EndedAt: 2021-05-06 09:12:17 -0400 (Thu, 06 May 2021) |
| EllapsedTime: 51.8 seconds |
| RetCode: 0 |
| Status: OK |
| PackageFile: gespeR_1.22.0.zip |
| PackageFileSize: 2.816 MiB |
##############################################################################
##############################################################################
###
### Running command:
###
### rm -rf gespeR.buildbin-libdir && mkdir gespeR.buildbin-libdir && C:\Users\biocbuild\bbs-3.12-bioc\R\bin\R.exe CMD INSTALL --merge-multiarch --build --library=gespeR.buildbin-libdir gespeR_1.22.0.tar.gz
###
##############################################################################
##############################################################################
install for i386
* installing *source* package 'gespeR' ...
** using staged installation
** R
** data
** inst
** byte-compile and prepare package for lazy loading
** help
*** installing help indices
converting help for package 'gespeR'
finding HTML links ... done
Phenotypes-class html
TargetRelations-class html
annotate.gsp-methods html
as.data.frame-Phenotypes-method html
as.data.frame.concordance html
c-Phenotypes-method html
concordance html
dim-Phenotypes-method html
gespeR-class html
finding level-2 HTML links ... done
gespeR-package html
gspssp-methods html
join-methods html
lasso.rand html
na.rem-methods html
path-methods html
plot.Phenotypes html
plot.concordance html
plot.gespeR html
rbo html
scores-methods html
simData html
stability-methods html
stability.selection html
stabilityfits html
sub-Phenotypes-ANY-ANY-ANY-method html
sub-TargetRelations-ANY-ANY-ANY-method
html
target-relations-methods html
trmatrix-methods html
values-methods html
** building package indices
** installing vignettes
** testing if installed package can be loaded from temporary location
** testing if installed package can be loaded from final location
** testing if installed package keeps a record of temporary installation path
install for x64
* installing *source* package 'gespeR' ...
** testing if installed package can be loaded
* MD5 sums
packaged installation of 'gespeR' as gespeR_1.22.0.zip
* DONE (gespeR)