| Back to Multiple platform build/check report for BioC 3.12 |
|
This page was generated on 2021-05-06 12:35:03 -0400 (Thu, 06 May 2021).
|
To the developers/maintainers of the gemini package: Please make sure to use the following settings in order to reproduce any error or warning you see on this page. |
| Package 678/1974 | Hostname | OS / Arch | INSTALL | BUILD | CHECK | BUILD BIN | ||||||||
| gemini 1.4.0 (landing page) Sidharth Jain
| malbec1 | Linux (Ubuntu 18.04.5 LTS) / x86_64 | OK | OK | ERROR | |||||||||
| tokay1 | Windows Server 2012 R2 Standard / x64 | OK | OK | ERROR | OK | |||||||||
| merida1 | macOS 10.14.6 Mojave / x86_64 | OK | OK | ERROR | OK | |||||||||
| Package: gemini |
| Version: 1.4.0 |
| Command: /Library/Frameworks/R.framework/Versions/Current/Resources/bin/R CMD check --install=check:gemini.install-out.txt --library=/Library/Frameworks/R.framework/Versions/Current/Resources/library --no-vignettes --timings gemini_1.4.0.tar.gz |
| StartedAt: 2021-05-06 01:58:20 -0400 (Thu, 06 May 2021) |
| EndedAt: 2021-05-06 02:01:29 -0400 (Thu, 06 May 2021) |
| EllapsedTime: 189.6 seconds |
| RetCode: 1 |
| Status: ERROR |
| CheckDir: gemini.Rcheck |
| Warnings: NA |
##############################################################################
##############################################################################
###
### Running command:
###
### /Library/Frameworks/R.framework/Versions/Current/Resources/bin/R CMD check --install=check:gemini.install-out.txt --library=/Library/Frameworks/R.framework/Versions/Current/Resources/library --no-vignettes --timings gemini_1.4.0.tar.gz
###
##############################################################################
##############################################################################
* using log directory ‘/Users/biocbuild/bbs-3.12-bioc/meat/gemini.Rcheck’
* using R version 4.0.5 (2021-03-31)
* using platform: x86_64-apple-darwin17.0 (64-bit)
* using session charset: UTF-8
* using option ‘--no-vignettes’
* checking for file ‘gemini/DESCRIPTION’ ... OK
* checking extension type ... Package
* this is package ‘gemini’ version ‘1.4.0’
* package encoding: UTF-8
* checking package namespace information ... OK
* checking package dependencies ... OK
* checking if this is a source package ... OK
* checking if there is a namespace ... OK
* checking for hidden files and directories ... NOTE
Found the following hidden files and directories:
.github
These were most likely included in error. See section ‘Package
structure’ in the ‘Writing R Extensions’ manual.
* checking for portable file names ... OK
* checking for sufficient/correct file permissions ... OK
* checking whether package ‘gemini’ can be installed ... OK
* checking installed package size ... OK
* checking package directory ... OK
* checking ‘build’ directory ... OK
* checking DESCRIPTION meta-information ... OK
* checking top-level files ... OK
* checking for left-over files ... OK
* checking index information ... OK
* checking package subdirectories ... OK
* checking R files for non-ASCII characters ... OK
* checking R files for syntax errors ... OK
* checking whether the package can be loaded ... OK
* checking whether the package can be loaded with stated dependencies ... OK
* checking whether the package can be unloaded cleanly ... OK
* checking whether the namespace can be loaded with stated dependencies ... OK
* checking whether the namespace can be unloaded cleanly ... OK
* checking dependencies in R code ... OK
* checking S3 generic/method consistency ... OK
* checking replacement functions ... OK
* checking foreign function calls ... OK
* checking R code for possible problems ... NOTE
gemini_boxplot : <anonymous>: no visible binding for global variable
‘.’
gemini_boxplot: no visible binding for global variable ‘.’
gemini_boxplot : <anonymous>: no visible binding for global variable
‘gi’
gemini_boxplot : <anonymous>: no visible binding for global variable
‘hj’
gemini_boxplot: no visible binding for global variable ‘label’
gemini_boxplot: no visible binding for global variable ‘y’
gemini_calculate_lfc: no visible binding for global variable ‘.’
update_s_pb: no visible binding for global variable ‘.’
update_tau_pb: no visible binding for global variable ‘.’
Undefined global functions or variables:
. gi hj label y
* checking Rd files ... OK
* checking Rd metadata ... OK
* checking Rd cross-references ... OK
* checking for missing documentation entries ... OK
* checking for code/documentation mismatches ... OK
* checking Rd \usage sections ... OK
* checking Rd contents ... OK
* checking for unstated dependencies in examples ... OK
* checking contents of ‘data’ directory ... OK
* checking data for non-ASCII characters ... OK
* checking data for ASCII and uncompressed saves ... OK
* checking files in ‘vignettes’ ... OK
* checking examples ... OK
Examples with CPU (user + system) or elapsed time > 5s
user system elapsed
gemini_inference 26.945 3.410 30.395
update_tau_pb 12.216 1.658 13.899
update_x_pb 10.118 1.430 11.562
gemini_initialize 7.968 0.068 8.050
* checking for unstated dependencies in ‘tests’ ... OK
* checking tests ...
Running ‘testthat.R’
ERROR
Running the tests in ‘tests/testthat.R’ failed.
Complete output:
> library(testthat)
> library(gemini)
>
> test_check("gemini")
══ Failed tests ════════════════════════════════════════════════════════════════
── Failure (test_data.R:31:5): Input object is reproducible ────────────────────
`Input.new` not equal to `Input`.
Component "sample.annot": Attributes: < Component "row.names": Mean relative difference: 0.5454545 >
[ FAIL 1 | WARN 0 | SKIP 0 | PASS 6 ]
Error: Test failures
Execution halted
* checking for unstated dependencies in vignettes ... OK
* checking package vignettes in ‘inst/doc’ ... OK
* checking running R code from vignettes ... SKIPPED
* checking re-building of vignette outputs ... SKIPPED
* checking PDF version of manual ... OK
* DONE
Status: 1 ERROR, 2 NOTEs
See
‘/Users/biocbuild/bbs-3.12-bioc/meat/gemini.Rcheck/00check.log’
for details.
gemini.Rcheck/00install.out
############################################################################## ############################################################################## ### ### Running command: ### ### /Library/Frameworks/R.framework/Versions/Current/Resources/bin/R CMD INSTALL gemini ### ############################################################################## ############################################################################## * installing to library ‘/Library/Frameworks/R.framework/Versions/4.0/Resources/library’ * installing *source* package ‘gemini’ ... ** using staged installation ** R ** data ** inst ** byte-compile and prepare package for lazy loading ** help *** installing help indices ** building package indices ** installing vignettes ** testing if installed package can be loaded from temporary location ** testing if installed package can be loaded from final location ** testing if installed package keeps a record of temporary installation path * DONE (gemini)
gemini.Rcheck/tests/testthat.Rout.fail
R version 4.0.5 (2021-03-31) -- "Shake and Throw"
Copyright (C) 2021 The R Foundation for Statistical Computing
Platform: x86_64-apple-darwin17.0 (64-bit)
R is free software and comes with ABSOLUTELY NO WARRANTY.
You are welcome to redistribute it under certain conditions.
Type 'license()' or 'licence()' for distribution details.
R is a collaborative project with many contributors.
Type 'contributors()' for more information and
'citation()' on how to cite R or R packages in publications.
Type 'demo()' for some demos, 'help()' for on-line help, or
'help.start()' for an HTML browser interface to help.
Type 'q()' to quit R.
> library(testthat)
> library(gemini)
>
> test_check("gemini")
══ Failed tests ════════════════════════════════════════════════════════════════
── Failure (test_data.R:31:5): Input object is reproducible ────────────────────
`Input.new` not equal to `Input`.
Component "sample.annot": Attributes: < Component "row.names": Mean relative difference: 0.5454545 >
[ FAIL 1 | WARN 0 | SKIP 0 | PASS 6 ]
Error: Test failures
Execution halted
gemini.Rcheck/gemini-Ex.timings
| name | user | system | elapsed | |
| Sgene2Pguides_hash | 0.001 | 0.001 | 0.001 | |
| Sguide2Pguides_hash | 0.001 | 0.000 | 0.000 | |
| compound | 0.001 | 0.001 | 0.001 | |
| dot-median_normalize | 0.000 | 0.001 | 0.000 | |
| gemini_boxplot | 3.875 | 0.071 | 3.951 | |
| gemini_calculate_lfc | 0.461 | 0.021 | 0.482 | |
| gemini_create_input | 0.380 | 0.010 | 0.389 | |
| gemini_inference | 26.945 | 3.410 | 30.395 | |
| gemini_initialize | 7.968 | 0.068 | 8.050 | |
| gemini_plot_mae | 0.864 | 0.010 | 0.875 | |
| gemini_prepare_input | 0.450 | 0.004 | 0.455 | |
| gemini_score | 0.975 | 0.009 | 0.985 | |
| initialize_s | 1.892 | 0.023 | 1.918 | |
| initialize_tau | 2.694 | 0.027 | 2.723 | |
| initialize_x | 4.012 | 0.025 | 4.041 | |
| initialize_y | 0.777 | 0.034 | 0.811 | |
| pipe | 0 | 0 | 0 | |
| update_mae | 1.567 | 0.011 | 1.581 | |
| update_s_pb | 2.217 | 0.096 | 2.317 | |
| update_tau_pb | 12.216 | 1.658 | 13.899 | |
| update_x_pb | 10.118 | 1.430 | 11.562 | |
| update_y_pb | 3.524 | 0.062 | 3.593 | |