| Back to Multiple platform build/check report for BioC 3.12 |
|
This page was generated on 2021-05-06 12:27:49 -0400 (Thu, 06 May 2021).
|
To the developers/maintainers of the gQTLstats package: Please make sure to use the following settings in order to reproduce any error or warning you see on this page. |
| Package 777/1974 | Hostname | OS / Arch | INSTALL | BUILD | CHECK | BUILD BIN | ||||||||
VJ Carey
| malbec1 | Linux (Ubuntu 18.04.5 LTS) / x86_64 | ERROR | ERROR | skipped | |||||||||
| tokay1 | Windows Server 2012 R2 Standard / x64 | ERROR | ERROR | skipped | skipped | |||||||||
| merida1 | macOS 10.14.6 Mojave / x86_64 | ERROR | ERROR | skipped | skipped | |||||||||
| Package: gQTLstats |
| Version: 1.22.0 |
| Command: /home/biocbuild/bbs-3.12-bioc/R/bin/R CMD build --keep-empty-dirs --no-resave-data gQTLstats |
| StartedAt: 2021-05-05 19:25:04 -0400 (Wed, 05 May 2021) |
| EndedAt: 2021-05-05 19:25:07 -0400 (Wed, 05 May 2021) |
| EllapsedTime: 3.4 seconds |
| RetCode: 1 |
| Status: ERROR |
| PackageFile: None |
| PackageFileSize: NA |
##############################################################################
##############################################################################
###
### Running command:
###
### /home/biocbuild/bbs-3.12-bioc/R/bin/R CMD build --keep-empty-dirs --no-resave-data gQTLstats
###
##############################################################################
##############################################################################
* checking for file ‘gQTLstats/DESCRIPTION’ ... OK
* preparing ‘gQTLstats’:
* checking DESCRIPTION meta-information ... OK
* installing the package to process help pages
-----------------------------------
ERROR: dependency ‘gQTLBase’ is not available for package ‘gQTLstats’
* removing ‘/tmp/RtmpUoKm7S/Rinst1a5d23e24ec7/gQTLstats’
-----------------------------------
ERROR: package installation failed