| Back to Multiple platform build/check report for BioC 3.12 |
|
This page was generated on 2021-05-06 12:35:00 -0400 (Thu, 06 May 2021).
|
To the developers/maintainers of the flowType package: Please make sure to use the following settings in order to reproduce any error or warning you see on this page. |
| Package 637/1974 | Hostname | OS / Arch | INSTALL | BUILD | CHECK | BUILD BIN | ||||||||
Nima Aghaeepour
| malbec1 | Linux (Ubuntu 18.04.5 LTS) / x86_64 | OK | OK | ERROR | |||||||||
| tokay1 | Windows Server 2012 R2 Standard / x64 | OK | OK | ERROR | OK | |||||||||
| merida1 | macOS 10.14.6 Mojave / x86_64 | OK | OK | ERROR | OK | |||||||||
| Package: flowType |
| Version: 2.28.0 |
| Command: rm -rf flowType.buildbin-libdir && mkdir flowType.buildbin-libdir && /Users/biocbuild/BBS/utils/build-universal.sh flowType_2.28.0.tar.gz /Library/Frameworks/R.framework/Versions/Current/Resources/bin/R flowType.buildbin-libdir |
| StartedAt: 2021-05-06 08:38:40 -0400 (Thu, 06 May 2021) |
| EndedAt: 2021-05-06 08:39:39 -0400 (Thu, 06 May 2021) |
| EllapsedTime: 58.8 seconds |
| RetCode: 0 |
| Status: OK |
| PackageFile: flowType_2.28.0.tgz |
| PackageFileSize: 1.687 MiB |
##############################################################################
##############################################################################
###
### Running command:
###
### rm -rf flowType.buildbin-libdir && mkdir flowType.buildbin-libdir && /Users/biocbuild/BBS/utils/build-universal.sh flowType_2.28.0.tar.gz /Library/Frameworks/R.framework/Versions/Current/Resources/bin/R flowType.buildbin-libdir
###
##############################################################################
##############################################################################
>>>>>>>
>>>>>>> INSTALLATION WITH 'R CMD INSTALL --preclean --no-multiarch --library=flowType.buildbin-libdir flowType_2.28.0.tar.gz'
>>>>>>>
* installing *source* package ‘flowType’ ...
** using staged installation
** libs
clang++ -mmacosx-version-min=10.13 -std=gnu++11 -I"/Library/Frameworks/R.framework/Resources/include" -DNDEBUG -I'/Library/Frameworks/R.framework/Versions/4.0/Resources/library/Rcpp/include' -I'/Library/Frameworks/R.framework/Versions/4.0/Resources/library/BH/include' -I/usr/local/include -fPIC -Wall -g -O2 -c countsAndMeans.cpp -o countsAndMeans.o
In file included from countsAndMeans.cpp:10:
In file included from ./countsAndMeans.h:3:
In file included from /Library/Frameworks/R.framework/Versions/4.0/Resources/library/Rcpp/include/Rcpp.h:57:
/Library/Frameworks/R.framework/Versions/4.0/Resources/library/Rcpp/include/Rcpp/DataFrame.h:136:18: warning: unused variable 'data' [-Wunused-variable]
SEXP data = Parent::get__();
^
countsAndMeans.cpp:73:7: warning: 'register' storage class specifier is deprecated and incompatible with C++17 [-Wdeprecated-register]
for (register int i = 0; i < marker_count; i++)
^~~~~~~~~
countsAndMeans.cpp:86:7: warning: 'register' storage class specifier is deprecated and incompatible with C++17 [-Wdeprecated-register]
for (register int i = 0; i < data_count; i++)
^~~~~~~~~
3 warnings generated.
clang++ -mmacosx-version-min=10.13 -std=gnu++11 -I"/Library/Frameworks/R.framework/Resources/include" -DNDEBUG -I'/Library/Frameworks/R.framework/Versions/4.0/Resources/library/Rcpp/include' -I'/Library/Frameworks/R.framework/Versions/4.0/Resources/library/BH/include' -I/usr/local/include -fPIC -Wall -g -O2 -c flowType.cpp -o flowType.o
In file included from flowType.cpp:3:
In file included from ./countsAndMeans.h:3:
In file included from /Library/Frameworks/R.framework/Versions/4.0/Resources/library/Rcpp/include/Rcpp.h:57:
/Library/Frameworks/R.framework/Versions/4.0/Resources/library/Rcpp/include/Rcpp/DataFrame.h:136:18: warning: unused variable 'data' [-Wunused-variable]
SEXP data = Parent::get__();
^
1 warning generated.
clang++ -mmacosx-version-min=10.13 -std=gnu++11 -I"/Library/Frameworks/R.framework/Resources/include" -DNDEBUG -I'/Library/Frameworks/R.framework/Versions/4.0/Resources/library/Rcpp/include' -I'/Library/Frameworks/R.framework/Versions/4.0/Resources/library/BH/include' -I/usr/local/include -fPIC -Wall -g -O2 -c numberGenerator.cpp -o numberGenerator.o
clang++ -mmacosx-version-min=10.13 -std=gnu++11 -dynamiclib -Wl,-headerpad_max_install_names -undefined dynamic_lookup -single_module -multiply_defined suppress -L/Library/Frameworks/R.framework/Resources/lib -L/usr/local/lib -o flowType.so countsAndMeans.o flowType.o numberGenerator.o -F/Library/Frameworks/R.framework/.. -framework R -Wl,-framework -Wl,CoreFoundation
installing to /Users/biocbuild/bbs-3.12-bioc/meat/flowType.buildbin-libdir/00LOCK-flowType/00new/flowType/libs
** R
** data
** inst
** byte-compile and prepare package for lazy loading
** help
*** installing help indices
** building package indices
** installing vignettes
** testing if installed package can be loaded from temporary location
Warning: Package 'flowType' is deprecated and will be removed from Bioconductor
version 3.13
** checking absolute paths in shared objects and dynamic libraries
** testing if installed package can be loaded from final location
Warning: Package 'flowType' is deprecated and will be removed from Bioconductor
version 3.13
** testing if installed package keeps a record of temporary installation path
* DONE (flowType)
>>>>>>>
>>>>>>> FIXING LINKS FOR flowType.buildbin-libdir/flowType/libs/flowType.so
>>>>>>>
install_name_tool -change "/usr/local/lib/libgcc_s.1.dylib" "/Library/Frameworks/R.framework/Versions/4.0/Resources/lib/libgcc_s.1.dylib" "flowType.buildbin-libdir/flowType/libs/flowType.so"
install_name_tool -change "/usr/local/lib/libgfortran.5.dylib" "/Library/Frameworks/R.framework/Versions/4.0/Resources/lib/libgfortran.5.dylib" "flowType.buildbin-libdir/flowType/libs/flowType.so"
install_name_tool -change "/usr/local/lib/libquadmath.0.dylib" "/Library/Frameworks/R.framework/Versions/4.0/Resources/lib/libquadmath.0.dylib" "flowType.buildbin-libdir/flowType/libs/flowType.so"