| Back to Multiple platform build/check report for BioC 3.12 |
|
This page was generated on 2021-05-06 12:31:20 -0400 (Thu, 06 May 2021).
|
To the developers/maintainers of the flowPlots package: Please make sure to use the following settings in order to reproduce any error or warning you see on this page. |
| Package 629/1974 | Hostname | OS / Arch | INSTALL | BUILD | CHECK | BUILD BIN | ||||||||
| flowPlots 1.38.0 (landing page) N. Hawkins
| malbec1 | Linux (Ubuntu 18.04.5 LTS) / x86_64 | OK | OK | OK | |||||||||
| tokay1 | Windows Server 2012 R2 Standard / x64 | OK | OK | OK | OK | |||||||||
| merida1 | macOS 10.14.6 Mojave / x86_64 | OK | OK | OK | OK | |||||||||
| Package: flowPlots |
| Version: 1.38.0 |
| Command: rm -rf flowPlots.buildbin-libdir && mkdir flowPlots.buildbin-libdir && C:\Users\biocbuild\bbs-3.12-bioc\R\bin\R.exe CMD INSTALL --merge-multiarch --build --library=flowPlots.buildbin-libdir flowPlots_1.38.0.tar.gz |
| StartedAt: 2021-05-06 09:05:35 -0400 (Thu, 06 May 2021) |
| EndedAt: 2021-05-06 09:06:22 -0400 (Thu, 06 May 2021) |
| EllapsedTime: 46.2 seconds |
| RetCode: 0 |
| Status: OK |
| PackageFile: flowPlots_1.38.0.zip |
| PackageFileSize: 749.8 KiB |
##############################################################################
##############################################################################
###
### Running command:
###
### rm -rf flowPlots.buildbin-libdir && mkdir flowPlots.buildbin-libdir && C:\Users\biocbuild\bbs-3.12-bioc\R\bin\R.exe CMD INSTALL --merge-multiarch --build --library=flowPlots.buildbin-libdir flowPlots_1.38.0.tar.gz
###
##############################################################################
##############################################################################
install for i386
* installing *source* package 'flowPlots' ...
** using staged installation
** R
** data
*** moving datasets to lazyload DB
** inst
** byte-compile and prepare package for lazy loading
** help
*** installing help indices
converting help for package 'flowPlots'
finding HTML links ... done
GroupListBoxplot html
StackedData-class html
adultsNeonates html
computeMarginalData-methods html
computeMarkers-methods html
computePFDData-methods html
computePFDGroupStatsList html
computePFDPartsData-methods html
computeProfileData-methods html
legendPFDStatsGroupNames html
makeBarplotData html
makeDataList html
makeTernaryData html
marginalDF html
marginalData-methods html
markerMatrix html
markers-methods html
pfdDF html
pfdData-methods html
pfdPartsData-methods html
pfdPartsList html
profileDF html
profileData-methods html
readStackedData-methods html
stackedData-methods html
** building package indices
** installing vignettes
** testing if installed package can be loaded from temporary location
** testing if installed package can be loaded from final location
** testing if installed package keeps a record of temporary installation path
install for x64
* installing *source* package 'flowPlots' ...
** testing if installed package can be loaded
* MD5 sums
packaged installation of 'flowPlots' as flowPlots_1.38.0.zip
* DONE (flowPlots)