| Back to Multiple platform build/check report for BioC 3.12 |
|
This page was generated on 2021-05-06 12:31:19 -0400 (Thu, 06 May 2021).
|
To the developers/maintainers of the flowFit package: Please make sure to use the following settings in order to reproduce any error or warning you see on this page. |
| Package 621/1974 | Hostname | OS / Arch | INSTALL | BUILD | CHECK | BUILD BIN | ||||||||
Davide Rambaldi
| malbec1 | Linux (Ubuntu 18.04.5 LTS) / x86_64 | ERROR | ERROR | skipped | |||||||||
| tokay1 | Windows Server 2012 R2 Standard / x64 | ERROR | ERROR | skipped | skipped | |||||||||
| merida1 | macOS 10.14.6 Mojave / x86_64 | ERROR | ERROR | skipped | skipped | |||||||||
| Package: flowFit |
| Version: 1.28.0 |
| Command: chmod a+r flowFit -R && C:\Users\biocbuild\bbs-3.12-bioc\R\bin\R.exe CMD build --keep-empty-dirs --no-resave-data flowFit |
| StartedAt: 2021-05-05 21:03:18 -0400 (Wed, 05 May 2021) |
| EndedAt: 2021-05-05 21:03:22 -0400 (Wed, 05 May 2021) |
| EllapsedTime: 4.2 seconds |
| RetCode: 1 |
| Status: ERROR |
| PackageFile: flowFit_1.28.0.tar.gz |
| PackageFileSize: 45.99 KiB |
##############################################################################
##############################################################################
###
### Running command:
###
### chmod a+r flowFit -R && C:\Users\biocbuild\bbs-3.12-bioc\R\bin\R.exe CMD build --keep-empty-dirs --no-resave-data flowFit
###
##############################################################################
##############################################################################
* checking for file 'flowFit/DESCRIPTION' ... OK
* preparing 'flowFit':
* checking DESCRIPTION meta-information ... OK
* installing the package to build vignettes
-----------------------------------
* installing *source* package 'flowFit' ...
** using staged installation
** R
** demo
** inst
** byte-compile and prepare package for lazy loading
Error: object 'Data' is not exported by 'namespace:flowCore'
Execution halted
ERROR: lazy loading failed for package 'flowFit'
* removing 'C:/Users/biocbuild/bbs-3.12-bioc/tmpdir/RtmpkZtdNr/Rinst282810e197e/flowFit'
-----------------------------------
ERROR: package installation failed