| Back to Multiple platform build/check report for BioC 3.12 |
|
This page was generated on 2021-05-06 12:31:18 -0400 (Thu, 06 May 2021).
|
To the developers/maintainers of the flowCL package: Please make sure to use the following settings in order to reproduce any error or warning you see on this page. |
| Package 614/1974 | Hostname | OS / Arch | INSTALL | BUILD | CHECK | BUILD BIN | ||||||||
| flowCL 1.28.1 (landing page) Justin Meskas
| malbec1 | Linux (Ubuntu 18.04.5 LTS) / x86_64 | OK | OK | OK | |||||||||
| tokay1 | Windows Server 2012 R2 Standard / x64 | OK | OK | OK | OK | |||||||||
| merida1 | macOS 10.14.6 Mojave / x86_64 | OK | OK | OK | OK | |||||||||
| Package: flowCL |
| Version: 1.28.1 |
| Command: chmod a+r flowCL -R && C:\Users\biocbuild\bbs-3.12-bioc\R\bin\R.exe CMD build --keep-empty-dirs --no-resave-data flowCL |
| StartedAt: 2021-05-05 21:00:19 -0400 (Wed, 05 May 2021) |
| EndedAt: 2021-05-05 21:00:46 -0400 (Wed, 05 May 2021) |
| EllapsedTime: 27.0 seconds |
| RetCode: 0 |
| Status: OK |
| PackageFile: flowCL_1.28.1.tar.gz |
| PackageFileSize: 224.7 KiB |
############################################################################## ############################################################################## ### ### Running command: ### ### chmod a+r flowCL -R && C:\Users\biocbuild\bbs-3.12-bioc\R\bin\R.exe CMD build --keep-empty-dirs --no-resave-data flowCL ### ############################################################################## ############################################################################## * checking for file 'flowCL/DESCRIPTION' ... OK * preparing 'flowCL': * checking DESCRIPTION meta-information ... OK * installing the package to build vignettes * creating vignettes ... OK * checking for LF line-endings in source and make files and shell scripts * checking for empty or unneeded directories * looking to see if a 'data/datalist' file should be added * building 'flowCL_1.28.1.tar.gz'