| Back to Multiple platform build/check report for BioC 3.12 |
|
This page was generated on 2021-05-06 12:31:17 -0400 (Thu, 06 May 2021).
|
To the developers/maintainers of the flowBeads package: Please make sure to use the following settings in order to reproduce any error or warning you see on this page. |
| Package 610/1974 | Hostname | OS / Arch | INSTALL | BUILD | CHECK | BUILD BIN | ||||||||
| flowBeads 1.28.0 (landing page) Nikolas Pontikos
| malbec1 | Linux (Ubuntu 18.04.5 LTS) / x86_64 | OK | OK | WARNINGS | |||||||||
| tokay1 | Windows Server 2012 R2 Standard / x64 | OK | OK | WARNINGS | OK | |||||||||
| merida1 | macOS 10.14.6 Mojave / x86_64 | OK | OK | WARNINGS | OK | |||||||||
| Package: flowBeads |
| Version: 1.28.0 |
| Command: rm -rf flowBeads.buildbin-libdir && mkdir flowBeads.buildbin-libdir && C:\Users\biocbuild\bbs-3.12-bioc\R\bin\R.exe CMD INSTALL --merge-multiarch --build --library=flowBeads.buildbin-libdir flowBeads_1.28.0.tar.gz |
| StartedAt: 2021-05-06 09:04:30 -0400 (Thu, 06 May 2021) |
| EndedAt: 2021-05-06 09:05:03 -0400 (Thu, 06 May 2021) |
| EllapsedTime: 32.8 seconds |
| RetCode: 0 |
| Status: OK |
| PackageFile: flowBeads_1.28.0.zip |
| PackageFileSize: 1.14 MiB |
##############################################################################
##############################################################################
###
### Running command:
###
### rm -rf flowBeads.buildbin-libdir && mkdir flowBeads.buildbin-libdir && C:\Users\biocbuild\bbs-3.12-bioc\R\bin\R.exe CMD INSTALL --merge-multiarch --build --library=flowBeads.buildbin-libdir flowBeads_1.28.0.tar.gz
###
##############################################################################
##############################################################################
install for i386
* installing *source* package 'flowBeads' ...
** using staged installation
** R
** data
** inst
** byte-compile and prepare package for lazy loading
** help
*** installing help indices
converting help for package 'flowBeads'
finding HTML links ... done
BeadFlowFrame-class html
finding level-2 HTML links ... done
GatedBeadFlowFrame-class html
absoluteNormalise-methods html
beads1 html
beads2 html
cytocalmef html
dakomef html
flowBeads-package html
gateBeads-methods html
generateReport-methods html
getClusteringStats-methods html
getDate-methods html
getMEFparams-methods html
getMEFtransform-methods html
getParams-methods html
getTransformFunction-methods html
hasMEF-methods html
length-methods html
mefTransform html
plot-methods html
relativeNormalise-methods html
show-methods html
toMEF-methods html
** building package indices
** installing vignettes
** testing if installed package can be loaded from temporary location
** testing if installed package can be loaded from final location
** testing if installed package keeps a record of temporary installation path
install for x64
* installing *source* package 'flowBeads' ...
** testing if installed package can be loaded
* MD5 sums
packaged installation of 'flowBeads' as flowBeads_1.28.0.zip
* DONE (flowBeads)