| Back to Multiple platform build/check report for BioC 3.12 | 
  | 
This page was generated on 2021-05-06 12:27:32 -0400 (Thu, 06 May 2021).
| 
To the developers/maintainers of the fastLiquidAssociation package: Please make sure to use the following settings in order to reproduce any error or warning you see on this page.  | 
| Package 590/1974 | Hostname | OS / Arch | INSTALL | BUILD | CHECK | BUILD BIN | ||||||||
| fastLiquidAssociation 1.26.0  (landing page) Tina Gunderson 
  | malbec1 | Linux (Ubuntu 18.04.5 LTS) / x86_64 | OK | OK | WARNINGS | |||||||||
| tokay1 | Windows Server 2012 R2 Standard / x64 | OK | OK | WARNINGS | OK | |||||||||
| merida1 | macOS 10.14.6 Mojave / x86_64 | OK | OK | WARNINGS | OK | |||||||||
| Package: fastLiquidAssociation | 
| Version: 1.26.0 | 
| Command: /home/biocbuild/bbs-3.12-bioc/R/bin/R CMD build --keep-empty-dirs --no-resave-data fastLiquidAssociation | 
| StartedAt: 2021-05-05 19:00:42 -0400 (Wed, 05 May 2021) | 
| EndedAt: 2021-05-05 19:02:09 -0400 (Wed, 05 May 2021) | 
| EllapsedTime: 86.6 seconds | 
| RetCode: 0 | 
| Status: OK | 
| PackageFile: fastLiquidAssociation_1.26.0.tar.gz | 
| PackageFileSize: 617.4 KiB | 
############################################################################## ############################################################################## ### ### Running command: ### ### /home/biocbuild/bbs-3.12-bioc/R/bin/R CMD build --keep-empty-dirs --no-resave-data fastLiquidAssociation ### ############################################################################## ############################################################################## * checking for file ‘fastLiquidAssociation/DESCRIPTION’ ... OK * preparing ‘fastLiquidAssociation’: * checking DESCRIPTION meta-information ... OK * installing the package to build vignettes * creating vignettes ... OK * checking for LF line-endings in source and make files and shell scripts * checking for empty or unneeded directories * looking to see if a ‘data/datalist’ file should be added * building ‘fastLiquidAssociation_1.26.0.tar.gz’