| Back to Multiple platform build/check report for BioC 3.12 |
|
This page was generated on 2021-05-06 12:31:04 -0400 (Thu, 06 May 2021).
|
To the developers/maintainers of the evaluomeR package: Please make sure to use the following settings in order to reproduce any error or warning you see on this page. |
| Package 572/1974 | Hostname | OS / Arch | INSTALL | BUILD | CHECK | BUILD BIN | ||||||||
| evaluomeR 1.6.6 (landing page) José Antonio Bernabé-Díaz
| malbec1 | Linux (Ubuntu 18.04.5 LTS) / x86_64 | OK | OK | OK | |||||||||
| tokay1 | Windows Server 2012 R2 Standard / x64 | OK | OK | OK | OK | |||||||||
| merida1 | macOS 10.14.6 Mojave / x86_64 | OK | OK | OK | OK | |||||||||
| Package: evaluomeR |
| Version: 1.6.6 |
| Command: C:\cygwin\bin\curl.exe -O http://172.29.0.3/BBS/3.12/bioc/src/contrib/evaluomeR_1.6.6.tar.gz && rm -rf evaluomeR.buildbin-libdir && mkdir evaluomeR.buildbin-libdir && C:\Users\biocbuild\bbs-3.12-bioc\R\bin\R.exe CMD INSTALL --merge-multiarch --build --library=evaluomeR.buildbin-libdir evaluomeR_1.6.6.tar.gz && C:\Users\biocbuild\bbs-3.12-bioc\R\bin\R.exe CMD INSTALL evaluomeR_1.6.6.zip && rm evaluomeR_1.6.6.tar.gz evaluomeR_1.6.6.zip |
| StartedAt: 2021-05-05 19:13:23 -0400 (Wed, 05 May 2021) |
| EndedAt: 2021-05-05 19:15:22 -0400 (Wed, 05 May 2021) |
| EllapsedTime: 119.4 seconds |
| RetCode: 0 |
| Status: OK |
##############################################################################
##############################################################################
###
### Running command:
###
### C:\cygwin\bin\curl.exe -O http://172.29.0.3/BBS/3.12/bioc/src/contrib/evaluomeR_1.6.6.tar.gz && rm -rf evaluomeR.buildbin-libdir && mkdir evaluomeR.buildbin-libdir && C:\Users\biocbuild\bbs-3.12-bioc\R\bin\R.exe CMD INSTALL --merge-multiarch --build --library=evaluomeR.buildbin-libdir evaluomeR_1.6.6.tar.gz && C:\Users\biocbuild\bbs-3.12-bioc\R\bin\R.exe CMD INSTALL evaluomeR_1.6.6.zip && rm evaluomeR_1.6.6.tar.gz evaluomeR_1.6.6.zip
###
##############################################################################
##############################################################################
% Total % Received % Xferd Average Speed Time Time Time Current
Dload Upload Total Spent Left Speed
0 0 0 0 0 0 0 0 --:--:-- --:--:-- --:--:-- 0
100 107k 100 107k 0 0 3488k 0 --:--:-- --:--:-- --:--:-- 3584k
install for i386
* installing *source* package 'evaluomeR' ...
** using staged installation
** R
** data
*** moving datasets to lazyload DB
** inst
** byte-compile and prepare package for lazy loading
** help
Loading required namespace: evaluomeR
*** installing help indices
converting help for package 'evaluomeR'
finding HTML links ... done
bioMetrics html
evaluomeRSupportedCBI html
getDataQualityRange html
finding level-2 HTML links ... done
getOptimalKValue html
globalMetric html
metricsCorrelations html
ontMetrics html
plotMetricsBoxplot html
plotMetricsCluster html
plotMetricsClusterComparison html
plotMetricsMinMax html
plotMetricsViolin html
quality html
qualityRange html
qualitySet html
rnaMetrics html
stability html
stabilityRange html
stabilitySet html
** building package indices
** installing vignettes
** testing if installed package can be loaded from temporary location
** testing if installed package can be loaded from final location
** testing if installed package keeps a record of temporary installation path
install for x64
* installing *source* package 'evaluomeR' ...
** testing if installed package can be loaded
* MD5 sums
packaged installation of 'evaluomeR' as evaluomeR_1.6.6.zip
* DONE (evaluomeR)
* installing to library 'C:/Users/biocbuild/bbs-3.12-bioc/R/library'
package 'evaluomeR' successfully unpacked and MD5 sums checked