| Back to Multiple platform build/check report for BioC 3.12 |
|
This page was generated on 2021-05-06 12:34:56 -0400 (Thu, 06 May 2021).
|
To the developers/maintainers of the esATAC package: Please make sure to use the following settings in order to reproduce any error or warning you see on this page. |
| Package 568/1974 | Hostname | OS / Arch | INSTALL | BUILD | CHECK | BUILD BIN | ||||||||
| esATAC 1.12.0 (landing page) Zheng Wei
| malbec1 | Linux (Ubuntu 18.04.5 LTS) / x86_64 | OK | OK | OK | |||||||||
| tokay1 | Windows Server 2012 R2 Standard / x64 | OK | OK | OK | OK | |||||||||
| merida1 | macOS 10.14.6 Mojave / x86_64 | OK | OK | OK | OK | |||||||||
| Package: esATAC |
| Version: 1.12.0 |
| Command: rm -rf esATAC.buildbin-libdir && mkdir esATAC.buildbin-libdir && /Users/biocbuild/BBS/utils/build-universal.sh esATAC_1.12.0.tar.gz /Library/Frameworks/R.framework/Versions/Current/Resources/bin/R esATAC.buildbin-libdir |
| StartedAt: 2021-05-06 08:33:11 -0400 (Thu, 06 May 2021) |
| EndedAt: 2021-05-06 08:35:32 -0400 (Thu, 06 May 2021) |
| EllapsedTime: 141.0 seconds |
| RetCode: 0 |
| Status: OK |
| PackageFile: esATAC_1.12.0.tgz |
| PackageFileSize: 8.092 MiB |
##############################################################################
##############################################################################
###
### Running command:
###
### rm -rf esATAC.buildbin-libdir && mkdir esATAC.buildbin-libdir && /Users/biocbuild/BBS/utils/build-universal.sh esATAC_1.12.0.tar.gz /Library/Frameworks/R.framework/Versions/Current/Resources/bin/R esATAC.buildbin-libdir
###
##############################################################################
##############################################################################
>>>>>>>
>>>>>>> INSTALLATION WITH 'R CMD INSTALL --preclean --no-multiarch --library=esATAC.buildbin-libdir esATAC_1.12.0.tar.gz'
>>>>>>>
* installing *source* package ‘esATAC’ ...
** using staged installation
** libs
clang++ -mmacosx-version-min=10.13 -std=gnu++11 -I"/Library/Frameworks/R.framework/Resources/include" -DNDEBUG -DNDEBUG -DPLF_SYS_LINUX -DR_EVN_FLAG -I'/Library/Frameworks/R.framework/Versions/4.0/Resources/library/Rcpp/include' -I/usr/local/include -fPIC -Wall -g -O2 -c BedLine.cpp -o BedLine.o
clang++ -mmacosx-version-min=10.13 -std=gnu++11 -I"/Library/Frameworks/R.framework/Resources/include" -DNDEBUG -DNDEBUG -DPLF_SYS_LINUX -DR_EVN_FLAG -I'/Library/Frameworks/R.framework/Versions/4.0/Resources/library/Rcpp/include' -I/usr/local/include -fPIC -Wall -g -O2 -c BedUtils.cpp -o BedUtils.o
In file included from BedUtils.cpp:11:
In file included from ./RcoutRcerr.h:2:
In file included from /Library/Frameworks/R.framework/Versions/4.0/Resources/library/Rcpp/include/Rcpp.h:57:
/Library/Frameworks/R.framework/Versions/4.0/Resources/library/Rcpp/include/Rcpp/DataFrame.h:136:18: warning: unused variable 'data' [-Wunused-variable]
SEXP data = Parent::get__();
^
1 warning generated.
clang++ -mmacosx-version-min=10.13 -std=gnu++11 -I"/Library/Frameworks/R.framework/Resources/include" -DNDEBUG -DNDEBUG -DPLF_SYS_LINUX -DR_EVN_FLAG -I'/Library/Frameworks/R.framework/Versions/4.0/Resources/library/Rcpp/include' -I/usr/local/include -fPIC -Wall -g -O2 -c ChrDivi.cpp -o ChrDivi.o
In file included from ChrDivi.cpp:8:
In file included from /Library/Frameworks/R.framework/Versions/4.0/Resources/library/Rcpp/include/Rcpp.h:57:
/Library/Frameworks/R.framework/Versions/4.0/Resources/library/Rcpp/include/Rcpp/DataFrame.h:136:18: warning: unused variable 'data' [-Wunused-variable]
SEXP data = Parent::get__();
^
1 warning generated.
clang++ -mmacosx-version-min=10.13 -std=gnu++11 -I"/Library/Frameworks/R.framework/Resources/include" -DNDEBUG -DNDEBUG -DPLF_SYS_LINUX -DR_EVN_FLAG -I'/Library/Frameworks/R.framework/Versions/4.0/Resources/library/Rcpp/include' -I/usr/local/include -fPIC -Wall -g -O2 -c CutCountPre.cpp -o CutCountPre.o
In file included from CutCountPre.cpp:9:
In file included from /Library/Frameworks/R.framework/Versions/4.0/Resources/library/Rcpp/include/Rcpp.h:57:
/Library/Frameworks/R.framework/Versions/4.0/Resources/library/Rcpp/include/Rcpp/DataFrame.h:136:18: warning: unused variable 'data' [-Wunused-variable]
SEXP data = Parent::get__();
^
1 warning generated.
clang++ -mmacosx-version-min=10.13 -std=gnu++11 -I"/Library/Frameworks/R.framework/Resources/include" -DNDEBUG -DNDEBUG -DPLF_SYS_LINUX -DR_EVN_FLAG -I'/Library/Frameworks/R.framework/Versions/4.0/Resources/library/Rcpp/include' -I/usr/local/include -fPIC -Wall -g -O2 -c CutSiteCount.cpp -o CutSiteCount.o
In file included from CutSiteCount.cpp:10:
In file included from ./RcoutRcerr.h:2:
In file included from /Library/Frameworks/R.framework/Versions/4.0/Resources/library/Rcpp/include/Rcpp.h:57:
/Library/Frameworks/R.framework/Versions/4.0/Resources/library/Rcpp/include/Rcpp/DataFrame.h:136:18: warning: unused variable 'data' [-Wunused-variable]
SEXP data = Parent::get__();
^
1 warning generated.
clang++ -mmacosx-version-min=10.13 -std=gnu++11 -I"/Library/Frameworks/R.framework/Resources/include" -DNDEBUG -DNDEBUG -DPLF_SYS_LINUX -DR_EVN_FLAG -I'/Library/Frameworks/R.framework/Versions/4.0/Resources/library/Rcpp/include' -I/usr/local/include -fPIC -Wall -g -O2 -c LibComplexQC.cpp -o LibComplexQC.o
In file included from LibComplexQC.cpp:8:
In file included from ./RcoutRcerr.h:2:
In file included from /Library/Frameworks/R.framework/Versions/4.0/Resources/library/Rcpp/include/Rcpp.h:57:
/Library/Frameworks/R.framework/Versions/4.0/Resources/library/Rcpp/include/Rcpp/DataFrame.h:136:18: warning: unused variable 'data' [-Wunused-variable]
SEXP data = Parent::get__();
^
1 warning generated.
clang++ -mmacosx-version-min=10.13 -std=gnu++11 -I"/Library/Frameworks/R.framework/Resources/include" -DNDEBUG -DNDEBUG -DPLF_SYS_LINUX -DR_EVN_FLAG -I'/Library/Frameworks/R.framework/Versions/4.0/Resources/library/Rcpp/include' -I/usr/local/include -fPIC -Wall -g -O2 -c RcppExports.cpp -o RcppExports.o
In file included from RcppExports.cpp:4:
In file included from /Library/Frameworks/R.framework/Versions/4.0/Resources/library/Rcpp/include/Rcpp.h:57:
/Library/Frameworks/R.framework/Versions/4.0/Resources/library/Rcpp/include/Rcpp/DataFrame.h:136:18: warning: unused variable 'data' [-Wunused-variable]
SEXP data = Parent::get__();
^
1 warning generated.
clang++ -mmacosx-version-min=10.13 -std=gnu++11 -I"/Library/Frameworks/R.framework/Resources/include" -DNDEBUG -DNDEBUG -DPLF_SYS_LINUX -DR_EVN_FLAG -I'/Library/Frameworks/R.framework/Versions/4.0/Resources/library/Rcpp/include' -I/usr/local/include -fPIC -Wall -g -O2 -c SortBed.cpp -o SortBed.o
In file included from SortBed.cpp:8:
In file included from ./RcoutRcerr.h:2:
In file included from /Library/Frameworks/R.framework/Versions/4.0/Resources/library/Rcpp/include/Rcpp.h:57:
/Library/Frameworks/R.framework/Versions/4.0/Resources/library/Rcpp/include/Rcpp/DataFrame.h:136:18: warning: unused variable 'data' [-Wunused-variable]
SEXP data = Parent::get__();
^
1 warning generated.
clang++ -mmacosx-version-min=10.13 -std=gnu++11 -I"/Library/Frameworks/R.framework/Resources/include" -DNDEBUG -DNDEBUG -DPLF_SYS_LINUX -DR_EVN_FLAG -I'/Library/Frameworks/R.framework/Versions/4.0/Resources/library/Rcpp/include' -I/usr/local/include -fPIC -Wall -g -O2 -c rcpp_wrapper.cpp -o rcpp_wrapper.o
In file included from rcpp_wrapper.cpp:9:
In file included from ./ChrDivi.h:3:
In file included from /Library/Frameworks/R.framework/Versions/4.0/Resources/library/Rcpp/include/Rcpp.h:57:
/Library/Frameworks/R.framework/Versions/4.0/Resources/library/Rcpp/include/Rcpp/DataFrame.h:136:18: warning: unused variable 'data' [-Wunused-variable]
SEXP data = Parent::get__();
^
1 warning generated.
clang++ -mmacosx-version-min=10.13 -std=gnu++11 -I"/Library/Frameworks/R.framework/Resources/include" -DNDEBUG -DNDEBUG -DPLF_SYS_LINUX -DR_EVN_FLAG -I'/Library/Frameworks/R.framework/Versions/4.0/Resources/library/Rcpp/include' -I/usr/local/include -fPIC -Wall -g -O2 -c renamer.cpp -o renamer.o
clang++ -mmacosx-version-min=10.13 -std=gnu++11 -I"/Library/Frameworks/R.framework/Resources/include" -DNDEBUG -DNDEBUG -DPLF_SYS_LINUX -DR_EVN_FLAG -I'/Library/Frameworks/R.framework/Versions/4.0/Resources/library/Rcpp/include' -I/usr/local/include -fPIC -Wall -g -O2 -c sam2bed.cc -o sam2bed.o
In file included from sam2bed.cc:15:
In file included from ./RcoutRcerr.h:2:
In file included from /Library/Frameworks/R.framework/Versions/4.0/Resources/library/Rcpp/include/Rcpp.h:57:
/Library/Frameworks/R.framework/Versions/4.0/Resources/library/Rcpp/include/Rcpp/DataFrame.h:136:18: warning: unused variable 'data' [-Wunused-variable]
SEXP data = Parent::get__();
^
sam2bed.cc:125:16: warning: unused variable 'xspm' [-Wunused-variable]
regmatch_t xspm[1];
^
sam2bed.cc:294:16: warning: unused variable 'xspm' [-Wunused-variable]
regmatch_t xspm[1];
^
3 warnings generated.
clang++ -mmacosx-version-min=10.13 -std=gnu++11 -dynamiclib -Wl,-headerpad_max_install_names -undefined dynamic_lookup -single_module -multiply_defined suppress -L/Library/Frameworks/R.framework/Resources/lib -L/usr/local/lib -o esATAC.so BedLine.o BedUtils.o ChrDivi.o CutCountPre.o CutSiteCount.o LibComplexQC.o RcppExports.o SortBed.o rcpp_wrapper.o renamer.o sam2bed.o -F/Library/Frameworks/R.framework/.. -framework R -Wl,-framework -Wl,CoreFoundation
installing to /Users/biocbuild/bbs-3.12-bioc/meat/esATAC.buildbin-libdir/00LOCK-esATAC/00new/esATAC/libs
** R
** inst
** byte-compile and prepare package for lazy loading
** help
*** installing help indices
** building package indices
** installing vignettes
** testing if installed package can be loaded from temporary location
Warning in options(stringsAsFactors = TRUE) :
'options(stringsAsFactors = TRUE)' is deprecated and will be disabled
** checking absolute paths in shared objects and dynamic libraries
** testing if installed package can be loaded from final location
Warning in options(stringsAsFactors = TRUE) :
'options(stringsAsFactors = TRUE)' is deprecated and will be disabled
** testing if installed package keeps a record of temporary installation path
* DONE (esATAC)
>>>>>>>
>>>>>>> FIXING LINKS FOR esATAC.buildbin-libdir/esATAC/libs/esATAC.so
>>>>>>>
install_name_tool -change "/usr/local/lib/libgcc_s.1.dylib" "/Library/Frameworks/R.framework/Versions/4.0/Resources/lib/libgcc_s.1.dylib" "esATAC.buildbin-libdir/esATAC/libs/esATAC.so"
install_name_tool -change "/usr/local/lib/libgfortran.5.dylib" "/Library/Frameworks/R.framework/Versions/4.0/Resources/lib/libgfortran.5.dylib" "esATAC.buildbin-libdir/esATAC/libs/esATAC.so"
install_name_tool -change "/usr/local/lib/libquadmath.0.dylib" "/Library/Frameworks/R.framework/Versions/4.0/Resources/lib/libquadmath.0.dylib" "esATAC.buildbin-libdir/esATAC/libs/esATAC.so"