| Back to Multiple platform build/check report for BioC 3.12 |
|
This page was generated on 2021-05-06 12:31:03 -0400 (Thu, 06 May 2021).
|
To the developers/maintainers of the epihet package: Please make sure to use the following settings in order to reproduce any error or warning you see on this page. |
| Package 557/1974 | Hostname | OS / Arch | INSTALL | BUILD | CHECK | BUILD BIN | ||||||||
| epihet 1.6.1 (landing page) Xiaowen Chen
| malbec1 | Linux (Ubuntu 18.04.5 LTS) / x86_64 | OK | OK | OK | |||||||||
| tokay1 | Windows Server 2012 R2 Standard / x64 | OK | OK | OK | OK | |||||||||
| merida1 | macOS 10.14.6 Mojave / x86_64 | OK | OK | OK | OK | |||||||||
| Package: epihet |
| Version: 1.6.1 |
| Command: rm -rf epihet.buildbin-libdir && mkdir epihet.buildbin-libdir && C:\Users\biocbuild\bbs-3.12-bioc\R\bin\R.exe CMD INSTALL --merge-multiarch --build --library=epihet.buildbin-libdir epihet_1.6.1.tar.gz |
| StartedAt: 2021-05-06 09:00:31 -0400 (Thu, 06 May 2021) |
| EndedAt: 2021-05-06 09:01:44 -0400 (Thu, 06 May 2021) |
| EllapsedTime: 72.5 seconds |
| RetCode: 0 |
| Status: OK |
| PackageFile: epihet_1.6.1.zip |
| PackageFileSize: 894.2 KiB |
##############################################################################
##############################################################################
###
### Running command:
###
### rm -rf epihet.buildbin-libdir && mkdir epihet.buildbin-libdir && C:\Users\biocbuild\bbs-3.12-bioc\R\bin\R.exe CMD INSTALL --merge-multiarch --build --library=epihet.buildbin-libdir epihet_1.6.1.tar.gz
###
##############################################################################
##############################################################################
install for i386
* installing *source* package 'epihet' ...
** using staged installation
** R
** data
** inst
** byte-compile and prepare package for lazy loading
** help
*** installing help indices
converting help for package 'epihet'
finding HTML links ... done
compMatrix html
data html
diffHet html
epiBox html
epiMA html
epiMap html
epiNetwork html
epiPCA html
epiPathway html
epiTSNE html
jaccard html
makeGR html
moduleAnno html
moduleSim html
moduleVisual html
readGR html
shannon html
splitn html
summarize html
userobj html
** building package indices
** installing vignettes
** testing if installed package can be loaded from temporary location
** testing if installed package can be loaded from final location
** testing if installed package keeps a record of temporary installation path
install for x64
* installing *source* package 'epihet' ...
** testing if installed package can be loaded
* MD5 sums
packaged installation of 'epihet' as epihet_1.6.1.zip
* DONE (epihet)