| Back to Multiple platform build/check report for BioC 3.12 |
|
This page was generated on 2021-05-06 12:31:03 -0400 (Thu, 06 May 2021).
|
To the developers/maintainers of the epiNEM package: Please make sure to use the following settings in order to reproduce any error or warning you see on this page. |
| Package 558/1974 | Hostname | OS / Arch | INSTALL | BUILD | CHECK | BUILD BIN | ||||||||
| epiNEM 1.14.1 (landing page) Martin Pirkl
| malbec1 | Linux (Ubuntu 18.04.5 LTS) / x86_64 | OK | OK | OK | |||||||||
| tokay1 | Windows Server 2012 R2 Standard / x64 | OK | OK | OK | OK | |||||||||
| merida1 | macOS 10.14.6 Mojave / x86_64 | OK | OK | OK | OK | |||||||||
| Package: epiNEM |
| Version: 1.14.1 |
| Command: rm -rf epiNEM.buildbin-libdir && mkdir epiNEM.buildbin-libdir && C:\Users\biocbuild\bbs-3.12-bioc\R\bin\R.exe CMD INSTALL --merge-multiarch --build --library=epiNEM.buildbin-libdir epiNEM_1.14.1.tar.gz |
| StartedAt: 2021-05-06 09:00:35 -0400 (Thu, 06 May 2021) |
| EndedAt: 2021-05-06 09:01:58 -0400 (Thu, 06 May 2021) |
| EllapsedTime: 83.4 seconds |
| RetCode: 0 |
| Status: OK |
| PackageFile: epiNEM_1.14.1.zip |
| PackageFileSize: 1.041 MiB |
##############################################################################
##############################################################################
###
### Running command:
###
### rm -rf epiNEM.buildbin-libdir && mkdir epiNEM.buildbin-libdir && C:\Users\biocbuild\bbs-3.12-bioc\R\bin\R.exe CMD INSTALL --merge-multiarch --build --library=epiNEM.buildbin-libdir epiNEM_1.14.1.tar.gz
###
##############################################################################
##############################################################################
install for i386
* installing *source* package 'epiNEM' ...
** using staged installation
** R
** data
*** moving datasets to lazyload DB
** inst
** byte-compile and prepare package for lazy loading
** help
*** installing help indices
converting help for package 'epiNEM'
finding HTML links ... done
AddLogicGates html
CreateExtendedAdjacency html
CreateRandomGraph html
CreateTopology html
ExtendTopology html
GenerateData html
HeatmapOP html
Mll html
SimEpiNEM html
epiAnno html
epiNEM html
epiScreen html
plot.epiNEM html
plot.epiScreen html
plot.epiSim html
sameith_GO html
sameith_string html
samscreen html
sim html
wageningen_GO html
wageningen_string html
wagscreen html
** building package indices
** installing vignettes
** testing if installed package can be loaded from temporary location
** testing if installed package can be loaded from final location
** testing if installed package keeps a record of temporary installation path
install for x64
* installing *source* package 'epiNEM' ...
** testing if installed package can be loaded
* MD5 sums
packaged installation of 'epiNEM' as epiNEM_1.14.1.zip
* DONE (epiNEM)