| Back to Multiple platform build/check report for BioC 3.12 |
|
This page was generated on 2021-05-06 12:30:58 -0400 (Thu, 06 May 2021).
|
To the developers/maintainers of the dmrseq package: Please make sure to use the following settings in order to reproduce any error or warning you see on this page. |
| Package 497/1974 | Hostname | OS / Arch | INSTALL | BUILD | CHECK | BUILD BIN | ||||||||
| dmrseq 1.10.1 (landing page) Keegan Korthauer
| malbec1 | Linux (Ubuntu 18.04.5 LTS) / x86_64 | OK | OK | WARNINGS | |||||||||
| tokay1 | Windows Server 2012 R2 Standard / x64 | OK | OK | WARNINGS | OK | |||||||||
| merida1 | macOS 10.14.6 Mojave / x86_64 | OK | OK | WARNINGS | OK | |||||||||
| Package: dmrseq |
| Version: 1.10.1 |
| Command: rm -rf dmrseq.buildbin-libdir && mkdir dmrseq.buildbin-libdir && C:\Users\biocbuild\bbs-3.12-bioc\R\bin\R.exe CMD INSTALL --merge-multiarch --build --library=dmrseq.buildbin-libdir dmrseq_1.10.1.tar.gz |
| StartedAt: 2021-05-06 08:56:35 -0400 (Thu, 06 May 2021) |
| EndedAt: 2021-05-06 08:58:13 -0400 (Thu, 06 May 2021) |
| EllapsedTime: 98.5 seconds |
| RetCode: 0 |
| Status: OK |
| PackageFile: dmrseq_1.10.1.zip |
| PackageFileSize: 7.87 MiB |
##############################################################################
##############################################################################
###
### Running command:
###
### rm -rf dmrseq.buildbin-libdir && mkdir dmrseq.buildbin-libdir && C:\Users\biocbuild\bbs-3.12-bioc\R\bin\R.exe CMD INSTALL --merge-multiarch --build --library=dmrseq.buildbin-libdir dmrseq_1.10.1.tar.gz
###
##############################################################################
##############################################################################
install for i386
* installing *source* package 'dmrseq' ...
** using staged installation
** R
** data
*** moving datasets to lazyload DB
** inst
** byte-compile and prepare package for lazy loading
** help
*** installing help indices
converting help for package 'dmrseq'
finding HTML links ... done
BS.chr21 html
annot.chr21 html
dmrPlotAnnotations html
dmrs.ex html
dmrseq html
getAnnot html
meanDiff html
plotDMRs html
plotEmpiricalDistribution html
simDMRs html
** building package indices
** installing vignettes
** testing if installed package can be loaded from temporary location
** testing if installed package can be loaded from final location
** testing if installed package keeps a record of temporary installation path
install for x64
* installing *source* package 'dmrseq' ...
** testing if installed package can be loaded
* MD5 sums
packaged installation of 'dmrseq' as dmrseq_1.10.1.zip
* DONE (dmrseq)