| Back to Multiple platform build/check report for BioC 3.12 |
|
This page was generated on 2021-05-06 12:30:57 -0400 (Thu, 06 May 2021).
|
To the developers/maintainers of the diggit package: Please make sure to use the following settings in order to reproduce any error or warning you see on this page. |
| Package 482/1974 | Hostname | OS / Arch | INSTALL | BUILD | CHECK | BUILD BIN | ||||||||
| diggit 1.22.0 (landing page) Mariano J Alvarez
| malbec1 | Linux (Ubuntu 18.04.5 LTS) / x86_64 | OK | OK | WARNINGS | |||||||||
| tokay1 | Windows Server 2012 R2 Standard / x64 | OK | OK | WARNINGS | OK | |||||||||
| merida1 | macOS 10.14.6 Mojave / x86_64 | OK | OK | WARNINGS | OK | |||||||||
| Package: diggit |
| Version: 1.22.0 |
| Command: rm -rf diggit.buildbin-libdir && mkdir diggit.buildbin-libdir && C:\Users\biocbuild\bbs-3.12-bioc\R\bin\R.exe CMD INSTALL --merge-multiarch --build --library=diggit.buildbin-libdir diggit_1.22.0.tar.gz |
| StartedAt: 2021-05-06 08:55:39 -0400 (Thu, 06 May 2021) |
| EndedAt: 2021-05-06 08:56:12 -0400 (Thu, 06 May 2021) |
| EllapsedTime: 32.5 seconds |
| RetCode: 0 |
| Status: OK |
| PackageFile: diggit_1.22.0.zip |
| PackageFileSize: 501 KiB |
##############################################################################
##############################################################################
###
### Running command:
###
### rm -rf diggit.buildbin-libdir && mkdir diggit.buildbin-libdir && C:\Users\biocbuild\bbs-3.12-bioc\R\bin\R.exe CMD INSTALL --merge-multiarch --build --library=diggit.buildbin-libdir diggit_1.22.0.tar.gz
###
##############################################################################
##############################################################################
install for i386
* installing *source* package 'diggit' ...
** using staged installation
** R
** inst
** byte-compile and prepare package for lazy loading
** help
*** installing help indices
converting help for package 'diggit'
finding HTML links ... done
aecdf html
aqtl-methods html
conditional-methods html
correlation html
diggit-class html
diggit-methods html
diggit-plot html
fcnv-methods html
marina-methods html
mutualInfo html
** building package indices
** installing vignettes
** testing if installed package can be loaded from temporary location
** testing if installed package can be loaded from final location
** testing if installed package keeps a record of temporary installation path
install for x64
* installing *source* package 'diggit' ...
** testing if installed package can be loaded
* MD5 sums
packaged installation of 'diggit' as diggit_1.22.0.zip
* DONE (diggit)