| Back to Multiple platform build/check report for BioC 3.12 |
|
This page was generated on 2021-05-06 12:27:20 -0400 (Thu, 06 May 2021).
|
To the developers/maintainers of the diffcyt package: Please make sure to use the following settings in order to reproduce any error or warning you see on this page. |
| Package 476/1974 | Hostname | OS / Arch | INSTALL | BUILD | CHECK | BUILD BIN | ||||||||
| diffcyt 1.10.0 (landing page) Lukas M. Weber
| malbec1 | Linux (Ubuntu 18.04.5 LTS) / x86_64 | OK | OK | OK | |||||||||
| tokay1 | Windows Server 2012 R2 Standard / x64 | OK | OK | OK | OK | |||||||||
| merida1 | macOS 10.14.6 Mojave / x86_64 | OK | OK | OK | OK | |||||||||
| Package: diffcyt |
| Version: 1.10.0 |
| Command: /home/biocbuild/bbs-3.12-bioc/R/bin/R CMD check --install=check:diffcyt.install-out.txt --library=/home/biocbuild/bbs-3.12-bioc/R/library --no-vignettes --timings diffcyt_1.10.0.tar.gz |
| StartedAt: 2021-05-06 00:56:48 -0400 (Thu, 06 May 2021) |
| EndedAt: 2021-05-06 01:01:58 -0400 (Thu, 06 May 2021) |
| EllapsedTime: 309.6 seconds |
| RetCode: 0 |
| Status: OK |
| CheckDir: diffcyt.Rcheck |
| Warnings: 0 |
##############################################################################
##############################################################################
###
### Running command:
###
### /home/biocbuild/bbs-3.12-bioc/R/bin/R CMD check --install=check:diffcyt.install-out.txt --library=/home/biocbuild/bbs-3.12-bioc/R/library --no-vignettes --timings diffcyt_1.10.0.tar.gz
###
##############################################################################
##############################################################################
* using log directory ‘/home/biocbuild/bbs-3.12-bioc/meat/diffcyt.Rcheck’
* using R version 4.0.5 (2021-03-31)
* using platform: x86_64-pc-linux-gnu (64-bit)
* using session charset: UTF-8
* using option ‘--no-vignettes’
* checking for file ‘diffcyt/DESCRIPTION’ ... OK
* this is package ‘diffcyt’ version ‘1.10.0’
* checking package namespace information ... OK
* checking package dependencies ... OK
* checking if this is a source package ... OK
* checking if there is a namespace ... OK
* checking for hidden files and directories ... OK
* checking for portable file names ... OK
* checking for sufficient/correct file permissions ... OK
* checking whether package ‘diffcyt’ can be installed ... OK
* checking installed package size ... OK
* checking package directory ... OK
* checking ‘build’ directory ... OK
* checking DESCRIPTION meta-information ... OK
* checking top-level files ... OK
* checking for left-over files ... OK
* checking index information ... OK
* checking package subdirectories ... OK
* checking R files for non-ASCII characters ... OK
* checking R files for syntax errors ... OK
* checking whether the package can be loaded ... OK
* checking whether the package can be loaded with stated dependencies ... OK
* checking whether the package can be unloaded cleanly ... OK
* checking whether the namespace can be loaded with stated dependencies ... OK
* checking whether the namespace can be unloaded cleanly ... OK
* checking dependencies in R code ... OK
* checking S3 generic/method consistency ... OK
* checking replacement functions ... OK
* checking foreign function calls ... OK
* checking R code for possible problems ... NOTE
calcCounts: no visible binding for global variable ‘cluster_id’
calcCounts: no visible binding for global variable ‘sample_id’
calcMedians: no visible binding for global variable ‘cluster_id’
calcMedians: no visible binding for global variable ‘sample_id’
calcMedians: no visible binding for global variable ‘value’
calcMediansByClusterMarker: no visible binding for global variable
‘cluster_id’
calcMediansByClusterMarker: no visible binding for global variable
‘marker_id’
calcMediansByClusterMarker: no visible binding for global variable
‘value’
calcMediansBySampleMarker: no visible binding for global variable
‘sample_id’
calcMediansBySampleMarker: no visible binding for global variable
‘marker_id’
calcMediansBySampleMarker: no visible binding for global variable
‘value’
Undefined global functions or variables:
cluster_id marker_id sample_id value
* checking Rd files ... OK
* checking Rd metadata ... OK
* checking Rd cross-references ... OK
* checking for missing documentation entries ... OK
* checking for code/documentation mismatches ... OK
* checking Rd \usage sections ... OK
* checking Rd contents ... OK
* checking for unstated dependencies in examples ... OK
* checking files in ‘vignettes’ ... OK
* checking examples ... OK
Examples with CPU (user + system) or elapsed time > 5s
user system elapsed
diffcyt 13.120 0.020 13.168
testDA_GLMM 9.320 0.000 9.335
plotHeatmap 7.596 0.008 7.617
testDS_LMM 6.616 0.000 6.627
topTable 5.796 0.004 5.803
* checking for unstated dependencies in ‘tests’ ... OK
* checking tests ...
Running ‘testthat.R’
OK
* checking for unstated dependencies in vignettes ... OK
* checking package vignettes in ‘inst/doc’ ... OK
* checking running R code from vignettes ... SKIPPED
* checking re-building of vignette outputs ... SKIPPED
* checking PDF version of manual ... OK
* DONE
Status: 1 NOTE
See
‘/home/biocbuild/bbs-3.12-bioc/meat/diffcyt.Rcheck/00check.log’
for details.
diffcyt.Rcheck/00install.out
############################################################################## ############################################################################## ### ### Running command: ### ### /home/biocbuild/bbs-3.12-bioc/R/bin/R CMD INSTALL diffcyt ### ############################################################################## ############################################################################## * installing to library ‘/home/biocbuild/bbs-3.12-bioc/R/library’ * installing *source* package ‘diffcyt’ ... ** using staged installation ** R ** inst ** byte-compile and prepare package for lazy loading ** help *** installing help indices ** building package indices ** installing vignettes ** testing if installed package can be loaded from temporary location ** testing if installed package can be loaded from final location ** testing if installed package keeps a record of temporary installation path * DONE (diffcyt)
diffcyt.Rcheck/tests/testthat.Rout
R version 4.0.5 (2021-03-31) -- "Shake and Throw"
Copyright (C) 2021 The R Foundation for Statistical Computing
Platform: x86_64-pc-linux-gnu (64-bit)
R is free software and comes with ABSOLUTELY NO WARRANTY.
You are welcome to redistribute it under certain conditions.
Type 'license()' or 'licence()' for distribution details.
R is a collaborative project with many contributors.
Type 'contributors()' for more information and
'citation()' on how to cite R or R packages in publications.
Type 'demo()' for some demos, 'help()' for on-line help, or
'help.start()' for an HTML browser interface to help.
Type 'q()' to quit R.
> library(testthat)
> library(diffcyt)
>
> test_check("diffcyt")
[ FAIL 0 | WARN 0 | SKIP 0 | PASS 8 ]
>
> proc.time()
user system elapsed
13.464 0.372 13.865
diffcyt.Rcheck/diffcyt-Ex.timings
| name | user | system | elapsed | |
| calcCounts | 2.496 | 0.008 | 2.508 | |
| calcMedians | 2.212 | 0.060 | 2.279 | |
| calcMediansByClusterMarker | 1.836 | 0.000 | 1.845 | |
| calcMediansBySampleMarker | 1.784 | 0.000 | 1.786 | |
| createContrast | 0.000 | 0.000 | 0.001 | |
| createDesignMatrix | 0.016 | 0.000 | 0.014 | |
| createFormula | 0.004 | 0.000 | 0.005 | |
| diffcyt | 13.120 | 0.020 | 13.168 | |
| generateClusters | 1.880 | 0.000 | 1.883 | |
| plotHeatmap | 7.596 | 0.008 | 7.617 | |
| prepareData | 0.020 | 0.000 | 0.021 | |
| testDA_GLMM | 9.320 | 0.000 | 9.335 | |
| testDA_edgeR | 1.48 | 0.00 | 1.48 | |
| testDA_voom | 1.816 | 0.000 | 1.819 | |
| testDS_LMM | 6.616 | 0.000 | 6.627 | |
| testDS_limma | 2.192 | 0.000 | 2.195 | |
| topTable | 5.796 | 0.004 | 5.803 | |
| transformData | 0.072 | 0.000 | 0.071 | |