| Back to Multiple platform build/check report for BioC 3.12 |
|
This page was generated on 2021-05-06 12:30:36 -0400 (Thu, 06 May 2021).
|
To the developers/maintainers of the dearseq package: Please make sure to use the following settings in order to reproduce any error or warning you see on this page. |
| Package 433/1974 | Hostname | OS / Arch | INSTALL | BUILD | CHECK | BUILD BIN | ||||||||
| dearseq 1.2.0 (landing page) Boris P. Hejblum
| malbec1 | Linux (Ubuntu 18.04.5 LTS) / x86_64 | OK | OK | OK | |||||||||
| tokay1 | Windows Server 2012 R2 Standard / x64 | OK | OK | OK | OK | |||||||||
| merida1 | macOS 10.14.6 Mojave / x86_64 | OK | OK | OK | OK | |||||||||
| Package: dearseq |
| Version: 1.2.0 |
| Command: rm -rf dearseq.buildbin-libdir && mkdir dearseq.buildbin-libdir && C:\Users\biocbuild\bbs-3.12-bioc\R\bin\R.exe CMD INSTALL --merge-multiarch --build --library=dearseq.buildbin-libdir dearseq_1.2.0.tar.gz |
| StartedAt: 2021-05-06 08:51:59 -0400 (Thu, 06 May 2021) |
| EndedAt: 2021-05-06 08:52:19 -0400 (Thu, 06 May 2021) |
| EllapsedTime: 20.0 seconds |
| RetCode: 0 |
| Status: OK |
| PackageFile: dearseq_1.2.0.zip |
| PackageFileSize: 635.3 KiB |
##############################################################################
##############################################################################
###
### Running command:
###
### rm -rf dearseq.buildbin-libdir && mkdir dearseq.buildbin-libdir && C:\Users\biocbuild\bbs-3.12-bioc\R\bin\R.exe CMD INSTALL --merge-multiarch --build --library=dearseq.buildbin-libdir dearseq_1.2.0.tar.gz
###
##############################################################################
##############################################################################
install for i386
* installing *source* package 'dearseq' ...
** using staged installation
** R
** data
*** moving datasets to lazyload DB
** inst
** byte-compile and prepare package for lazy loading
** help
*** installing help indices
converting help for package 'dearseq'
finding HTML links ... done
PBT_gmt html
baduel_5gs html
dear_seq html
dearseq-package html
dgsa_seq html
grapes-pow-grapes html
perm_pe html
plot_weights html
sp_weights html
vc_score html
vc_score_h html
vc_score_h_perm html
vc_score_perm html
vc_test_asym html
vc_test_perm html
voom_weights html
*** copying figures
** building package indices
** installing vignettes
** testing if installed package can be loaded from temporary location
** testing if installed package can be loaded from final location
** testing if installed package keeps a record of temporary installation path
install for x64
* installing *source* package 'dearseq' ...
** testing if installed package can be loaded
* MD5 sums
packaged installation of 'dearseq' as dearseq_1.2.0.zip
* DONE (dearseq)