| Back to Multiple platform build/check report for BioC 3.12 |
|
This page was generated on 2021-05-06 12:30:36 -0400 (Thu, 06 May 2021).
|
To the developers/maintainers of the dasper package: Please make sure to use the following settings in order to reproduce any error or warning you see on this page. |
| Package 427/1974 | Hostname | OS / Arch | INSTALL | BUILD | CHECK | BUILD BIN | ||||||||
| dasper 1.0.0 (landing page) David Zhang
| malbec1 | Linux (Ubuntu 18.04.5 LTS) / x86_64 | OK | OK | OK | |||||||||
| tokay1 | Windows Server 2012 R2 Standard / x64 | OK | OK | OK | OK | |||||||||
| merida1 | macOS 10.14.6 Mojave / x86_64 | OK | OK | OK | OK | |||||||||
| Package: dasper |
| Version: 1.0.0 |
| Command: rm -rf dasper.buildbin-libdir && mkdir dasper.buildbin-libdir && C:\Users\biocbuild\bbs-3.12-bioc\R\bin\R.exe --arch x64 CMD INSTALL --no-multiarch --build --library=dasper.buildbin-libdir dasper_1.0.0.tar.gz |
| StartedAt: 2021-05-06 08:51:35 -0400 (Thu, 06 May 2021) |
| EndedAt: 2021-05-06 08:52:00 -0400 (Thu, 06 May 2021) |
| EllapsedTime: 24.2 seconds |
| RetCode: 0 |
| Status: OK |
| PackageFile: dasper_1.0.0.zip |
| PackageFileSize: 1.558 MiB |
##############################################################################
##############################################################################
###
### Running command:
###
### rm -rf dasper.buildbin-libdir && mkdir dasper.buildbin-libdir && C:\Users\biocbuild\bbs-3.12-bioc\R\bin\R.exe --arch x64 CMD INSTALL --no-multiarch --build --library=dasper.buildbin-libdir dasper_1.0.0.tar.gz
###
##############################################################################
##############################################################################
* installing *source* package 'dasper' ...
** using non-staged installation via StagedInstall field
** R
** data
*** moving datasets to lazyload DB
** inst
** byte-compile and prepare package for lazy loading
** help
*** installing help indices
converting help for package 'dasper'
finding HTML links ... done
coverage_process html
dasper html
junction_load html
junction_process html
junctions_example html
finding level-2 HTML links ... done
outlier_process html
plot_sashimi html
** building package indices
** installing vignettes
** testing if installed package can be loaded
* MD5 sums
packaged installation of 'dasper' as dasper_1.0.0.zip
* DONE (dasper)