| Back to Multiple platform build/check report for BioC 3.12 |
|
This page was generated on 2021-05-06 12:34:43 -0400 (Thu, 06 May 2021).
|
To the developers/maintainers of the daMA package: Please make sure to use the following settings in order to reproduce any error or warning you see on this page. |
| Package 422/1974 | Hostname | OS / Arch | INSTALL | BUILD | CHECK | BUILD BIN | ||||||||
| daMA 1.62.0 (landing page) Jobst Landgrebe
| malbec1 | Linux (Ubuntu 18.04.5 LTS) / x86_64 | OK | OK | OK | |||||||||
| tokay1 | Windows Server 2012 R2 Standard / x64 | OK | OK | OK | OK | |||||||||
| merida1 | macOS 10.14.6 Mojave / x86_64 | OK | OK | OK | OK | |||||||||
| Package: daMA |
| Version: 1.62.0 |
| Command: rm -rf daMA.buildbin-libdir && mkdir daMA.buildbin-libdir && /Users/biocbuild/BBS/utils/build-universal.sh daMA_1.62.0.tar.gz /Library/Frameworks/R.framework/Versions/Current/Resources/bin/R daMA.buildbin-libdir |
| StartedAt: 2021-05-06 08:21:48 -0400 (Thu, 06 May 2021) |
| EndedAt: 2021-05-06 08:22:34 -0400 (Thu, 06 May 2021) |
| EllapsedTime: 45.3 seconds |
| RetCode: 0 |
| Status: OK |
| PackageFile: daMA_1.62.0.tgz |
| PackageFileSize: 4.058 MiB |
############################################################################## ############################################################################## ### ### Running command: ### ### rm -rf daMA.buildbin-libdir && mkdir daMA.buildbin-libdir && /Users/biocbuild/BBS/utils/build-universal.sh daMA_1.62.0.tar.gz /Library/Frameworks/R.framework/Versions/Current/Resources/bin/R daMA.buildbin-libdir ### ############################################################################## ############################################################################## >>>>>>> >>>>>>> INSTALLATION WITH 'R CMD INSTALL --preclean --no-multiarch --library=daMA.buildbin-libdir daMA_1.62.0.tar.gz' >>>>>>> * installing *source* package ‘daMA’ ... ** using staged installation ** R ** data ** byte-compile and prepare package for lazy loading ** help *** installing help indices ** building package indices ** testing if installed package can be loaded from temporary location ** testing if installed package can be loaded from final location ** testing if installed package keeps a record of temporary installation path * DONE (daMA)