| Back to Multiple platform build/check report for BioC 3.12 |
|
This page was generated on 2021-05-06 12:30:31 -0400 (Thu, 06 May 2021).
|
To the developers/maintainers of the crlmm package: Please make sure to use the following settings in order to reproduce any error or warning you see on this page. |
| Package 398/1974 | Hostname | OS / Arch | INSTALL | BUILD | CHECK | BUILD BIN | ||||||||
| crlmm 1.48.0 (landing page) Benilton S Carvalho
| malbec1 | Linux (Ubuntu 18.04.5 LTS) / x86_64 | OK | OK | OK | |||||||||
| tokay1 | Windows Server 2012 R2 Standard / x64 | OK | OK | WARNINGS | OK | |||||||||
| merida1 | macOS 10.14.6 Mojave / x86_64 | OK | OK | OK | OK | |||||||||
| Package: crlmm |
| Version: 1.48.0 |
| Command: rm -rf crlmm.buildbin-libdir && mkdir crlmm.buildbin-libdir && C:\Users\biocbuild\bbs-3.12-bioc\R\bin\R.exe CMD INSTALL --merge-multiarch --build --library=crlmm.buildbin-libdir crlmm_1.48.0.tar.gz |
| StartedAt: 2021-05-06 08:49:33 -0400 (Thu, 06 May 2021) |
| EndedAt: 2021-05-06 08:51:00 -0400 (Thu, 06 May 2021) |
| EllapsedTime: 87.1 seconds |
| RetCode: 0 |
| Status: OK |
| PackageFile: crlmm_1.48.0.zip |
| PackageFileSize: 5.244 MiB |
##############################################################################
##############################################################################
###
### Running command:
###
### rm -rf crlmm.buildbin-libdir && mkdir crlmm.buildbin-libdir && C:\Users\biocbuild\bbs-3.12-bioc\R\bin\R.exe CMD INSTALL --merge-multiarch --build --library=crlmm.buildbin-libdir crlmm_1.48.0.tar.gz
###
##############################################################################
##############################################################################
install for i386
* installing *source* package 'crlmm' ...
** using staged installation
** libs
"C:/rtools40/mingw32/bin/"gcc -I"C:/Users/BIOCBU~1/BBS-3~1.12-/R/include" -DNDEBUG -I'C:/Users/biocbuild/bbs-3.12-bioc/R/library/preprocessCore/include' -I"C:/extsoft/include" -O2 -Wall -std=gnu99 -mfpmath=sse -msse2 -mstackrealign -c gtypeCaller.c -o gtypeCaller.o
"C:/rtools40/mingw32/bin/"gcc -I"C:/Users/BIOCBU~1/BBS-3~1.12-/R/include" -DNDEBUG -I'C:/Users/biocbuild/bbs-3.12-bioc/R/library/preprocessCore/include' -I"C:/extsoft/include" -O2 -Wall -std=gnu99 -mfpmath=sse -msse2 -mstackrealign -c init.c -o init.o
"C:/rtools40/mingw32/bin/"gcc -I"C:/Users/BIOCBU~1/BBS-3~1.12-/R/include" -DNDEBUG -I'C:/Users/biocbuild/bbs-3.12-bioc/R/library/preprocessCore/include' -I"C:/extsoft/include" -O2 -Wall -std=gnu99 -mfpmath=sse -msse2 -mstackrealign -c trimmed.c -o trimmed.o
"C:/rtools40/mingw32/bin/"gcc -I"C:/Users/BIOCBU~1/BBS-3~1.12-/R/include" -DNDEBUG -I'C:/Users/biocbuild/bbs-3.12-bioc/R/library/preprocessCore/include' -I"C:/extsoft/include" -O2 -Wall -std=gnu99 -mfpmath=sse -msse2 -mstackrealign -c utils.c -o utils.o
C:/rtools40/mingw32/bin/gcc -shared -s -static-libgcc -o crlmm.dll tmp.def gtypeCaller.o init.o trimmed.o utils.o -LC:/extsoft/lib/i386 -LC:/extsoft/lib -LC:/Users/BIOCBU~1/BBS-3~1.12-/R/bin/i386 -lR
installing to C:/Users/biocbuild/bbs-3.12-bioc/meat/crlmm.buildbin-libdir/00LOCK-crlmm/00new/crlmm/libs/i386
** R
** data
** inst
** byte-compile and prepare package for lazy loading
No methods found in package 'oligoClasses' for request: 'mean' when loading 'crlmm'
** help
*** installing help indices
converting help for package 'crlmm'
finding HTML links ... done
ABpanel html
Rd warning: C:/Users/biocbuild/bbs-3.12-bioc/tmpdir/RtmpaK4km0/R.INSTALL144862f37216/crlmm/man/ABpanel.Rd:57: file link 'lpolygon' in package 'lattice' does not exist and so has been treated as a topic
AssayData-methods html
finding level-2 HTML links ... done
CNSet-methods html
ListClassConstructors html
PredictionRegion-class html
batchStatisticAccessors html
calculateRBaf html
celfile-utils html
cnSetExample html
cnrmaAffy html
constructAffyCNSet html
constructInf html
copynumberAccessors html
crlmm-package html
crlmm html
crlmmCopynumber html
genotype.Illumina html
Rd warning: C:/Users/biocbuild/bbs-3.12-bioc/tmpdir/RtmpaK4km0/R.INSTALL144862f37216/crlmm/man/genotype.Illumina.Rd:148: file link 'ocSamples' in package 'oligoClasses' does not exist and so has been treated as a topic
genotype html
Rd warning: C:/Users/biocbuild/bbs-3.12-bioc/tmpdir/RtmpaK4km0/R.INSTALL144862f37216/crlmm/man/genotype.Rd:88: file link 'ocSamples' in package 'oligoClasses' does not exist and so has been treated as a topic
genotypeAffy html
genotypeInf html
genotypes html
plotSNPs html
posteriorProbability html
predictionRegion html
preprocessInf html
readGenCallOutput html
readIdatFiles html
snprma html
snprmaAffy html
validCdfNames html
xyplot html
** building package indices
** installing vignettes
** testing if installed package can be loaded from temporary location
No methods found in package 'oligoClasses' for request: 'mean' when loading 'crlmm'
** testing if installed package can be loaded from final location
No methods found in package 'oligoClasses' for request: 'mean' when loading 'crlmm'
** testing if installed package keeps a record of temporary installation path
install for x64
* installing *source* package 'crlmm' ...
** libs
"C:/rtools40/mingw64/bin/"gcc -I"C:/Users/BIOCBU~1/BBS-3~1.12-/R/include" -DNDEBUG -I'C:/Users/biocbuild/bbs-3.12-bioc/R/library/preprocessCore/include' -I"C:/extsoft/include" -O2 -Wall -std=gnu99 -mfpmath=sse -msse2 -mstackrealign -c gtypeCaller.c -o gtypeCaller.o
"C:/rtools40/mingw64/bin/"gcc -I"C:/Users/BIOCBU~1/BBS-3~1.12-/R/include" -DNDEBUG -I'C:/Users/biocbuild/bbs-3.12-bioc/R/library/preprocessCore/include' -I"C:/extsoft/include" -O2 -Wall -std=gnu99 -mfpmath=sse -msse2 -mstackrealign -c init.c -o init.o
"C:/rtools40/mingw64/bin/"gcc -I"C:/Users/BIOCBU~1/BBS-3~1.12-/R/include" -DNDEBUG -I'C:/Users/biocbuild/bbs-3.12-bioc/R/library/preprocessCore/include' -I"C:/extsoft/include" -O2 -Wall -std=gnu99 -mfpmath=sse -msse2 -mstackrealign -c trimmed.c -o trimmed.o
"C:/rtools40/mingw64/bin/"gcc -I"C:/Users/BIOCBU~1/BBS-3~1.12-/R/include" -DNDEBUG -I'C:/Users/biocbuild/bbs-3.12-bioc/R/library/preprocessCore/include' -I"C:/extsoft/include" -O2 -Wall -std=gnu99 -mfpmath=sse -msse2 -mstackrealign -c utils.c -o utils.o
C:/rtools40/mingw64/bin/gcc -shared -s -static-libgcc -o crlmm.dll tmp.def gtypeCaller.o init.o trimmed.o utils.o -LC:/extsoft/lib/x64 -LC:/extsoft/lib -LC:/Users/BIOCBU~1/BBS-3~1.12-/R/bin/x64 -lR
installing to C:/Users/biocbuild/bbs-3.12-bioc/meat/crlmm.buildbin-libdir/crlmm/libs/x64
** testing if installed package can be loaded
No methods found in package 'oligoClasses' for request: 'mean' when loading 'crlmm'
* MD5 sums
packaged installation of 'crlmm' as crlmm_1.48.0.zip
* DONE (crlmm)