| Back to Multiple platform build/check report for BioC 3.12 |
|
This page was generated on 2021-05-06 12:30:30 -0400 (Thu, 06 May 2021).
|
To the developers/maintainers of the covRNA package: Please make sure to use the following settings in order to reproduce any error or warning you see on this page. |
| Package 391/1974 | Hostname | OS / Arch | INSTALL | BUILD | CHECK | BUILD BIN | ||||||||
| covRNA 1.16.0 (landing page) Lara Urban
| malbec1 | Linux (Ubuntu 18.04.5 LTS) / x86_64 | OK | OK | OK | |||||||||
| tokay1 | Windows Server 2012 R2 Standard / x64 | OK | OK | OK | OK | |||||||||
| merida1 | macOS 10.14.6 Mojave / x86_64 | OK | OK | OK | OK | |||||||||
| Package: covRNA |
| Version: 1.16.0 |
| Command: rm -rf covRNA.buildbin-libdir && mkdir covRNA.buildbin-libdir && C:\Users\biocbuild\bbs-3.12-bioc\R\bin\R.exe CMD INSTALL --merge-multiarch --build --library=covRNA.buildbin-libdir covRNA_1.16.0.tar.gz |
| StartedAt: 2021-05-06 08:49:02 -0400 (Thu, 06 May 2021) |
| EndedAt: 2021-05-06 08:49:33 -0400 (Thu, 06 May 2021) |
| EllapsedTime: 31.0 seconds |
| RetCode: 0 |
| Status: OK |
| PackageFile: covRNA_1.16.0.zip |
| PackageFileSize: 564.7 KiB |
##############################################################################
##############################################################################
###
### Running command:
###
### rm -rf covRNA.buildbin-libdir && mkdir covRNA.buildbin-libdir && C:\Users\biocbuild\bbs-3.12-bioc\R\bin\R.exe CMD INSTALL --merge-multiarch --build --library=covRNA.buildbin-libdir covRNA_1.16.0.tar.gz
###
##############################################################################
##############################################################################
install for i386
* installing *source* package 'covRNA' ...
** using staged installation
** R
** data
*** moving datasets to lazyload DB
** inst
** byte-compile and prepare package for lazy loading
** help
*** installing help indices
converting help for package 'covRNA'
finding HTML links ... done
Baca html
covRNA html
ord html
plot.ord html
plot.stat html
stat html
vis html
** building package indices
** installing vignettes
** testing if installed package can be loaded from temporary location
** testing if installed package can be loaded from final location
** testing if installed package keeps a record of temporary installation path
install for x64
* installing *source* package 'covRNA' ...
** testing if installed package can be loaded
* MD5 sums
packaged installation of 'covRNA' as covRNA_1.16.0.zip
* DONE (covRNA)