| Back to Multiple platform build/check report for BioC 3.12 |
|
This page was generated on 2021-05-06 12:30:30 -0400 (Thu, 06 May 2021).
|
To the developers/maintainers of the cosmiq package: Please make sure to use the following settings in order to reproduce any error or warning you see on this page. |
| Package 385/1974 | Hostname | OS / Arch | INSTALL | BUILD | CHECK | BUILD BIN | ||||||||
| cosmiq 1.24.0 (landing page) David Fischer
| malbec1 | Linux (Ubuntu 18.04.5 LTS) / x86_64 | OK | OK | OK | |||||||||
| tokay1 | Windows Server 2012 R2 Standard / x64 | OK | OK | OK | OK | |||||||||
| merida1 | macOS 10.14.6 Mojave / x86_64 | OK | OK | OK | OK | |||||||||
| Package: cosmiq |
| Version: 1.24.0 |
| Command: rm -rf cosmiq.buildbin-libdir && mkdir cosmiq.buildbin-libdir && C:\Users\biocbuild\bbs-3.12-bioc\R\bin\R.exe CMD INSTALL --merge-multiarch --build --library=cosmiq.buildbin-libdir cosmiq_1.24.0.tar.gz |
| StartedAt: 2021-05-06 08:48:42 -0400 (Thu, 06 May 2021) |
| EndedAt: 2021-05-06 08:50:10 -0400 (Thu, 06 May 2021) |
| EllapsedTime: 88.1 seconds |
| RetCode: 0 |
| Status: OK |
| PackageFile: cosmiq_1.24.0.zip |
| PackageFileSize: 306 KiB |
##############################################################################
##############################################################################
###
### Running command:
###
### rm -rf cosmiq.buildbin-libdir && mkdir cosmiq.buildbin-libdir && C:\Users\biocbuild\bbs-3.12-bioc\R\bin\R.exe CMD INSTALL --merge-multiarch --build --library=cosmiq.buildbin-libdir cosmiq_1.24.0.tar.gz
###
##############################################################################
##############################################################################
install for i386
* installing *source* package 'cosmiq' ...
** using staged installation
** libs
"C:/rtools40/mingw32/bin/"gcc -I"C:/Users/BIOCBU~1/BBS-3~1.12-/R/include" -DNDEBUG -I"C:/extsoft/include" -O2 -Wall -std=gnu99 -mfpmath=sse -msse2 -mstackrealign -c util.c -o util.o
C:/rtools40/mingw32/bin/gcc -shared -s -static-libgcc -o cosmiq.dll tmp.def util.o -LC:/extsoft/lib/i386 -LC:/extsoft/lib -LC:/Users/BIOCBU~1/BBS-3~1.12-/R/bin/i386 -lR
installing to C:/Users/biocbuild/bbs-3.12-bioc/meat/cosmiq.buildbin-libdir/00LOCK-cosmiq/00new/cosmiq/libs/i386
** R
** inst
** byte-compile and prepare package for lazy loading
** help
*** installing help indices
converting help for package 'cosmiq'
finding HTML links ... done
combine_spectra html
cosmiq html
create_datamatrix html
eicmatrix html
peakdetection html
quantify_combined html
retention_time html
** building package indices
** installing vignettes
** testing if installed package can be loaded from temporary location
** testing if installed package can be loaded from final location
** testing if installed package keeps a record of temporary installation path
install for x64
* installing *source* package 'cosmiq' ...
** libs
"C:/rtools40/mingw64/bin/"gcc -I"C:/Users/BIOCBU~1/BBS-3~1.12-/R/include" -DNDEBUG -I"C:/extsoft/include" -O2 -Wall -std=gnu99 -mfpmath=sse -msse2 -mstackrealign -c util.c -o util.o
C:/rtools40/mingw64/bin/gcc -shared -s -static-libgcc -o cosmiq.dll tmp.def util.o -LC:/extsoft/lib/x64 -LC:/extsoft/lib -LC:/Users/BIOCBU~1/BBS-3~1.12-/R/bin/x64 -lR
installing to C:/Users/biocbuild/bbs-3.12-bioc/meat/cosmiq.buildbin-libdir/cosmiq/libs/x64
** testing if installed package can be loaded
* MD5 sums
packaged installation of 'cosmiq' as cosmiq_1.24.0.zip
* DONE (cosmiq)