| Back to Multiple platform build/check report for BioC 3.12 |
|
This page was generated on 2021-05-06 12:30:30 -0400 (Thu, 06 May 2021).
|
To the developers/maintainers of the coseq package: Please make sure to use the following settings in order to reproduce any error or warning you see on this page. |
| Package 384/1974 | Hostname | OS / Arch | INSTALL | BUILD | CHECK | BUILD BIN | ||||||||
| coseq 1.14.0 (landing page) Andrea Rau
| malbec1 | Linux (Ubuntu 18.04.5 LTS) / x86_64 | OK | OK | OK | |||||||||
| tokay1 | Windows Server 2012 R2 Standard / x64 | OK | OK | OK | OK | |||||||||
| merida1 | macOS 10.14.6 Mojave / x86_64 | OK | OK | OK | OK | |||||||||
| Package: coseq |
| Version: 1.14.0 |
| Command: rm -rf coseq.buildbin-libdir && mkdir coseq.buildbin-libdir && C:\Users\biocbuild\bbs-3.12-bioc\R\bin\R.exe CMD INSTALL --merge-multiarch --build --library=coseq.buildbin-libdir coseq_1.14.0.tar.gz |
| StartedAt: 2021-05-06 08:48:38 -0400 (Thu, 06 May 2021) |
| EndedAt: 2021-05-06 08:49:54 -0400 (Thu, 06 May 2021) |
| EllapsedTime: 75.8 seconds |
| RetCode: 0 |
| Status: OK |
| PackageFile: coseq_1.14.0.zip |
| PackageFileSize: 1.442 MiB |
##############################################################################
##############################################################################
###
### Running command:
###
### rm -rf coseq.buildbin-libdir && mkdir coseq.buildbin-libdir && C:\Users\biocbuild\bbs-3.12-bioc\R\bin\R.exe CMD INSTALL --merge-multiarch --build --library=coseq.buildbin-libdir coseq_1.14.0.tar.gz
###
##############################################################################
##############################################################################
install for i386
* installing *source* package 'coseq' ...
** using staged installation
** R
** data
** inst
** byte-compile and prepare package for lazy loading
Creating a new generic function for 'plot' in package 'coseq'
** help
*** installing help indices
converting help for package 'coseq'
finding HTML links ... done
NormMixClus html
NormMixClusK html
NormMixParam html
clusterEntropy html
clusterInertia html
compareARI html
compareICL html
convertLegacyCoseq html
coseq-package html
coseq html
coseqHelpers html
coseqResults html
coseqRun html
fietz html
kmeansProbaPost html
logclr html
matchContTable html
plot html
summary html
transformRNAseq html
** building package indices
** installing vignettes
** testing if installed package can be loaded from temporary location
** testing if installed package can be loaded from final location
** testing if installed package keeps a record of temporary installation path
install for x64
* installing *source* package 'coseq' ...
** testing if installed package can be loaded
* MD5 sums
packaged installation of 'coseq' as coseq_1.14.0.zip
* DONE (coseq)