| Back to Multiple platform build/check report for BioC 3.12 | 
  | 
This page was generated on 2021-05-06 12:30:29 -0400 (Thu, 06 May 2021).
| 
To the developers/maintainers of the corral package: Please make sure to use the following settings in order to reproduce any error or warning you see on this page.  | 
| Package 382/1974 | Hostname | OS / Arch | INSTALL | BUILD | CHECK | BUILD BIN | ||||||||
| corral 1.0.0  (landing page) Lauren Hsu 
  | malbec1 | Linux (Ubuntu 18.04.5 LTS) / x86_64 | OK | OK | OK | |||||||||
| tokay1 | Windows Server 2012 R2 Standard / x64 | OK | OK | OK | OK | |||||||||
| merida1 | macOS 10.14.6 Mojave / x86_64 | OK | OK | OK | OK | |||||||||
| Package: corral | 
| Version: 1.0.0 | 
| Command: rm -rf corral.buildbin-libdir && mkdir corral.buildbin-libdir && C:\Users\biocbuild\bbs-3.12-bioc\R\bin\R.exe CMD INSTALL --merge-multiarch --build --library=corral.buildbin-libdir corral_1.0.0.tar.gz | 
| StartedAt: 2021-05-06 08:48:29 -0400 (Thu, 06 May 2021) | 
| EndedAt: 2021-05-06 08:49:38 -0400 (Thu, 06 May 2021) | 
| EllapsedTime: 68.1 seconds | 
| RetCode: 0 | 
| Status: OK | 
| PackageFile: corral_1.0.0.zip | 
| PackageFileSize: 1.072 MiB | 
##############################################################################
##############################################################################
###
### Running command:
###
###   rm -rf corral.buildbin-libdir && mkdir corral.buildbin-libdir && C:\Users\biocbuild\bbs-3.12-bioc\R\bin\R.exe CMD INSTALL --merge-multiarch --build --library=corral.buildbin-libdir corral_1.0.0.tar.gz
###
##############################################################################
##############################################################################
install for i386
* installing *source* package 'corral' ...
** using staged installation
** R
** inst
** byte-compile and prepare package for lazy loading
** help
*** installing help indices
  converting help for package 'corral'
    finding HTML links ... done
    add_embeddings2scelist                  html  
    all_are                                 html  
    compsvd                                 html  
    corral                                  html  
    finding level-2 HTML links ... done
    corral_preproc                          html  
    corralm                                 html  
    earthmover_dist                         html  
    get_pct_var_exp_svd                     html  
    get_weights                             html  
    list2mat                                html  
    na2zero                                 html  
    obs2probs                               html  
    pairwise_rv                             html  
    plot_embedding                          html  
    plot_embedding_sce                      html  
    rv                                      html  
    sce2matlist                             html  
** building package indices
** installing vignettes
** testing if installed package can be loaded from temporary location
** testing if installed package can be loaded from final location
** testing if installed package keeps a record of temporary installation path
install for x64
* installing *source* package 'corral' ...
** testing if installed package can be loaded
* MD5 sums
packaged installation of 'corral' as corral_1.0.0.zip
* DONE (corral)