| Back to Multiple platform build/check report for BioC 3.12 |
|
This page was generated on 2021-05-06 12:30:29 -0400 (Thu, 06 May 2021).
|
To the developers/maintainers of the copa package: Please make sure to use the following settings in order to reproduce any error or warning you see on this page. |
| Package 372/1974 | Hostname | OS / Arch | INSTALL | BUILD | CHECK | BUILD BIN | ||||||||
| copa 1.58.0 (landing page) James W. MacDonald
| malbec1 | Linux (Ubuntu 18.04.5 LTS) / x86_64 | OK | OK | OK | |||||||||
| tokay1 | Windows Server 2012 R2 Standard / x64 | OK | OK | OK | OK | |||||||||
| merida1 | macOS 10.14.6 Mojave / x86_64 | OK | OK | OK | OK | |||||||||
| Package: copa |
| Version: 1.58.0 |
| Command: rm -rf copa.buildbin-libdir && mkdir copa.buildbin-libdir && C:\Users\biocbuild\bbs-3.12-bioc\R\bin\R.exe CMD INSTALL --merge-multiarch --build --library=copa.buildbin-libdir copa_1.58.0.tar.gz |
| StartedAt: 2021-05-06 08:47:53 -0400 (Thu, 06 May 2021) |
| EndedAt: 2021-05-06 08:48:03 -0400 (Thu, 06 May 2021) |
| EllapsedTime: 10.7 seconds |
| RetCode: 0 |
| Status: OK |
| PackageFile: copa_1.58.0.zip |
| PackageFileSize: 200 KiB |
##############################################################################
##############################################################################
###
### Running command:
###
### rm -rf copa.buildbin-libdir && mkdir copa.buildbin-libdir && C:\Users\biocbuild\bbs-3.12-bioc\R\bin\R.exe CMD INSTALL --merge-multiarch --build --library=copa.buildbin-libdir copa_1.58.0.tar.gz
###
##############################################################################
##############################################################################
install for i386
* installing *source* package 'copa' ...
** using staged installation
** libs
"C:/rtools40/mingw32/bin/"gcc -I"C:/Users/BIOCBU~1/BBS-3~1.12-/R/include" -DNDEBUG -I"C:/extsoft/include" -O2 -Wall -std=gnu99 -mfpmath=sse -msse2 -mstackrealign -c copa.c -o copa.o
C:/rtools40/mingw32/bin/gcc -shared -s -static-libgcc -o copa.dll tmp.def copa.o -LC:/extsoft/lib/i386 -LC:/extsoft/lib -LC:/Users/BIOCBU~1/BBS-3~1.12-/R/bin/i386 -lR
installing to C:/Users/biocbuild/bbs-3.12-bioc/meat/copa.buildbin-libdir/00LOCK-copa/00new/copa/libs/i386
** R
** inst
** byte-compile and prepare package for lazy loading
** help
*** installing help indices
converting help for package 'copa'
finding HTML links ... done
copa html
copa.package html
copaFilter html
copaPerm html
copaTable html
getans html
pSum html
perm.mat html
plotCopa html
scatterPlotCopa html
summaryCopa html
** building package indices
** installing vignettes
** testing if installed package can be loaded from temporary location
** testing if installed package can be loaded from final location
** testing if installed package keeps a record of temporary installation path
install for x64
* installing *source* package 'copa' ...
** libs
"C:/rtools40/mingw64/bin/"gcc -I"C:/Users/BIOCBU~1/BBS-3~1.12-/R/include" -DNDEBUG -I"C:/extsoft/include" -O2 -Wall -std=gnu99 -mfpmath=sse -msse2 -mstackrealign -c copa.c -o copa.o
C:/rtools40/mingw64/bin/gcc -shared -s -static-libgcc -o copa.dll tmp.def copa.o -LC:/extsoft/lib/x64 -LC:/extsoft/lib -LC:/Users/BIOCBU~1/BBS-3~1.12-/R/bin/x64 -lR
installing to C:/Users/biocbuild/bbs-3.12-bioc/meat/copa.buildbin-libdir/copa/libs/x64
** testing if installed package can be loaded
* MD5 sums
packaged installation of 'copa' as copa_1.58.0.zip
* DONE (copa)