| Back to Multiple platform build/check report for BioC 3.12 | 
  | 
This page was generated on 2021-05-06 12:34:36 -0400 (Thu, 06 May 2021).
| 
To the developers/maintainers of the contiBAIT package: Please make sure to use the following settings in order to reproduce any error or warning you see on this page.  | 
| Package 369/1974 | Hostname | OS / Arch | INSTALL | BUILD | CHECK | BUILD BIN | ||||||||
| contiBAIT 1.18.0  (landing page) Kieran O'Neill 
  | malbec1 | Linux (Ubuntu 18.04.5 LTS) / x86_64 | OK | OK | WARNINGS | |||||||||
| tokay1 | Windows Server 2012 R2 Standard / x64 | OK | OK | WARNINGS | OK | |||||||||
| merida1 | macOS 10.14.6 Mojave / x86_64 | OK | OK | WARNINGS | OK | |||||||||
| Package: contiBAIT | 
| Version: 1.18.0 | 
| Command: /Library/Frameworks/R.framework/Versions/Current/Resources/bin/R CMD build --keep-empty-dirs --no-resave-data contiBAIT | 
| StartedAt: 2021-05-05 18:54:09 -0400 (Wed, 05 May 2021) | 
| EndedAt: 2021-05-05 18:56:11 -0400 (Wed, 05 May 2021) | 
| EllapsedTime: 121.6 seconds | 
| RetCode: 0 | 
| Status: OK | 
| PackageFile: contiBAIT_1.18.0.tar.gz | 
| PackageFileSize: 3.792 MiB | 
############################################################################## ############################################################################## ### ### Running command: ### ### /Library/Frameworks/R.framework/Versions/Current/Resources/bin/R CMD build --keep-empty-dirs --no-resave-data contiBAIT ### ############################################################################## ############################################################################## * checking for file ‘contiBAIT/DESCRIPTION’ ... OK * preparing ‘contiBAIT’: * checking DESCRIPTION meta-information ... OK * cleaning src * installing the package to build vignettes * creating vignettes ... OK * cleaning src * checking for LF line-endings in source and make files and shell scripts * checking for empty or unneeded directories * looking to see if a ‘data/datalist’ file should be added * building ‘contiBAIT_1.18.0.tar.gz’