| Back to Multiple platform build/check report for BioC 3.12 |
|
This page was generated on 2021-05-06 12:27:13 -0400 (Thu, 06 May 2021).
|
To the developers/maintainers of the combi package: Please make sure to use the following settings in order to reproduce any error or warning you see on this page. |
| Package 355/1974 | Hostname | OS / Arch | INSTALL | BUILD | CHECK | BUILD BIN | ||||||||
| combi 1.2.0 (landing page) Joris Meys
| malbec1 | Linux (Ubuntu 18.04.5 LTS) / x86_64 | OK | OK | OK | |||||||||
| tokay1 | Windows Server 2012 R2 Standard / x64 | OK | OK | OK | OK | |||||||||
| merida1 | macOS 10.14.6 Mojave / x86_64 | OK | OK | OK | OK | |||||||||
| Package: combi |
| Version: 1.2.0 |
| Command: /home/biocbuild/bbs-3.12-bioc/R/bin/R CMD check --install=check:combi.install-out.txt --library=/home/biocbuild/bbs-3.12-bioc/R/library --no-vignettes --timings combi_1.2.0.tar.gz |
| StartedAt: 2021-05-06 00:19:33 -0400 (Thu, 06 May 2021) |
| EndedAt: 2021-05-06 00:25:09 -0400 (Thu, 06 May 2021) |
| EllapsedTime: 336.2 seconds |
| RetCode: 0 |
| Status: OK |
| CheckDir: combi.Rcheck |
| Warnings: 0 |
##############################################################################
##############################################################################
###
### Running command:
###
### /home/biocbuild/bbs-3.12-bioc/R/bin/R CMD check --install=check:combi.install-out.txt --library=/home/biocbuild/bbs-3.12-bioc/R/library --no-vignettes --timings combi_1.2.0.tar.gz
###
##############################################################################
##############################################################################
* using log directory ‘/home/biocbuild/bbs-3.12-bioc/meat/combi.Rcheck’
* using R version 4.0.5 (2021-03-31)
* using platform: x86_64-pc-linux-gnu (64-bit)
* using session charset: UTF-8
* using option ‘--no-vignettes’
* checking for file ‘combi/DESCRIPTION’ ... OK
* checking extension type ... Package
* this is package ‘combi’ version ‘1.2.0’
* package encoding: UTF-8
* checking package namespace information ... OK
* checking package dependencies ... OK
* checking if this is a source package ... OK
* checking if there is a namespace ... OK
* checking for hidden files and directories ... OK
* checking for portable file names ... OK
* checking for sufficient/correct file permissions ... OK
* checking whether package ‘combi’ can be installed ... OK
* checking installed package size ... OK
* checking package directory ... OK
* checking ‘build’ directory ... OK
* checking DESCRIPTION meta-information ... OK
* checking top-level files ... OK
* checking for left-over files ... OK
* checking index information ... OK
* checking package subdirectories ... OK
* checking R files for non-ASCII characters ... OK
* checking R files for syntax errors ... OK
* checking whether the package can be loaded ... OK
* checking whether the package can be loaded with stated dependencies ... OK
* checking whether the package can be unloaded cleanly ... OK
* checking whether the namespace can be loaded with stated dependencies ... OK
* checking whether the namespace can be unloaded cleanly ... OK
* checking dependencies in R code ... OK
* checking S3 generic/method consistency ... OK
* checking replacement functions ... OK
* checking foreign function calls ... NOTE
Foreign function call to a different package:
.C("spline_value", ..., PACKAGE = "cobs")
See chapter ‘System and foreign language interfaces’ in the ‘Writing R
Extensions’ manual.
* checking R code for possible problems ... NOTE
addLink: no visible binding for global variable ‘species’
convPlot: no visible binding for global variable ‘Iteration’
convPlot: no visible binding for global variable ‘Value’
convPlot: no visible binding for global variable ‘Variable’
convPlot: no visible binding for global variable ‘Colour’
inflPlot: no visible binding for global variable ‘h’
inflPlot: no visible binding for global variable ‘LatentVariable’
inflPlot: no visible binding for global variable ‘value’
Undefined global functions or variables:
Colour Iteration LatentVariable Value Variable h species value
* checking Rd files ... OK
* checking Rd metadata ... OK
* checking Rd cross-references ... OK
* checking for missing documentation entries ... OK
* checking for code/documentation mismatches ... OK
* checking Rd \usage sections ... OK
* checking Rd contents ... OK
* checking for unstated dependencies in examples ... OK
* checking contents of ‘data’ directory ... OK
* checking data for non-ASCII characters ... OK
* checking data for ASCII and uncompressed saves ... OK
* checking files in ‘vignettes’ ... OK
* checking examples ... OK
Examples with CPU (user + system) or elapsed time > 5s
user system elapsed
checkMeanVarTrend 5.756 0.06 5.836
* checking for unstated dependencies in ‘tests’ ... OK
* checking tests ...
Running ‘testthat.R’
OK
* checking for unstated dependencies in vignettes ... OK
* checking package vignettes in ‘inst/doc’ ... OK
* checking running R code from vignettes ... SKIPPED
* checking re-building of vignette outputs ... SKIPPED
* checking PDF version of manual ... OK
* DONE
Status: 2 NOTEs
See
‘/home/biocbuild/bbs-3.12-bioc/meat/combi.Rcheck/00check.log’
for details.
combi.Rcheck/00install.out
############################################################################## ############################################################################## ### ### Running command: ### ### /home/biocbuild/bbs-3.12-bioc/R/bin/R CMD INSTALL combi ### ############################################################################## ############################################################################## * installing to library ‘/home/biocbuild/bbs-3.12-bioc/R/library’ * installing *source* package ‘combi’ ... ** using staged installation ** R ** data ** inst ** byte-compile and prepare package for lazy loading Warning in .recacheSubclasses(def@className, def, env) : undefined subclass "numericVector" of class "Mnumeric"; definition not updated ** help *** installing help indices ** building package indices ** installing vignettes ** testing if installed package can be loaded from temporary location Warning in .recacheSubclasses(def@className, def, env) : undefined subclass "numericVector" of class "Mnumeric"; definition not updated ** testing if installed package can be loaded from final location Warning in .recacheSubclasses(def@className, def, env) : undefined subclass "numericVector" of class "Mnumeric"; definition not updated ** testing if installed package keeps a record of temporary installation path * DONE (combi)
combi.Rcheck/tests/testthat.Rout
R version 4.0.5 (2021-03-31) -- "Shake and Throw"
Copyright (C) 2021 The R Foundation for Statistical Computing
Platform: x86_64-pc-linux-gnu (64-bit)
R is free software and comes with ABSOLUTELY NO WARRANTY.
You are welcome to redistribute it under certain conditions.
Type 'license()' or 'licence()' for distribution details.
R is a collaborative project with many contributors.
Type 'contributors()' for more information and
'citation()' on how to cite R or R packages in publications.
Type 'demo()' for some demos, 'help()' for on-line help, or
'help.start()' for an HTML browser interface to help.
Type 'q()' to quit R.
> library(testthat)
> library(combi)
Warning message:
In .recacheSubclasses(def@className, def, env) :
undefined subclass "numericVector" of class "Mnumeric"; definition not updated
> test_check("combi")
[ FAIL 0 | WARN 9 | SKIP 0 | PASS 15 ]
>
> proc.time()
user system elapsed
61.952 0.532 62.604
combi.Rcheck/combi-Ex.timings
| name | user | system | elapsed | |
| addLink | 0.712 | 0.052 | 0.778 | |
| checkMeanVarTrend | 5.756 | 0.060 | 5.836 | |
| combi | 0.036 | 0.000 | 0.037 | |
| convPlot | 1.152 | 0.000 | 1.157 | |
| extractCoords | 0.088 | 0.000 | 0.088 | |
| extractData | 0.048 | 0.000 | 0.050 | |
| inflPlot | 1.268 | 0.000 | 1.286 | |
| plot.combi | 3.228 | 0.036 | 3.267 | |
| print.combi | 0.064 | 0.000 | 0.065 | |