| Back to Multiple platform build/check report for BioC 3.12 |
|
This page was generated on 2021-05-06 12:30:26 -0400 (Thu, 06 May 2021).
|
To the developers/maintainers of the coexnet package: Please make sure to use the following settings in order to reproduce any error or warning you see on this page. |
| Package 349/1974 | Hostname | OS / Arch | INSTALL | BUILD | CHECK | BUILD BIN | ||||||||
| coexnet 1.12.0 (landing page) Juan David Henao
| malbec1 | Linux (Ubuntu 18.04.5 LTS) / x86_64 | OK | OK | OK | |||||||||
| tokay1 | Windows Server 2012 R2 Standard / x64 | OK | OK | OK | OK | |||||||||
| merida1 | macOS 10.14.6 Mojave / x86_64 | OK | OK | OK | OK | |||||||||
| Package: coexnet |
| Version: 1.12.0 |
| Command: rm -rf coexnet.buildbin-libdir && mkdir coexnet.buildbin-libdir && C:\Users\biocbuild\bbs-3.12-bioc\R\bin\R.exe CMD INSTALL --merge-multiarch --build --library=coexnet.buildbin-libdir coexnet_1.12.0.tar.gz |
| StartedAt: 2021-05-06 08:46:05 -0400 (Thu, 06 May 2021) |
| EndedAt: 2021-05-06 08:47:05 -0400 (Thu, 06 May 2021) |
| EllapsedTime: 59.6 seconds |
| RetCode: 0 |
| Status: OK |
| PackageFile: coexnet_1.12.0.zip |
| PackageFileSize: 1.752 MiB |
##############################################################################
##############################################################################
###
### Running command:
###
### rm -rf coexnet.buildbin-libdir && mkdir coexnet.buildbin-libdir && C:\Users\biocbuild\bbs-3.12-bioc\R\bin\R.exe CMD INSTALL --merge-multiarch --build --library=coexnet.buildbin-libdir coexnet_1.12.0.tar.gz
###
##############################################################################
##############################################################################
install for i386
* installing *source* package 'coexnet' ...
** using staged installation
** R
** data
*** moving datasets to lazyload DB
** inst
** byte-compile and prepare package for lazy loading
** help
*** installing help indices
converting help for package 'coexnet'
finding HTML links ... done
CCP html
affy html
cofVar html
createNet html
difExprs html
exprMat html
findThreshold html
geneSymbol html
getAffy html
getInfo html
info html
net1 html
net2 html
ppiNet html
sharedComponents html
** building package indices
** installing vignettes
** testing if installed package can be loaded from temporary location
** testing if installed package can be loaded from final location
** testing if installed package keeps a record of temporary installation path
install for x64
* installing *source* package 'coexnet' ...
** testing if installed package can be loaded
* MD5 sums
packaged installation of 'coexnet' as coexnet_1.12.0.zip
* DONE (coexnet)