| Back to Multiple platform build/check report for BioC 3.12 |
|
This page was generated on 2021-05-06 12:30:29 -0400 (Thu, 06 May 2021).
|
To the developers/maintainers of the coRdon package: Please make sure to use the following settings in order to reproduce any error or warning you see on this page. |
| Package 376/1974 | Hostname | OS / Arch | INSTALL | BUILD | CHECK | BUILD BIN | ||||||||
| coRdon 1.8.0 (landing page) Anamaria Elek
| malbec1 | Linux (Ubuntu 18.04.5 LTS) / x86_64 | OK | OK | OK | |||||||||
| tokay1 | Windows Server 2012 R2 Standard / x64 | OK | OK | OK | OK | |||||||||
| merida1 | macOS 10.14.6 Mojave / x86_64 | OK | OK | OK | OK | |||||||||
| Package: coRdon |
| Version: 1.8.0 |
| Command: rm -rf coRdon.buildbin-libdir && mkdir coRdon.buildbin-libdir && C:\Users\biocbuild\bbs-3.12-bioc\R\bin\R.exe CMD INSTALL --merge-multiarch --build --library=coRdon.buildbin-libdir coRdon_1.8.0.tar.gz |
| StartedAt: 2021-05-06 08:48:07 -0400 (Thu, 06 May 2021) |
| EndedAt: 2021-05-06 08:48:38 -0400 (Thu, 06 May 2021) |
| EllapsedTime: 31.4 seconds |
| RetCode: 0 |
| Status: OK |
| PackageFile: coRdon_1.8.0.zip |
| PackageFileSize: 1.344 MiB |
##############################################################################
##############################################################################
###
### Running command:
###
### rm -rf coRdon.buildbin-libdir && mkdir coRdon.buildbin-libdir && C:\Users\biocbuild\bbs-3.12-bioc\R\bin\R.exe CMD INSTALL --merge-multiarch --build --library=coRdon.buildbin-libdir coRdon_1.8.0.tar.gz
###
##############################################################################
##############################################################################
install for i386
* installing *source* package 'coRdon' ...
** using staged installation
** R
** data
*** moving datasets to lazyload DB
** inst
** byte-compile and prepare package for lazy loading
** help
*** installing help indices
converting help for package 'coRdon'
finding HTML links ... done
HD59 html
HD59_KO html
HD59_PATHWAYS html
LD94 html
LD94_KO html
LD94_PATHWAYS html
RPKOs html
bplot html
coRdon html
codonTable-class html
codonUsage-expressivity html
codonUsage html
crossTab-class html
enrichBarplot html
enrichMAplot html
enrichMatrix html
enrichment html
genCode-class html
intraBplot html
length-codonTable html
length-crossTab html
readSet html
reduceCrossTab html
show-codonTable html
show-crossTab html
subset html
** building package indices
** installing vignettes
** testing if installed package can be loaded from temporary location
** testing if installed package can be loaded from final location
** testing if installed package keeps a record of temporary installation path
install for x64
* installing *source* package 'coRdon' ...
** testing if installed package can be loaded
* MD5 sums
packaged installation of 'coRdon' as coRdon_1.8.0.zip
* DONE (coRdon)