| Back to Multiple platform build/check report for BioC 3.12 |
|
This page was generated on 2021-05-06 12:27:10 -0400 (Thu, 06 May 2021).
|
To the developers/maintainers of the cmapR package: Please make sure to use the following settings in order to reproduce any error or warning you see on this page. |
| Package 329/1974 | Hostname | OS / Arch | INSTALL | BUILD | CHECK | BUILD BIN | ||||||||
| cmapR 1.2.1 (landing page) Ted Natoli
| malbec1 | Linux (Ubuntu 18.04.5 LTS) / x86_64 | OK | OK | OK | |||||||||
| tokay1 | Windows Server 2012 R2 Standard / x64 | OK | OK | OK | OK | |||||||||
| merida1 | macOS 10.14.6 Mojave / x86_64 | OK | OK | OK | OK | |||||||||
| Package: cmapR |
| Version: 1.2.1 |
| Command: /home/biocbuild/bbs-3.12-bioc/R/bin/R CMD check --install=check:cmapR.install-out.txt --library=/home/biocbuild/bbs-3.12-bioc/R/library --no-vignettes --timings cmapR_1.2.1.tar.gz |
| StartedAt: 2021-05-06 00:12:58 -0400 (Thu, 06 May 2021) |
| EndedAt: 2021-05-06 00:16:14 -0400 (Thu, 06 May 2021) |
| EllapsedTime: 196.2 seconds |
| RetCode: 0 |
| Status: OK |
| CheckDir: cmapR.Rcheck |
| Warnings: 0 |
##############################################################################
##############################################################################
###
### Running command:
###
### /home/biocbuild/bbs-3.12-bioc/R/bin/R CMD check --install=check:cmapR.install-out.txt --library=/home/biocbuild/bbs-3.12-bioc/R/library --no-vignettes --timings cmapR_1.2.1.tar.gz
###
##############################################################################
##############################################################################
* using log directory ‘/home/biocbuild/bbs-3.12-bioc/meat/cmapR.Rcheck’
* using R version 4.0.5 (2021-03-31)
* using platform: x86_64-pc-linux-gnu (64-bit)
* using session charset: UTF-8
* using option ‘--no-vignettes’
* checking for file ‘cmapR/DESCRIPTION’ ... OK
* checking extension type ... Package
* this is package ‘cmapR’ version ‘1.2.1’
* checking package namespace information ... OK
* checking package dependencies ... OK
* checking if this is a source package ... OK
* checking if there is a namespace ... OK
* checking for hidden files and directories ... NOTE
Found the following hidden files and directories:
.dockerignore
docs/build/html/.buildinfo
These were most likely included in error. See section ‘Package
structure’ in the ‘Writing R Extensions’ manual.
* checking for portable file names ... OK
* checking for sufficient/correct file permissions ... OK
* checking whether package ‘cmapR’ can be installed ... OK
* checking installed package size ... NOTE
installed size is 5.2Mb
sub-directories of 1Mb or more:
data 2.3Mb
extdata 2.1Mb
* checking package directory ... OK
* checking ‘build’ directory ... OK
* checking DESCRIPTION meta-information ... OK
* checking top-level files ... OK
* checking for left-over files ... OK
* checking index information ... OK
* checking package subdirectories ... OK
* checking R files for non-ASCII characters ... OK
* checking R files for syntax errors ... OK
* checking whether the package can be loaded ... OK
* checking whether the package can be loaded with stated dependencies ... OK
* checking whether the package can be unloaded cleanly ... OK
* checking whether the namespace can be loaded with stated dependencies ... OK
* checking whether the namespace can be unloaded cleanly ... OK
* checking dependencies in R code ... OK
* checking S3 generic/method consistency ... OK
* checking replacement functions ... OK
* checking foreign function calls ... OK
* checking R code for possible problems ... OK
* checking Rd files ... OK
* checking Rd metadata ... OK
* checking Rd cross-references ... OK
* checking for missing documentation entries ... OK
* checking for code/documentation mismatches ... OK
* checking Rd \usage sections ... OK
* checking Rd contents ... OK
* checking for unstated dependencies in examples ... OK
* checking contents of ‘data’ directory ... OK
* checking data for non-ASCII characters ... OK
* checking data for ASCII and uncompressed saves ... OK
* checking line endings in Makefiles ... OK
* checking for GNU extensions in Makefiles ... OK
* checking include directives in Makefiles ... OK
* checking files in ‘vignettes’ ... OK
* checking examples ... OK
* checking for unstated dependencies in ‘tests’ ... OK
* checking tests ...
Running ‘testthat.R’
OK
* checking for unstated dependencies in vignettes ... OK
* checking package vignettes in ‘inst/doc’ ... OK
* checking running R code from vignettes ... SKIPPED
* checking re-building of vignette outputs ... SKIPPED
* checking PDF version of manual ... OK
* DONE
Status: 2 NOTEs
See
‘/home/biocbuild/bbs-3.12-bioc/meat/cmapR.Rcheck/00check.log’
for details.
cmapR.Rcheck/00install.out
############################################################################## ############################################################################## ### ### Running command: ### ### /home/biocbuild/bbs-3.12-bioc/R/bin/R CMD INSTALL cmapR ### ############################################################################## ############################################################################## * installing to library ‘/home/biocbuild/bbs-3.12-bioc/R/library’ * installing *source* package ‘cmapR’ ... ** using staged installation ** R ** data *** moving datasets to lazyload DB ** inst ** byte-compile and prepare package for lazy loading ** help *** installing help indices ** building package indices ** installing vignettes ** testing if installed package can be loaded from temporary location ** testing if installed package can be loaded from final location ** testing if installed package keeps a record of temporary installation path * DONE (cmapR)
cmapR.Rcheck/tests/testthat.Rout
R version 4.0.5 (2021-03-31) -- "Shake and Throw"
Copyright (C) 2021 The R Foundation for Statistical Computing
Platform: x86_64-pc-linux-gnu (64-bit)
R is free software and comes with ABSOLUTELY NO WARRANTY.
You are welcome to redistribute it under certain conditions.
Type 'license()' or 'licence()' for distribution details.
R is a collaborative project with many contributors.
Type 'contributors()' for more information and
'citation()' on how to cite R or R packages in publications.
Type 'demo()' for some demos, 'help()' for on-line help, or
'help.start()' for an HTML browser interface to help.
Type 'q()' to quit R.
> library(testthat)
> library(cmapR)
>
> test_check("cmapR")
Saving file to foo.gct
Dimensions of matrix: [10x5]
Setting precision to 4
Saved.
Saving file to foo.gct
Dimensions of matrix: [10x5]
Setting precision to 4
Saved.
Saving file to foo.gct
Dimensions of matrix: [10x5]
Setting precision to 4
Saved.
Saving file to ./foo_n272x978.gct
Dimensions of matrix: [978x272]
Setting precision to 4
Saved.
[ FAIL 0 | WARN 0 | SKIP 0 | PASS 168 ]
>
> proc.time()
user system elapsed
20.424 0.408 20.664
cmapR.Rcheck/cmapR-Ex.timings
| name | user | system | elapsed | |
| GCT | 0.292 | 0.016 | 0.347 | |
| align_matrices | 0.000 | 0.004 | 0.004 | |
| annotate_gct | 0.216 | 0.036 | 0.252 | |
| append_dim | 0.000 | 0.000 | 0.001 | |
| check_colnames | 0.004 | 0.000 | 0.002 | |
| check_dups | 0 | 0 | 0 | |
| distil | 0.004 | 0.000 | 0.001 | |
| extract_gct | 0.076 | 0.000 | 0.077 | |
| fix_datatypes | 0.032 | 0.008 | 0.040 | |
| ids | 0.032 | 0.000 | 0.033 | |
| is.wholenumber | 0 | 0 | 0 | |
| lxb2mat | 0.680 | 0.016 | 0.709 | |
| mat | 0.004 | 0.000 | 0.002 | |
| melt_gct | 2.508 | 0.056 | 2.427 | |
| merge_gct | 0.204 | 0.008 | 0.209 | |
| merge_with_precedence | 0.004 | 0.004 | 0.009 | |
| meta | 0.004 | 0.000 | 0.003 | |
| na_pad_matrix | 0.004 | 0.000 | 0.003 | |
| parse_gctx | 0.348 | 0.000 | 0.350 | |
| parse_gmt | 0.048 | 0.000 | 0.059 | |
| parse_gmx | 0.028 | 0.000 | 0.034 | |
| parse_grp | 0.004 | 0.000 | 0.011 | |
| process_ids | 0.008 | 0.000 | 0.008 | |
| rank_gct | 0.156 | 0.004 | 0.161 | |
| read_gctx_ids | 0.016 | 0.000 | 0.013 | |
| read_gctx_meta | 0.180 | 0.028 | 0.208 | |
| robust_zscore | 0.000 | 0.000 | 0.001 | |
| subset_gct | 0.076 | 0.012 | 0.088 | |
| threshold | 0.000 | 0.000 | 0.001 | |
| transpose_gct | 0.084 | 0.004 | 0.089 | |
| update_gctx | 0 | 0 | 0 | |
| write_gct | 2.032 | 0.024 | 2.064 | |
| write_gctx | 0.340 | 0.004 | 0.346 | |
| write_gctx_meta | 0 | 0 | 0 | |
| write_gmt | 0 | 0 | 0 | |
| write_grp | 0 | 0 | 0 | |
| write_tbl | 0 | 0 | 0 | |