| Back to Multiple platform build/check report for BioC 3.12 |
|
This page was generated on 2021-05-06 12:30:17 -0400 (Thu, 06 May 2021).
|
To the developers/maintainers of the clst package: Please make sure to use the following settings in order to reproduce any error or warning you see on this page. |
| Package 317/1974 | Hostname | OS / Arch | INSTALL | BUILD | CHECK | BUILD BIN | ||||||||
| clst 1.38.0 (landing page) Noah Hoffman
| malbec1 | Linux (Ubuntu 18.04.5 LTS) / x86_64 | OK | OK | WARNINGS | |||||||||
| tokay1 | Windows Server 2012 R2 Standard / x64 | OK | OK | WARNINGS | OK | |||||||||
| merida1 | macOS 10.14.6 Mojave / x86_64 | OK | OK | WARNINGS | OK | |||||||||
| Package: clst |
| Version: 1.38.0 |
| Command: C:\cygwin\bin\curl.exe -O http://172.29.0.3/BBS/3.12/bioc/src/contrib/clst_1.38.0.tar.gz && rm -rf clst.buildbin-libdir && mkdir clst.buildbin-libdir && C:\Users\biocbuild\bbs-3.12-bioc\R\bin\R.exe CMD INSTALL --merge-multiarch --build --library=clst.buildbin-libdir clst_1.38.0.tar.gz && C:\Users\biocbuild\bbs-3.12-bioc\R\bin\R.exe CMD INSTALL clst_1.38.0.zip && rm clst_1.38.0.tar.gz clst_1.38.0.zip |
| StartedAt: 2021-05-05 17:34:30 -0400 (Wed, 05 May 2021) |
| EndedAt: 2021-05-05 17:34:52 -0400 (Wed, 05 May 2021) |
| EllapsedTime: 22.2 seconds |
| RetCode: 0 |
| Status: OK |
##############################################################################
##############################################################################
###
### Running command:
###
### C:\cygwin\bin\curl.exe -O http://172.29.0.3/BBS/3.12/bioc/src/contrib/clst_1.38.0.tar.gz && rm -rf clst.buildbin-libdir && mkdir clst.buildbin-libdir && C:\Users\biocbuild\bbs-3.12-bioc\R\bin\R.exe CMD INSTALL --merge-multiarch --build --library=clst.buildbin-libdir clst_1.38.0.tar.gz && C:\Users\biocbuild\bbs-3.12-bioc\R\bin\R.exe CMD INSTALL clst_1.38.0.zip && rm clst_1.38.0.tar.gz clst_1.38.0.zip
###
##############################################################################
##############################################################################
% Total % Received % Xferd Average Speed Time Time Time Current
Dload Upload Total Spent Left Speed
0 0 0 0 0 0 0 0 --:--:-- --:--:-- --:--:-- 0
100 743k 100 743k 0 0 13.1M 0 --:--:-- --:--:-- --:--:-- 13.4M
install for i386
* installing *source* package 'clst' ...
** using staged installation
** R
** data
*** moving datasets to lazyload DB
** byte-compile and prepare package for lazy loading
** help
*** installing help indices
converting help for package 'clst'
finding HTML links ... done
actino html
bvseqs html
classify html
clst-package html
findThreshold html
plotDistances html
Rd warning: C:/Users/biocbuild/bbs-3.12-bioc/tmpdir/Rtmp48bnJz/R.INSTALL172c272a388d/clst/man/plotDistances.Rd:41: file link 'bwplot' in package 'lattice' does not exist and so has been treated as a topic
printClst html
scaleDistPlot html
strep html
** building package indices
** installing vignettes
** testing if installed package can be loaded from temporary location
** testing if installed package can be loaded from final location
** testing if installed package keeps a record of temporary installation path
install for x64
* installing *source* package 'clst' ...
** testing if installed package can be loaded
* MD5 sums
packaged installation of 'clst' as clst_1.38.0.zip
* DONE (clst)
* installing to library 'C:/Users/biocbuild/bbs-3.12-bioc/R/library'
package 'clst' successfully unpacked and MD5 sums checked