| Back to Multiple platform build/check report for BioC 3.12 |
|
This page was generated on 2021-05-06 12:30:16 -0400 (Thu, 06 May 2021).
|
To the developers/maintainers of the cleanUpdTSeq package: Please make sure to use the following settings in order to reproduce any error or warning you see on this page. |
| Package 309/1974 | Hostname | OS / Arch | INSTALL | BUILD | CHECK | BUILD BIN | ||||||||
| cleanUpdTSeq 1.28.0 (landing page) Jianhong Ou
| malbec1 | Linux (Ubuntu 18.04.5 LTS) / x86_64 | OK | OK | OK | |||||||||
| tokay1 | Windows Server 2012 R2 Standard / x64 | OK | OK | OK | OK | |||||||||
| merida1 | macOS 10.14.6 Mojave / x86_64 | OK | OK | OK | OK | |||||||||
| Package: cleanUpdTSeq |
| Version: 1.28.0 |
| Command: rm -rf cleanUpdTSeq.buildbin-libdir && mkdir cleanUpdTSeq.buildbin-libdir && C:\Users\biocbuild\bbs-3.12-bioc\R\bin\R.exe CMD INSTALL --merge-multiarch --build --library=cleanUpdTSeq.buildbin-libdir cleanUpdTSeq_1.28.0.tar.gz |
| StartedAt: 2021-05-06 08:43:24 -0400 (Thu, 06 May 2021) |
| EndedAt: 2021-05-06 08:44:25 -0400 (Thu, 06 May 2021) |
| EllapsedTime: 61.2 seconds |
| RetCode: 0 |
| Status: OK |
| PackageFile: cleanUpdTSeq_1.28.0.zip |
| PackageFileSize: 3.995 MiB |
##############################################################################
##############################################################################
###
### Running command:
###
### rm -rf cleanUpdTSeq.buildbin-libdir && mkdir cleanUpdTSeq.buildbin-libdir && C:\Users\biocbuild\bbs-3.12-bioc\R\bin\R.exe CMD INSTALL --merge-multiarch --build --library=cleanUpdTSeq.buildbin-libdir cleanUpdTSeq_1.28.0.tar.gz
###
##############################################################################
##############################################################################
install for i386
* installing *source* package 'cleanUpdTSeq' ...
** using staged installation
** R
** data
** inst
** byte-compile and prepare package for lazy loading
** help
*** installing help indices
converting help for package 'cleanUpdTSeq'
finding HTML links ... done
BED2GRangesSeq html
PASclassifier-class html
buildClassifier html
buildFeatureVector html
classifier html
cleanUpdTSeq-package html
data.NaiveBayes html
featureVector-class html
getDownstreamSequence html
getUpstreamSequence html
modelInfo-class html
naiveBayes html
predictTestSet html
** building package indices
** installing vignettes
** testing if installed package can be loaded from temporary location
** testing if installed package can be loaded from final location
** testing if installed package keeps a record of temporary installation path
install for x64
* installing *source* package 'cleanUpdTSeq' ...
** testing if installed package can be loaded
* MD5 sums
packaged installation of 'cleanUpdTSeq' as cleanUpdTSeq_1.28.0.zip
* DONE (cleanUpdTSeq)