| Back to Multiple platform build/check report for BioC 3.12 |
|
This page was generated on 2021-05-06 12:30:14 -0400 (Thu, 06 May 2021).
|
To the developers/maintainers of the chromPlot package: Please make sure to use the following settings in order to reproduce any error or warning you see on this page. |
| Package 297/1974 | Hostname | OS / Arch | INSTALL | BUILD | CHECK | BUILD BIN | ||||||||
| chromPlot 1.18.0 (landing page) Karen Y. Orostica
| malbec1 | Linux (Ubuntu 18.04.5 LTS) / x86_64 | OK | OK | OK | |||||||||
| tokay1 | Windows Server 2012 R2 Standard / x64 | OK | OK | WARNINGS | OK | |||||||||
| merida1 | macOS 10.14.6 Mojave / x86_64 | OK | OK | OK | OK | |||||||||
| Package: chromPlot |
| Version: 1.18.0 |
| Command: rm -rf chromPlot.buildbin-libdir && mkdir chromPlot.buildbin-libdir && C:\Users\biocbuild\bbs-3.12-bioc\R\bin\R.exe CMD INSTALL --merge-multiarch --build --library=chromPlot.buildbin-libdir chromPlot_1.18.0.tar.gz |
| StartedAt: 2021-05-06 08:42:29 -0400 (Thu, 06 May 2021) |
| EndedAt: 2021-05-06 08:43:16 -0400 (Thu, 06 May 2021) |
| EllapsedTime: 46.9 seconds |
| RetCode: 0 |
| Status: OK |
| PackageFile: chromPlot_1.18.0.zip |
| PackageFileSize: 1.5 MiB |
##############################################################################
##############################################################################
###
### Running command:
###
### rm -rf chromPlot.buildbin-libdir && mkdir chromPlot.buildbin-libdir && C:\Users\biocbuild\bbs-3.12-bioc\R\bin\R.exe CMD INSTALL --merge-multiarch --build --library=chromPlot.buildbin-libdir chromPlot_1.18.0.tar.gz
###
##############################################################################
##############################################################################
install for i386
* installing *source* package 'chromPlot' ...
** using staged installation
** R
** data
*** moving datasets to lazyload DB
** inst
** byte-compile and prepare package for lazy loading
Warning: replacing previous import 'grDevices::windows' by 'GenomicRanges::windows' when loading 'chromPlot'
** help
*** installing help indices
converting help for package 'chromPlot'
finding HTML links ... done
chromPlot-package html
chromPlot html
hg_cytoBandIdeo html
hg_gap html
mm10_cytoBandIdeo html
mm10_gap html
** building package indices
** installing vignettes
** testing if installed package can be loaded from temporary location
Warning: replacing previous import 'grDevices::windows' by 'GenomicRanges::windows' when loading 'chromPlot'
** testing if installed package can be loaded from final location
Warning: replacing previous import 'grDevices::windows' by 'GenomicRanges::windows' when loading 'chromPlot'
** testing if installed package keeps a record of temporary installation path
install for x64
* installing *source* package 'chromPlot' ...
** testing if installed package can be loaded
Warning: replacing previous import 'grDevices::windows' by 'GenomicRanges::windows' when loading 'chromPlot'
* MD5 sums
packaged installation of 'chromPlot' as chromPlot_1.18.0.zip
* DONE (chromPlot)