| Back to Multiple platform build/check report for BioC 3.12 |
|
This page was generated on 2021-05-06 12:30:13 -0400 (Thu, 06 May 2021).
|
To the developers/maintainers of the chipseq package: Please make sure to use the following settings in order to reproduce any error or warning you see on this page. |
| Package 289/1974 | Hostname | OS / Arch | INSTALL | BUILD | CHECK | BUILD BIN | ||||||||
| chipseq 1.40.0 (landing page) Bioconductor Package Maintainer
| malbec1 | Linux (Ubuntu 18.04.5 LTS) / x86_64 | OK | OK | WARNINGS | |||||||||
| tokay1 | Windows Server 2012 R2 Standard / x64 | OK | OK | WARNINGS | OK | |||||||||
| merida1 | macOS 10.14.6 Mojave / x86_64 | OK | OK | WARNINGS | OK | |||||||||
| Package: chipseq |
| Version: 1.40.0 |
| Command: C:\cygwin\bin\curl.exe -O http://172.29.0.3/BBS/3.12/bioc/src/contrib/chipseq_1.40.0.tar.gz && rm -rf chipseq.buildbin-libdir && mkdir chipseq.buildbin-libdir && C:\Users\biocbuild\bbs-3.12-bioc\R\bin\R.exe CMD INSTALL --merge-multiarch --build --library=chipseq.buildbin-libdir chipseq_1.40.0.tar.gz && C:\Users\biocbuild\bbs-3.12-bioc\R\bin\R.exe CMD INSTALL chipseq_1.40.0.zip && rm chipseq_1.40.0.tar.gz chipseq_1.40.0.zip |
| StartedAt: 2021-05-05 17:43:26 -0400 (Wed, 05 May 2021) |
| EndedAt: 2021-05-05 17:44:33 -0400 (Wed, 05 May 2021) |
| EllapsedTime: 67.1 seconds |
| RetCode: 0 |
| Status: OK |
##############################################################################
##############################################################################
###
### Running command:
###
### C:\cygwin\bin\curl.exe -O http://172.29.0.3/BBS/3.12/bioc/src/contrib/chipseq_1.40.0.tar.gz && rm -rf chipseq.buildbin-libdir && mkdir chipseq.buildbin-libdir && C:\Users\biocbuild\bbs-3.12-bioc\R\bin\R.exe CMD INSTALL --merge-multiarch --build --library=chipseq.buildbin-libdir chipseq_1.40.0.tar.gz && C:\Users\biocbuild\bbs-3.12-bioc\R\bin\R.exe CMD INSTALL chipseq_1.40.0.zip && rm chipseq_1.40.0.tar.gz chipseq_1.40.0.zip
###
##############################################################################
##############################################################################
% Total % Received % Xferd Average Speed Time Time Time Current
Dload Upload Total Spent Left Speed
0 0 0 0 0 0 0 0 --:--:-- --:--:-- --:--:-- 0
100 1706k 100 1706k 0 0 41.3M 0 --:--:-- --:--:-- --:--:-- 42.7M
install for i386
* installing *source* package 'chipseq' ...
** using staged installation
** libs
"C:/rtools40/mingw32/bin/"gcc -I"C:/Users/BIOCBU~1/BBS-3~1.12-/R/include" -DNDEBUG -I"C:/extsoft/include" -O2 -Wall -std=gnu99 -mfpmath=sse -msse2 -mstackrealign -c rlesumprod.c -o rlesumprod.o
C:/rtools40/mingw32/bin/gcc -shared -s -static-libgcc -o chipseq.dll tmp.def rlesumprod.o -LC:/extsoft/lib/i386 -LC:/extsoft/lib -LC:/Users/BIOCBU~1/BBS-3~1.12-/R/bin/i386 -lR
installing to C:/Users/biocbuild/bbs-3.12-bioc/meat/chipseq.buildbin-libdir/00LOCK-chipseq/00new/chipseq/libs/i386
** R
** data
** inst
** byte-compile and prepare package for lazy loading
** help
*** installing help indices
converting help for package 'chipseq'
finding HTML links ... done
chipseqFilter html
coverageplot html
cstest html
diffPeakSummary html
estimate.mean.fraglen html
Rd warning: C:/Users/biocbuild/bbs-3.12-bioc/tmpdir/RtmpsT8ePg/R.INSTALL1ed81a5c4e1e/chipseq/man/estimate.mean.fraglen.Rd:48: file link 'GRanges' in package 'GenomicRanges' does not exist and so has been treated as a topic
islandDepthPlot html
Rd warning: C:/Users/biocbuild/bbs-3.12-bioc/tmpdir/RtmpsT8ePg/R.INSTALL1ed81a5c4e1e/chipseq/man/islandDepthPlot.Rd:17: file link 'RleList-class' in package 'IRanges' does not exist and so has been treated as a topic
laneSubsample html
peakCutoff html
Rd warning: C:/Users/biocbuild/bbs-3.12-bioc/tmpdir/RtmpsT8ePg/R.INSTALL1ed81a5c4e1e/chipseq/man/peakCutoff.Rd:17: file link 'RleList-class' in package 'IRanges' does not exist and so has been treated as a topic
peakSummary-methods html
subsetSummary html
** building package indices
** installing vignettes
** testing if installed package can be loaded from temporary location
** testing if installed package can be loaded from final location
** testing if installed package keeps a record of temporary installation path
install for x64
* installing *source* package 'chipseq' ...
** libs
"C:/rtools40/mingw64/bin/"gcc -I"C:/Users/BIOCBU~1/BBS-3~1.12-/R/include" -DNDEBUG -I"C:/extsoft/include" -O2 -Wall -std=gnu99 -mfpmath=sse -msse2 -mstackrealign -c rlesumprod.c -o rlesumprod.o
C:/rtools40/mingw64/bin/gcc -shared -s -static-libgcc -o chipseq.dll tmp.def rlesumprod.o -LC:/extsoft/lib/x64 -LC:/extsoft/lib -LC:/Users/BIOCBU~1/BBS-3~1.12-/R/bin/x64 -lR
installing to C:/Users/biocbuild/bbs-3.12-bioc/meat/chipseq.buildbin-libdir/chipseq/libs/x64
** testing if installed package can be loaded
* MD5 sums
packaged installation of 'chipseq' as chipseq_1.40.0.zip
* DONE (chipseq)
* installing to library 'C:/Users/biocbuild/bbs-3.12-bioc/R/library'
package 'chipseq' successfully unpacked and MD5 sums checked