| Back to Multiple platform build/check report for BioC 3.12 |
|
This page was generated on 2021-05-06 12:34:30 -0400 (Thu, 06 May 2021).
|
To the developers/maintainers of the cfDNAPro package: Please make sure to use the following settings in order to reproduce any error or warning you see on this page. |
| Package 266/1974 | Hostname | OS / Arch | INSTALL | BUILD | CHECK | BUILD BIN | ||||||||
| cfDNAPro 1.0.0 (landing page) Haichao Wang
| malbec1 | Linux (Ubuntu 18.04.5 LTS) / x86_64 | OK | OK | OK | |||||||||
| tokay1 | Windows Server 2012 R2 Standard / x64 | OK | OK | OK | OK | |||||||||
| merida1 | macOS 10.14.6 Mojave / x86_64 | OK | OK | OK | OK | |||||||||
| Package: cfDNAPro |
| Version: 1.0.0 |
| Command: /Library/Frameworks/R.framework/Versions/Current/Resources/bin/R CMD check --install=check:cfDNAPro.install-out.txt --library=/Library/Frameworks/R.framework/Versions/Current/Resources/library --no-vignettes --timings cfDNAPro_1.0.0.tar.gz |
| StartedAt: 2021-05-06 00:06:38 -0400 (Thu, 06 May 2021) |
| EndedAt: 2021-05-06 00:09:14 -0400 (Thu, 06 May 2021) |
| EllapsedTime: 155.9 seconds |
| RetCode: 0 |
| Status: OK |
| CheckDir: cfDNAPro.Rcheck |
| Warnings: 0 |
############################################################################## ############################################################################## ### ### Running command: ### ### /Library/Frameworks/R.framework/Versions/Current/Resources/bin/R CMD check --install=check:cfDNAPro.install-out.txt --library=/Library/Frameworks/R.framework/Versions/Current/Resources/library --no-vignettes --timings cfDNAPro_1.0.0.tar.gz ### ############################################################################## ############################################################################## * using log directory ‘/Users/biocbuild/bbs-3.12-bioc/meat/cfDNAPro.Rcheck’ * using R version 4.0.5 (2021-03-31) * using platform: x86_64-apple-darwin17.0 (64-bit) * using session charset: UTF-8 * using option ‘--no-vignettes’ * checking for file ‘cfDNAPro/DESCRIPTION’ ... OK * checking extension type ... Package * this is package ‘cfDNAPro’ version ‘1.0.0’ * package encoding: UTF-8 * checking package namespace information ... OK * checking package dependencies ... OK * checking if this is a source package ... OK * checking if there is a namespace ... OK * checking for hidden files and directories ... OK * checking for portable file names ... OK * checking for sufficient/correct file permissions ... OK * checking whether package ‘cfDNAPro’ can be installed ... OK * checking installed package size ... OK * checking package directory ... OK * checking ‘build’ directory ... OK * checking DESCRIPTION meta-information ... OK * checking top-level files ... OK * checking for left-over files ... OK * checking index information ... OK * checking package subdirectories ... OK * checking R files for non-ASCII characters ... OK * checking R files for syntax errors ... OK * checking whether the package can be loaded ... OK * checking whether the package can be loaded with stated dependencies ... OK * checking whether the package can be unloaded cleanly ... OK * checking whether the namespace can be loaded with stated dependencies ... OK * checking whether the namespace can be unloaded cleanly ... OK * checking dependencies in R code ... OK * checking S3 generic/method consistency ... OK * checking replacement functions ... OK * checking foreign function calls ... OK * checking R code for possible problems ... OK * checking Rd files ... OK * checking Rd metadata ... OK * checking Rd cross-references ... OK * checking for missing documentation entries ... OK * checking for code/documentation mismatches ... OK * checking Rd \usage sections ... OK * checking Rd contents ... OK * checking for unstated dependencies in examples ... OK * checking files in ‘vignettes’ ... OK * checking examples ... OK * checking for unstated dependencies in ‘tests’ ... OK * checking tests ... Running ‘testthat.R’ OK * checking for unstated dependencies in vignettes ... OK * checking package vignettes in ‘inst/doc’ ... OK * checking running R code from vignettes ... SKIPPED * checking re-building of vignette outputs ... SKIPPED * checking PDF version of manual ... OK * DONE Status: OK
cfDNAPro.Rcheck/00install.out
############################################################################## ############################################################################## ### ### Running command: ### ### /Library/Frameworks/R.framework/Versions/Current/Resources/bin/R CMD INSTALL cfDNAPro ### ############################################################################## ############################################################################## * installing to library ‘/Library/Frameworks/R.framework/Versions/4.0/Resources/library’ * installing *source* package ‘cfDNAPro’ ... ** using staged installation ** R ** inst ** byte-compile and prepare package for lazy loading ** help *** installing help indices ** building package indices ** installing vignettes ** testing if installed package can be loaded from temporary location ** testing if installed package can be loaded from final location ** testing if installed package keeps a record of temporary installation path * DONE (cfDNAPro)
cfDNAPro.Rcheck/tests/testthat.Rout
R version 4.0.5 (2021-03-31) -- "Shake and Throw"
Copyright (C) 2021 The R Foundation for Statistical Computing
Platform: x86_64-apple-darwin17.0 (64-bit)
R is free software and comes with ABSOLUTELY NO WARRANTY.
You are welcome to redistribute it under certain conditions.
Type 'license()' or 'licence()' for distribution details.
R is a collaborative project with many contributors.
Type 'contributors()' for more information and
'citation()' on how to cite R or R packages in publications.
Type 'demo()' for some demos, 'help()' for on-line help, or
'help.start()' for an HTML browser interface to help.
Type 'q()' to quit R.
> library(testthat)
> library(cfDNAPro)
Loading required package: magrittr
Attaching package: 'magrittr'
The following objects are masked from 'package:testthat':
equals, is_less_than, not
>
> test_check("cfDNAPro")
setting default input_type to picard.
setting default outfmt to df.
setting default input_type to picard.
setting default input_type to picard.
setting default limit to c(35,135).
setting default outfmt to df.
setting the mincount to 0.
setting default input_type to picard.
setting default limit to c(35,135).
setting default outfmt to df.
Setting default mincount to 0.
setting default input_type to picard.
setting default input_type to picard.
setting default outfmt to df.
setting default input_type to picard.
setting default input_type to picard.
setting default limit to c(35,135).
setting default outfmt to df.
setting the mincount to 0.
setting default input_type to picard.
setting default limit to c(35,135).
setting default outfmt to df.
Setting default mincount to 0.
setting default input_type to picard.
setting default mincount as 0.
setting default horizontal lines: y = 81, 112, 170.
setting the mincount to 0.
setting the xlim to c(7,13).
setting the mincount to 0.
setting the xlim to c(7,13).
[ FAIL 0 | WARN 0 | SKIP 0 | PASS 13 ]
>
> proc.time()
user system elapsed
13.244 0.473 13.714
cfDNAPro.Rcheck/cfDNAPro-Ex.timings
| name | user | system | elapsed | |
| callMetrics | 1.918 | 0.114 | 2.037 | |
| callMode | 0.361 | 0.005 | 0.366 | |
| callPeakDistance | 0.517 | 0.009 | 0.527 | |
| callSize | 0.403 | 0.004 | 0.407 | |
| callValleyDistance | 0.564 | 0.006 | 0.571 | |
| examplePath | 0.002 | 0.001 | 0.002 | |
| plotAllToOne | 0.501 | 0.008 | 0.509 | |
| plotMetrics | 1.618 | 0.008 | 1.628 | |
| plotMode | 0.476 | 0.005 | 0.480 | |
| plotModesummary | 0.362 | 0.003 | 0.365 | |
| plotPeakDistance | 0.599 | 0.005 | 0.604 | |
| plotSinglegroup | 1.505 | 0.008 | 1.530 | |
| plotValleyDistance | 0.632 | 0.006 | 0.638 | |