| Back to Multiple platform build/check report for BioC 3.12 |
|
This page was generated on 2021-05-06 12:27:04 -0400 (Thu, 06 May 2021).
|
To the developers/maintainers of the cellbaseR package: Please make sure to use the following settings in order to reproduce any error or warning you see on this page. |
| Package 250/1974 | Hostname | OS / Arch | INSTALL | BUILD | CHECK | BUILD BIN | ||||||||
| cellbaseR 1.14.0 (landing page) Mohammed OE Abdallah
| malbec1 | Linux (Ubuntu 18.04.5 LTS) / x86_64 | OK | OK | OK | |||||||||
| tokay1 | Windows Server 2012 R2 Standard / x64 | OK | OK | WARNINGS | OK | |||||||||
| merida1 | macOS 10.14.6 Mojave / x86_64 | OK | OK | OK | OK | |||||||||
| Package: cellbaseR |
| Version: 1.14.0 |
| Command: /home/biocbuild/bbs-3.12-bioc/R/bin/R CMD check --install=check:cellbaseR.install-out.txt --library=/home/biocbuild/bbs-3.12-bioc/R/library --no-vignettes --timings cellbaseR_1.14.0.tar.gz |
| StartedAt: 2021-05-05 23:49:27 -0400 (Wed, 05 May 2021) |
| EndedAt: 2021-05-05 23:51:55 -0400 (Wed, 05 May 2021) |
| EllapsedTime: 147.9 seconds |
| RetCode: 0 |
| Status: OK |
| CheckDir: cellbaseR.Rcheck |
| Warnings: 0 |
##############################################################################
##############################################################################
###
### Running command:
###
### /home/biocbuild/bbs-3.12-bioc/R/bin/R CMD check --install=check:cellbaseR.install-out.txt --library=/home/biocbuild/bbs-3.12-bioc/R/library --no-vignettes --timings cellbaseR_1.14.0.tar.gz
###
##############################################################################
##############################################################################
* using log directory ‘/home/biocbuild/bbs-3.12-bioc/meat/cellbaseR.Rcheck’
* using R version 4.0.5 (2021-03-31)
* using platform: x86_64-pc-linux-gnu (64-bit)
* using session charset: UTF-8
* using option ‘--no-vignettes’
* checking for file ‘cellbaseR/DESCRIPTION’ ... OK
* checking extension type ... Package
* this is package ‘cellbaseR’ version ‘1.14.0’
* checking package namespace information ... OK
* checking package dependencies ... OK
* checking if this is a source package ... OK
* checking if there is a namespace ... OK
* checking for hidden files and directories ... OK
* checking for portable file names ... OK
* checking for sufficient/correct file permissions ... OK
* checking whether package ‘cellbaseR’ can be installed ... OK
* checking installed package size ... OK
* checking package directory ... OK
* checking ‘build’ directory ... OK
* checking DESCRIPTION meta-information ... OK
* checking top-level files ... OK
* checking for left-over files ... OK
* checking index information ... OK
* checking package subdirectories ... OK
* checking R files for non-ASCII characters ... OK
* checking R files for syntax errors ... OK
* checking whether the package can be loaded ... OK
* checking whether the package can be loaded with stated dependencies ... OK
* checking whether the package can be unloaded cleanly ... OK
* checking whether the namespace can be loaded with stated dependencies ... OK
* checking whether the namespace can be unloaded cleanly ... OK
* checking dependencies in R code ... OK
* checking S3 generic/method consistency ... OK
* checking replacement functions ... OK
* checking foreign function calls ... OK
* checking R code for possible problems ... OK
* checking Rd files ... OK
* checking Rd metadata ... OK
* checking Rd cross-references ... OK
* checking for missing documentation entries ... OK
* checking for code/documentation mismatches ... OK
* checking Rd \usage sections ... OK
* checking Rd contents ... OK
* checking for unstated dependencies in examples ... OK
* checking files in ‘vignettes’ ... OK
* checking examples ... OK
Examples with CPU (user + system) or elapsed time > 5s
user system elapsed
AnnotateVcf-CellBaseR-method 7.54 2.056 9.495
* checking for unstated dependencies in vignettes ... OK
* checking package vignettes in ‘inst/doc’ ... OK
* checking running R code from vignettes ... SKIPPED
* checking re-building of vignette outputs ... SKIPPED
* checking PDF version of manual ... OK
* DONE
Status: OK
cellbaseR.Rcheck/00install.out
############################################################################## ############################################################################## ### ### Running command: ### ### /home/biocbuild/bbs-3.12-bioc/R/bin/R CMD INSTALL cellbaseR ### ############################################################################## ############################################################################## * installing to library ‘/home/biocbuild/bbs-3.12-bioc/R/library’ * installing *source* package ‘cellbaseR’ ... ** using staged installation ** R ** inst ** byte-compile and prepare package for lazy loading ** help *** installing help indices ** building package indices ** installing vignettes ** testing if installed package can be loaded from temporary location ** testing if installed package can be loaded from final location ** testing if installed package keeps a record of temporary installation path * DONE (cellbaseR)
cellbaseR.Rcheck/cellbaseR-Ex.timings
| name | user | system | elapsed | |
| AnnotateVcf-CellBaseR-method | 7.540 | 2.056 | 9.495 | |
| CellBaseParam | 0.004 | 0.000 | 0.003 | |
| CellBaseR | 0.044 | 0.000 | 0.345 | |
| createGeneModel | 0.180 | 0.008 | 0.810 | |
| getCaddScores | 0.056 | 0.000 | 0.548 | |
| getCellBase-CellBaseR-method | 0.064 | 0.000 | 0.566 | |
| getCellBaseResourceHelp | 0.348 | 0.016 | 0.954 | |
| getChromosomeInfo-CellBaseR-method | 0.056 | 0.004 | 0.547 | |
| getClinical-CellBaseR-method | 0.792 | 0.024 | 1.639 | |
| getClinicalByRegion | 1.668 | 0.004 | 2.947 | |
| getConservationByRegion | 0.100 | 0.004 | 0.842 | |
| getGene-CellBaseR-method | 0.480 | 0.000 | 1.213 | |
| getGeneInfo | 0.052 | 0.000 | 0.550 | |
| getMeta-CellBaseR-method | 0.080 | 0.000 | 0.584 | |
| getProtein-CellBaseR-method | 0.160 | 0.000 | 0.751 | |
| getProteinInfo | 0.156 | 0.000 | 0.749 | |
| getRegion-CellBaseR-method | 0.140 | 0.000 | 0.869 | |
| getRegulatoryByRegion | 0.176 | 0.000 | 1.035 | |
| getSnp-CellBaseR-method | 0.088 | 0.000 | 0.636 | |
| getSnpByGene | 0.092 | 0.000 | 0.595 | |
| getTf-CellBaseR-method | 0.064 | 0.004 | 2.890 | |
| getTfbsByRegion | 0.088 | 0.000 | 0.613 | |
| getTranscript-CellBaseR-method | 0.064 | 0.000 | 0.561 | |
| getTranscriptByGene | 0.064 | 0.000 | 0.561 | |
| getVariant-CellBaseR-method | 0.180 | 0.000 | 0.843 | |
| getVariantAnnotation | 0.160 | 0.000 | 0.812 | |
| getXref-CellBaseR-method | 0.064 | 0.000 | 0.553 | |