| Back to Multiple platform build/check report for BioC 3.12 |
|
This page was generated on 2021-05-06 12:30:08 -0400 (Thu, 06 May 2021).
|
To the developers/maintainers of the cbaf package: Please make sure to use the following settings in order to reproduce any error or warning you see on this page. |
| Package 241/1974 | Hostname | OS / Arch | INSTALL | BUILD | CHECK | BUILD BIN | ||||||||
| cbaf 1.12.1 (landing page) Arman Shahrisa
| malbec1 | Linux (Ubuntu 18.04.5 LTS) / x86_64 | OK | OK | OK | |||||||||
| tokay1 | Windows Server 2012 R2 Standard / x64 | OK | OK | OK | OK | |||||||||
| merida1 | macOS 10.14.6 Mojave / x86_64 | OK | OK | OK | OK | |||||||||
| Package: cbaf |
| Version: 1.12.1 |
| Command: rm -rf cbaf.buildbin-libdir && mkdir cbaf.buildbin-libdir && C:\Users\biocbuild\bbs-3.12-bioc\R\bin\R.exe --arch x64 CMD INSTALL --no-multiarch --build --library=cbaf.buildbin-libdir cbaf_1.12.1.tar.gz |
| StartedAt: 2021-05-06 08:38:12 -0400 (Thu, 06 May 2021) |
| EndedAt: 2021-05-06 08:38:42 -0400 (Thu, 06 May 2021) |
| EllapsedTime: 30.4 seconds |
| RetCode: 0 |
| Status: OK |
| PackageFile: cbaf_1.12.1.zip |
| PackageFileSize: 905.6 KiB |
##############################################################################
##############################################################################
###
### Running command:
###
### rm -rf cbaf.buildbin-libdir && mkdir cbaf.buildbin-libdir && C:\Users\biocbuild\bbs-3.12-bioc\R\bin\R.exe --arch x64 CMD INSTALL --no-multiarch --build --library=cbaf.buildbin-libdir cbaf_1.12.1.tar.gz
###
##############################################################################
##############################################################################
* installing *source* package 'cbaf' ...
** using staged installation
** R
** inst
** byte-compile and prepare package for lazy loading
** help
*** installing help indices
converting help for package 'cbaf'
finding HTML links ... done
automatedStatistics html
availableData html
cleanDatabase html
heatmapOutput html
obtainMultipleStudies html
obtainOneStudy html
processMultipleStudies html
processOneStudy html
xlsxOutput html
** building package indices
** installing vignettes
** testing if installed package can be loaded from temporary location
** testing if installed package can be loaded from final location
** testing if installed package keeps a record of temporary installation path
* MD5 sums
packaged installation of 'cbaf' as cbaf_1.12.1.zip
* DONE (cbaf)