| Back to Multiple platform build/check report for BioC 3.12 |
|
This page was generated on 2021-05-06 12:30:08 -0400 (Thu, 06 May 2021).
|
To the developers/maintainers of the categoryCompare package: Please make sure to use the following settings in order to reproduce any error or warning you see on this page. |
| Package 239/1974 | Hostname | OS / Arch | INSTALL | BUILD | CHECK | BUILD BIN | ||||||||
| categoryCompare 1.34.0 (landing page) Robert M. Flight
| malbec1 | Linux (Ubuntu 18.04.5 LTS) / x86_64 | OK | OK | OK | |||||||||
| tokay1 | Windows Server 2012 R2 Standard / x64 | OK | OK | OK | OK | |||||||||
| merida1 | macOS 10.14.6 Mojave / x86_64 | OK | OK | OK | OK | |||||||||
| Package: categoryCompare |
| Version: 1.34.0 |
| Command: rm -rf categoryCompare.buildbin-libdir && mkdir categoryCompare.buildbin-libdir && C:\Users\biocbuild\bbs-3.12-bioc\R\bin\R.exe CMD INSTALL --merge-multiarch --build --library=categoryCompare.buildbin-libdir categoryCompare_1.34.0.tar.gz |
| StartedAt: 2021-05-06 08:38:03 -0400 (Thu, 06 May 2021) |
| EndedAt: 2021-05-06 08:39:20 -0400 (Thu, 06 May 2021) |
| EllapsedTime: 76.6 seconds |
| RetCode: 0 |
| Status: OK |
| PackageFile: categoryCompare_1.34.0.zip |
| PackageFileSize: 2.331 MiB |
##############################################################################
##############################################################################
###
### Running command:
###
### rm -rf categoryCompare.buildbin-libdir && mkdir categoryCompare.buildbin-libdir && C:\Users\biocbuild\bbs-3.12-bioc\R\bin\R.exe CMD INSTALL --merge-multiarch --build --library=categoryCompare.buildbin-libdir categoryCompare_1.34.0.tar.gz
###
##############################################################################
##############################################################################
install for i386
* installing *source* package 'categoryCompare' ...
** using staged installation
** R
** data
** inst
** byte-compile and prepare package for lazy loading
Note: ... may be used in an incorrect context
** help
*** installing help indices
converting help for package 'categoryCompare'
finding HTML links ... done
GENccEnrichResult-class html
finding level-2 HTML links ... done
HyperGParamsCC-class html
HyperGResultCC-class html
breakEdges-methods html
categoryCompare-package html
ccCompare html
ccCompareCollection-class html
ccCompareGeneric-methods html
ccCompareResult-class html
ccData html
ccEnrich html
ccEnrichCollection-class html
ccEnrichResult-class html
ccGeneList-class html
ccOptions-class html
ccOutCyt-methods html
ccSigList-class html
cwReload-methods html
cytOutData-methods html
cytOutNodes-methods html
fdr html
getGeneSymbol html
graphType-methods html
hyperGTestCC html
listNames html
mergeLists-methods html
mergedData-class html
minCount html
minNodes html
pvalueType html
resetColors-methods html
show-methods html
** building package indices
** installing vignettes
** testing if installed package can be loaded from temporary location
** testing if installed package can be loaded from final location
** testing if installed package keeps a record of temporary installation path
install for x64
* installing *source* package 'categoryCompare' ...
** testing if installed package can be loaded
* MD5 sums
packaged installation of 'categoryCompare' as categoryCompare_1.34.0.zip
* DONE (categoryCompare)