| Back to Multiple platform build/check report for BioC 3.12 |
|
This page was generated on 2021-05-06 12:30:06 -0400 (Thu, 06 May 2021).
|
To the developers/maintainers of the canceR package: Please make sure to use the following settings in order to reproduce any error or warning you see on this page. |
| Package 227/1974 | Hostname | OS / Arch | INSTALL | BUILD | CHECK | BUILD BIN | ||||||||
| canceR 1.24.0 (landing page) Karim Mezhoud
| malbec1 | Linux (Ubuntu 18.04.5 LTS) / x86_64 | OK | OK | OK | |||||||||
| tokay1 | Windows Server 2012 R2 Standard / x64 | OK | OK | OK | OK | |||||||||
| merida1 | macOS 10.14.6 Mojave / x86_64 | OK | OK | OK | OK | |||||||||
| Package: canceR |
| Version: 1.24.0 |
| Command: chmod a+r canceR -R && C:\Users\biocbuild\bbs-3.12-bioc\R\bin\R.exe CMD build --keep-empty-dirs --no-resave-data canceR |
| StartedAt: 2021-05-05 20:00:05 -0400 (Wed, 05 May 2021) |
| EndedAt: 2021-05-05 20:00:15 -0400 (Wed, 05 May 2021) |
| EllapsedTime: 9.8 seconds |
| RetCode: 0 |
| Status: OK |
| PackageFile: canceR_1.24.0.tar.gz |
| PackageFileSize: 28.38 MiB |
############################################################################## ############################################################################## ### ### Running command: ### ### chmod a+r canceR -R && C:\Users\biocbuild\bbs-3.12-bioc\R\bin\R.exe CMD build --keep-empty-dirs --no-resave-data canceR ### ############################################################################## ############################################################################## * checking for file 'canceR/DESCRIPTION' ... OK * preparing 'canceR': * checking DESCRIPTION meta-information ... OK * checking for LF line-endings in source and make files and shell scripts * checking for empty or unneeded directories * building 'canceR_1.24.0.tar.gz'