| Back to Multiple platform build/check report for BioC 3.12 |
|
This page was generated on 2021-05-06 12:30:33 -0400 (Thu, 06 May 2021).
|
To the developers/maintainers of the cTRAP package: Please make sure to use the following settings in order to reproduce any error or warning you see on this page. |
| Package 407/1974 | Hostname | OS / Arch | INSTALL | BUILD | CHECK | BUILD BIN | ||||||||
| cTRAP 1.8.0 (landing page) Nuno Saraiva-Agostinho
| malbec1 | Linux (Ubuntu 18.04.5 LTS) / x86_64 | OK | OK | OK | |||||||||
| tokay1 | Windows Server 2012 R2 Standard / x64 | OK | OK | OK | OK | |||||||||
| merida1 | macOS 10.14.6 Mojave / x86_64 | OK | OK | OK | OK | |||||||||
| Package: cTRAP |
| Version: 1.8.0 |
| Command: rm -rf cTRAP.buildbin-libdir && mkdir cTRAP.buildbin-libdir && C:\Users\biocbuild\bbs-3.12-bioc\R\bin\R.exe CMD INSTALL --merge-multiarch --build --library=cTRAP.buildbin-libdir cTRAP_1.8.0.tar.gz |
| StartedAt: 2021-05-06 08:50:10 -0400 (Thu, 06 May 2021) |
| EndedAt: 2021-05-06 08:51:27 -0400 (Thu, 06 May 2021) |
| EllapsedTime: 77.7 seconds |
| RetCode: 0 |
| Status: OK |
| PackageFile: cTRAP_1.8.0.zip |
| PackageFileSize: 5.055 MiB |
##############################################################################
##############################################################################
###
### Running command:
###
### rm -rf cTRAP.buildbin-libdir && mkdir cTRAP.buildbin-libdir && C:\Users\biocbuild\bbs-3.12-bioc\R\bin\R.exe CMD INSTALL --merge-multiarch --build --library=cTRAP.buildbin-libdir cTRAP_1.8.0.tar.gz
###
##############################################################################
##############################################################################
install for i386
* installing *source* package 'cTRAP' ...
** using staged installation
** R
** data
*** moving datasets to lazyload DB
** inst
** byte-compile and prepare package for lazy loading
** help
*** installing help indices
converting help for package 'cTRAP'
finding HTML links ... done
ENCODEmetadata html
GCT-class html
analyseDrugSetEnrichment html
as.table.referenceComparison html
cTRAP html
calculateCellLineMean html
checkColnames html
chunkVector html
closeOpenHandles html
cmapMetadata html
cmapPerturbationsCompounds html
cmapPerturbationsKD html
compareAgainstReference html
compareAgainstReferencePerMethod html
compareQuantile html
convertENSEMBLtoGeneSymbols html
correlateAgainstReference html
counts html
diffExprStat html
dot-plotBubbles html
dot-prepareNavPage html
downloadENCODEknockdownMetadata html
downloadIfNotFound html
filterCMapMetadata html
findIntersectingCompounds html
fix.datatypes html
getCMapConditions html
getCMapPerturbationTypes html
getENCODEcontrols html
launchCMapDataLoader html
launchDiffExprLoader html
launchMetadataViewer html
launchResultPlotter html
listExpressionDrugSensitivityAssociation
html
loadCMapData html
loadCMapZscores html
loadCTRPgeneExpression html
loadDrugDescriptors html
loadENCODEsample html
loadENCODEsamples html
loadExpressionDrugSensitivityAssociation
html
loadNCI60drugSensitivity html
matchStatsWithDrugSetsID html
parseCMapID html
performDifferentialExpression html
performGSEA html
performGSEAagainstReference html
plot.perturbationChanges html
plot.referenceComparison html
plotDrugSetEnrichment html
plotESplot html
plotGSEA html
plotMetricDistribution html
plotSingleCorr html
plotTargetingDrugsVSsimilarPerturbations
html
predictTargetingDrugs html
prepareCMapPerturbations html
prepareDrugSets html
prepareENCODEgeneExpression html
prepareExpressionDrugSensitivityAssociation
html
prepareGSEAgenesets html
print.similarPerturbations html
processByChunks html
processIds html
rankColumns html
rankSimilarPerturbations html
readGctxIds html
readGctxMeta html
stripStr html
subsetToIds html
** building package indices
** installing vignettes
** testing if installed package can be loaded from temporary location
** testing if installed package can be loaded from final location
** testing if installed package keeps a record of temporary installation path
install for x64
* installing *source* package 'cTRAP' ...
** testing if installed package can be loaded
* MD5 sums
packaged installation of 'cTRAP' as cTRAP_1.8.0.zip
* DONE (cTRAP)