| Back to Multiple platform build/check report for BioC 3.12 |
|
This page was generated on 2021-05-06 12:30:03 -0400 (Thu, 06 May 2021).
|
To the developers/maintainers of the biotmle package: Please make sure to use the following settings in order to reproduce any error or warning you see on this page. |
| Package 189/1974 | Hostname | OS / Arch | INSTALL | BUILD | CHECK | BUILD BIN | ||||||||
| biotmle 1.14.0 (landing page) Nima Hejazi
| malbec1 | Linux (Ubuntu 18.04.5 LTS) / x86_64 | OK | OK | WARNINGS | |||||||||
| tokay1 | Windows Server 2012 R2 Standard / x64 | OK | OK | WARNINGS | OK | |||||||||
| merida1 | macOS 10.14.6 Mojave / x86_64 | OK | OK | WARNINGS | OK | |||||||||
| Package: biotmle |
| Version: 1.14.0 |
| Command: rm -rf biotmle.buildbin-libdir && mkdir biotmle.buildbin-libdir && C:\Users\biocbuild\bbs-3.12-bioc\R\bin\R.exe CMD INSTALL --merge-multiarch --build --library=biotmle.buildbin-libdir biotmle_1.14.0.tar.gz |
| StartedAt: 2021-05-06 08:34:28 -0400 (Thu, 06 May 2021) |
| EndedAt: 2021-05-06 08:35:18 -0400 (Thu, 06 May 2021) |
| EllapsedTime: 49.6 seconds |
| RetCode: 0 |
| Status: OK |
| PackageFile: biotmle_1.14.0.zip |
| PackageFileSize: 339.6 KiB |
##############################################################################
##############################################################################
###
### Running command:
###
### rm -rf biotmle.buildbin-libdir && mkdir biotmle.buildbin-libdir && C:\Users\biocbuild\bbs-3.12-bioc\R\bin\R.exe CMD INSTALL --merge-multiarch --build --library=biotmle.buildbin-libdir biotmle_1.14.0.tar.gz
###
##############################################################################
##############################################################################
install for i386
* installing *source* package 'biotmle' ...
** using staged installation
** R
** inst
** byte-compile and prepare package for lazy loading
Warning in .recacheSubclasses(def@className, def, env) :
undefined subclass "numericVector" of class "Mnumeric"; definition not updated
** help
*** installing help indices
converting help for package 'biotmle'
finding HTML links ... done
bioTMLE-class html
biomarkertmle html
Rd warning: C:/Users/biocbuild/bbs-3.12-bioc/tmpdir/Rtmp0kHc5L/R.INSTALL41042fee1699/biotmle/man/biomarkertmle.Rd:52: file link 'BiocParallelParam' in package 'BiocParallel' does not exist and so has been treated as a topic
Rd warning: C:/Users/biocbuild/bbs-3.12-bioc/tmpdir/Rtmp0kHc5L/R.INSTALL41042fee1699/biotmle/man/biomarkertmle.Rd:54: file link 'DoparParam' in package 'BiocParallel' does not exist and so has been treated as a topic
data.frame_OR_EList-class html
eif html
exp_biomarkertmle html
heatmap_ic html
modtest_ic html
plot.bioTMLE html
rnaseq_ic html
toptable html
volcano_ic html
** building package indices
** installing vignettes
** testing if installed package can be loaded from temporary location
Warning in .recacheSubclasses(def@className, def, env) :
undefined subclass "numericVector" of class "Mnumeric"; definition not updated
** testing if installed package can be loaded from final location
Warning in .recacheSubclasses(def@className, def, env) :
undefined subclass "numericVector" of class "Mnumeric"; definition not updated
** testing if installed package keeps a record of temporary installation path
install for x64
* installing *source* package 'biotmle' ...
** testing if installed package can be loaded
Warning in .recacheSubclasses(def@className, def, env) :
undefined subclass "numericVector" of class "Mnumeric"; definition not updated
* MD5 sums
packaged installation of 'biotmle' as biotmle_1.14.0.zip
* DONE (biotmle)