| Back to Multiple platform build/check report for BioC 3.12 |
|
This page was generated on 2021-05-06 12:34:24 -0400 (Thu, 06 May 2021).
|
To the developers/maintainers of the bioassayR package: Please make sure to use the following settings in order to reproduce any error or warning you see on this page. |
| Package 151/1974 | Hostname | OS / Arch | INSTALL | BUILD | CHECK | BUILD BIN | ||||||||
| bioassayR 1.28.3 (landing page) Daniela Cassol
| malbec1 | Linux (Ubuntu 18.04.5 LTS) / x86_64 | OK | OK | OK | |||||||||
| tokay1 | Windows Server 2012 R2 Standard / x64 | OK | OK | WARNINGS | OK | |||||||||
| merida1 | macOS 10.14.6 Mojave / x86_64 | OK | OK | OK | OK | |||||||||
| Package: bioassayR |
| Version: 1.28.3 |
| Command: /Library/Frameworks/R.framework/Versions/Current/Resources/bin/R CMD build --keep-empty-dirs --no-resave-data bioassayR |
| StartedAt: 2021-05-05 18:20:30 -0400 (Wed, 05 May 2021) |
| EndedAt: 2021-05-05 18:22:38 -0400 (Wed, 05 May 2021) |
| EllapsedTime: 127.8 seconds |
| RetCode: 0 |
| Status: OK |
| PackageFile: bioassayR_1.28.3.tar.gz |
| PackageFileSize: 4.47 MiB |
############################################################################## ############################################################################## ### ### Running command: ### ### /Library/Frameworks/R.framework/Versions/Current/Resources/bin/R CMD build --keep-empty-dirs --no-resave-data bioassayR ### ############################################################################## ############################################################################## * checking for file ‘bioassayR/DESCRIPTION’ ... OK * preparing ‘bioassayR’: * checking DESCRIPTION meta-information ... OK * installing the package to build vignettes * creating vignettes ... OK * checking for LF line-endings in source and make files and shell scripts * checking for empty or unneeded directories * looking to see if a ‘data/datalist’ file should be added * building ‘bioassayR_1.28.3.tar.gz’