| Back to Multiple platform build/check report for BioC 3.12 |
|
This page was generated on 2021-05-06 12:34:23 -0400 (Thu, 06 May 2021).
|
To the developers/maintainers of the beadarray package: Please make sure to use the following settings in order to reproduce any error or warning you see on this page. |
| Package 134/1974 | Hostname | OS / Arch | INSTALL | BUILD | CHECK | BUILD BIN | ||||||||
| beadarray 2.40.0 (landing page) Mark Dunning
| malbec1 | Linux (Ubuntu 18.04.5 LTS) / x86_64 | OK | OK | OK | |||||||||
| tokay1 | Windows Server 2012 R2 Standard / x64 | OK | OK | OK | OK | |||||||||
| merida1 | macOS 10.14.6 Mojave / x86_64 | OK | OK | OK | OK | |||||||||
| Package: beadarray |
| Version: 2.40.0 |
| Command: /Library/Frameworks/R.framework/Versions/Current/Resources/bin/R CMD check --install=check:beadarray.install-out.txt --library=/Library/Frameworks/R.framework/Versions/Current/Resources/library --no-vignettes --timings beadarray_2.40.0.tar.gz |
| StartedAt: 2021-05-05 23:31:52 -0400 (Wed, 05 May 2021) |
| EndedAt: 2021-05-05 23:40:18 -0400 (Wed, 05 May 2021) |
| EllapsedTime: 506.5 seconds |
| RetCode: 0 |
| Status: OK |
| CheckDir: beadarray.Rcheck |
| Warnings: 0 |
##############################################################################
##############################################################################
###
### Running command:
###
### /Library/Frameworks/R.framework/Versions/Current/Resources/bin/R CMD check --install=check:beadarray.install-out.txt --library=/Library/Frameworks/R.framework/Versions/Current/Resources/library --no-vignettes --timings beadarray_2.40.0.tar.gz
###
##############################################################################
##############################################################################
* using log directory ‘/Users/biocbuild/bbs-3.12-bioc/meat/beadarray.Rcheck’
* using R version 4.0.5 (2021-03-31)
* using platform: x86_64-apple-darwin17.0 (64-bit)
* using session charset: UTF-8
* using option ‘--no-vignettes’
* checking for file ‘beadarray/DESCRIPTION’ ... OK
* this is package ‘beadarray’ version ‘2.40.0’
* checking package namespace information ... OK
* checking package dependencies ... OK
* checking if this is a source package ... OK
* checking if there is a namespace ... OK
* checking for hidden files and directories ... OK
* checking for portable file names ... OK
* checking for sufficient/correct file permissions ... OK
* checking whether package ‘beadarray’ can be installed ... OK
* checking installed package size ... OK
* checking package directory ... OK
* checking ‘build’ directory ... OK
* checking DESCRIPTION meta-information ... OK
* checking top-level files ... OK
* checking for left-over files ... OK
* checking index information ... OK
* checking package subdirectories ... OK
* checking R files for non-ASCII characters ... OK
* checking R files for syntax errors ... OK
* checking whether the package can be loaded ... OK
* checking whether the package can be loaded with stated dependencies ... OK
* checking whether the package can be unloaded cleanly ... OK
* checking whether the namespace can be loaded with stated dependencies ... OK
* checking whether the namespace can be unloaded cleanly ... OK
* checking dependencies in R code ... NOTE
Package in Depends field not imported from: ‘hexbin’
These packages need to be imported from (in the NAMESPACE file)
for when this namespace is loaded but not attached.
Unexported objects imported by ':::' calls:
‘BeadDataPackR:::combineFiles’ ‘BeadDataPackR:::readHeader’
‘Biobase:::assayDataStorageMode’
See the note in ?`:::` about the use of this operator.
* checking S3 generic/method consistency ... OK
* checking replacement functions ... OK
* checking foreign function calls ... NOTE
Foreign function call to a different package:
.Call("roundLocsFileValues", ..., PACKAGE = "BeadDataPackR")
See chapter ‘System and foreign language interfaces’ in the ‘Writing R
Extensions’ manual.
* checking R code for possible problems ... NOTE
combinedControlPlot: no visible binding for global variable ‘Negative’
createGEOMeta: no visible binding for global variable ‘metaTemplate’
expressionQCPipeline: no visible global function definition for
‘openPage’
expressionQCPipeline: no visible global function definition for
‘hwrite’
expressionQCPipeline: no visible global function definition for
‘hwriteImage’
expressionQCPipeline: no visible global function definition for
‘closePage’
getPlatformSigs: no visible global function definition for
‘lumiHumanIDMapping_dbconn’
getPlatformSigs: no visible global function definition for
‘dbListTables’
getPlatformSigs: no visible global function definition for
‘dbListFields’
getPlatformSigs: no visible global function definition for ‘dbGetQuery’
getPlatformSigs: no visible global function definition for
‘lumiMouseIDMapping_dbconn’
getPlatformSigs: no visible global function definition for
‘lumiRatIDMapping_dbconn’
imageplot: no visible binding for global variable ‘Var1’
imageplot: no visible binding for global variable ‘Var2’
imageplot: no visible binding for global variable ‘value’
makeReport: no visible binding for global variable ‘Nozzle.R1’
makeReport: no visible binding for global variable ‘ggbio’
makeReport: no visible global function definition for ‘newCustomReport’
makeReport: no visible global function definition for ‘newSection’
makeReport: no visible global function definition for ‘newTable’
makeReport: no visible global function definition for ‘newParagraph’
makeReport: no visible global function definition for ‘addTo’
makeReport: no visible global function definition for ‘autoplot’
makeReport: no visible global function definition for ‘plotIdeogram’
makeReport: no visible global function definition for ‘tracks’
makeReport: no visible global function definition for ‘newFigure’
makeReport: no visible binding for global variable ‘IMAGE.TYPE.RASTER’
makeReport: no visible binding for global variable ‘PROTECTION.PUBLIC’
makeReport: no visible binding for global variable ‘value’
makeReport: no visible global function definition for ‘writeReport’
maplots: no visible binding for global variable ‘value.1’
maplots: no visible binding for global variable ‘value’
normaliseIllumina: no visible global function definition for ‘lumiT’
normaliseIllumina: no visible global function definition for
‘normalize.qspline’
normaliseIllumina: no visible global function definition for ‘vsn2’
plotBeadLocations2: no visible global function definition for ‘qplot’
plotBeadLocations2: no visible global function definition for ‘opts’
plotBeadLocations2: no visible global function definition for
‘theme_blank’
plotProbe: no visible global function definition for ‘autoplot’
plotProbe: no visible binding for global variable ‘genesymbol’
plotProbe: no visible global function definition for ‘tracks’
plotProbe: no visible binding for global variable ‘PROBEQUALITY’
rankInvariantNormalise: no visible global function definition for
‘normalize.invariantset’
suggestAnnotation: no visible binding for global variable
‘platformSigs’
suggestAnnotation_Vector: no visible binding for global variable
‘platformSigs’
[,ExpressionSetIllumina-ANY: no visible global function definition for
‘assayDataEnvLock’
boxplot,ExpressionSetIllumina: no visible binding for global variable
‘Var2’
boxplot,ExpressionSetIllumina: no visible binding for global variable
‘value’
plotMA,ExpressionSetIllumina: no visible binding for global variable
‘value.1’
plotMA,ExpressionSetIllumina: no visible binding for global variable
‘value’
Undefined global functions or variables:
IMAGE.TYPE.RASTER Negative Nozzle.R1 PROBEQUALITY PROTECTION.PUBLIC
Var1 Var2 addTo assayDataEnvLock autoplot closePage dbGetQuery
dbListFields dbListTables genesymbol ggbio hwrite hwriteImage
lumiHumanIDMapping_dbconn lumiMouseIDMapping_dbconn
lumiRatIDMapping_dbconn lumiT metaTemplate newCustomReport newFigure
newParagraph newSection newTable normalize.invariantset
normalize.qspline openPage opts platformSigs plotIdeogram qplot
theme_blank tracks value value.1 vsn2 writeReport
* checking Rd files ... OK
* checking Rd metadata ... OK
* checking Rd cross-references ... OK
* checking for missing documentation entries ... OK
* checking for code/documentation mismatches ... OK
* checking Rd \usage sections ... OK
* checking Rd contents ... OK
* checking for unstated dependencies in examples ... OK
* checking contents of ‘data’ directory ... OK
* checking data for non-ASCII characters ... OK
* checking data for ASCII and uncompressed saves ... OK
* checking line endings in C/C++/Fortran sources/headers ... OK
* checking compiled code ... NOTE
Note: information on .o files is not available
* checking sizes of PDF files under ‘inst/doc’ ... OK
* checking files in ‘vignettes’ ... OK
* checking examples ... OK
Examples with CPU (user + system) or elapsed time > 5s
user system elapsed
squeezedVarOutlierMethod 53.660 0.469 54.282
summarize 25.912 0.885 26.971
limmaDE 25.796 0.273 26.179
normaliseIllumina 17.172 0.568 19.889
outlierplot 16.266 0.344 16.718
calculateDetection 13.718 0.545 14.526
calculateOutlierStats 13.264 0.494 13.778
controlProbeDetection 10.523 0.280 10.911
insertSectionData 9.774 0.352 10.147
makeQCTable 9.794 0.291 10.123
identifyControlBeads 9.187 0.133 9.333
poscontPlot 8.742 0.235 9.004
annotationInterface 7.757 0.361 8.131
showArrayMask 7.680 0.266 8.083
imageplot 7.499 0.260 8.529
addFeatureData 7.146 0.243 7.412
quickSummary 6.655 0.155 6.827
maplots 5.185 0.447 5.645
plotBeadIntensities 3.772 0.092 6.780
* checking for unstated dependencies in vignettes ... OK
* checking package vignettes in ‘inst/doc’ ... OK
* checking running R code from vignettes ... SKIPPED
* checking re-building of vignette outputs ... SKIPPED
* checking PDF version of manual ... OK
* DONE
Status: 4 NOTEs
See
‘/Users/biocbuild/bbs-3.12-bioc/meat/beadarray.Rcheck/00check.log’
for details.
beadarray.Rcheck/00install.out
############################################################################## ############################################################################## ### ### Running command: ### ### /Library/Frameworks/R.framework/Versions/Current/Resources/bin/R CMD INSTALL beadarray ### ############################################################################## ############################################################################## * installing to library ‘/Library/Frameworks/R.framework/Versions/4.0/Resources/library’ * installing *source* package ‘beadarray’ ... ** using staged installation ** libs clang -mmacosx-version-min=10.13 -I"/Library/Frameworks/R.framework/Resources/include" -DNDEBUG -I/usr/local/include -fPIC -Wall -g -O2 -c BASH.c -o BASH.o clang -mmacosx-version-min=10.13 -I"/Library/Frameworks/R.framework/Resources/include" -DNDEBUG -I/usr/local/include -fPIC -Wall -g -O2 -c HULK.c -o HULK.o clang -mmacosx-version-min=10.13 -I"/Library/Frameworks/R.framework/Resources/include" -DNDEBUG -I/usr/local/include -fPIC -Wall -g -O2 -c determiningGridPositions.c -o determiningGridPositions.o clang -mmacosx-version-min=10.13 -I"/Library/Frameworks/R.framework/Resources/include" -DNDEBUG -I/usr/local/include -fPIC -Wall -g -O2 -c findAllOutliers.c -o findAllOutliers.o clang -mmacosx-version-min=10.13 -I"/Library/Frameworks/R.framework/Resources/include" -DNDEBUG -I/usr/local/include -fPIC -Wall -g -O2 -c imageProcessing.c -o imageProcessing.o clang -mmacosx-version-min=10.13 -dynamiclib -Wl,-headerpad_max_install_names -undefined dynamic_lookup -single_module -multiply_defined suppress -L/Library/Frameworks/R.framework/Resources/lib -L/usr/local/lib -o beadarray.so BASH.o HULK.o determiningGridPositions.o findAllOutliers.o imageProcessing.o -F/Library/Frameworks/R.framework/.. -framework R -Wl,-framework -Wl,CoreFoundation installing to /Library/Frameworks/R.framework/Versions/4.0/Resources/library/00LOCK-beadarray/00new/beadarray/libs ** R ** data *** moving datasets to lazyload DB ** inst ** byte-compile and prepare package for lazy loading ** help *** installing help indices ** building package indices ** installing vignettes ** testing if installed package can be loaded from temporary location ** checking absolute paths in shared objects and dynamic libraries ** testing if installed package can be loaded from final location ** testing if installed package keeps a record of temporary installation path * DONE (beadarray)
beadarray.Rcheck/beadarray-Ex.timings
| name | user | system | elapsed | |
| BASH | 0.000 | 0.001 | 0.001 | |
| BASHCompact | 0 | 0 | 0 | |
| BASHDiffuse | 0.000 | 0.000 | 0.001 | |
| BASHExtended | 0.001 | 0.000 | 0.001 | |
| GEO | 0.001 | 0.000 | 0.000 | |
| GEOtemplate | 0.003 | 0.002 | 0.004 | |
| HULK | 0 | 0 | 0 | |
| addFeatureData | 7.146 | 0.243 | 7.412 | |
| annotationInterface | 7.757 | 0.361 | 8.131 | |
| backgroundCorrectSingleSection | 0 | 0 | 0 | |
| beadarrayUsersGuide | 0.002 | 0.001 | 0.002 | |
| boxplot | 4.018 | 0.172 | 4.200 | |
| calculateDetection | 13.718 | 0.545 | 14.526 | |
| calculateOutlierStats | 13.264 | 0.494 | 13.778 | |
| class-beadLevelData | 3.226 | 0.118 | 3.350 | |
| class-illuminaChannel | 0.002 | 0.001 | 0.003 | |
| combine | 3.621 | 0.151 | 3.784 | |
| controlProbeDetection | 10.523 | 0.280 | 10.911 | |
| createTargetsFile | 0.000 | 0.001 | 0.001 | |
| expressionQCPipeline | 0.028 | 0.001 | 0.030 | |
| generateNeighbours | 0.001 | 0.000 | 0.000 | |
| getBeadData | 2.908 | 0.068 | 2.980 | |
| identifyControlBeads | 9.187 | 0.133 | 9.333 | |
| illuminaOutlierMethod | 3.275 | 0.114 | 3.392 | |
| imageplot | 7.499 | 0.260 | 8.529 | |
| insertBeadData | 3.590 | 0.102 | 3.730 | |
| insertSectionData | 9.774 | 0.352 | 10.147 | |
| limmaDE | 25.796 | 0.273 | 26.179 | |
| makeControlProfile | 0.517 | 0.009 | 0.527 | |
| makeQCTable | 9.794 | 0.291 | 10.123 | |
| maplots | 5.185 | 0.447 | 5.645 | |
| medianNormalise | 1.839 | 0.070 | 1.913 | |
| metrics | 2.601 | 0.069 | 2.674 | |
| noOutlierMethod | 2.698 | 0.065 | 2.769 | |
| normaliseIllumina | 17.172 | 0.568 | 19.889 | |
| numBeads | 2.650 | 0.049 | 2.713 | |
| outlierplot | 16.266 | 0.344 | 16.718 | |
| plotBeadIntensities | 3.772 | 0.092 | 6.780 | |
| plotBeadLocations | 2.501 | 0.070 | 2.578 | |
| plotChipLayout | 0.000 | 0.001 | 0.000 | |
| plotMAXY | 0 | 0 | 0 | |
| poscontPlot | 8.742 | 0.235 | 9.004 | |
| quickSummary | 6.655 | 0.155 | 6.827 | |
| readBeadSummaryData | 0.000 | 0.000 | 0.001 | |
| sectionNames | 2.425 | 0.054 | 2.484 | |
| showArrayMask | 7.680 | 0.266 | 8.083 | |
| squeezedVarOutlierMethod | 53.660 | 0.469 | 54.282 | |
| summarize | 25.912 | 0.885 | 26.971 | |
| transformationFunctions | 3.050 | 0.060 | 3.114 | |
| weightsOutlierMethod | 0.000 | 0.001 | 0.000 | |