| Back to Multiple platform build/check report for BioC 3.12 |
|
This page was generated on 2021-05-06 12:29:58 -0400 (Thu, 06 May 2021).
|
To the developers/maintainers of the basilisk.utils package: Please make sure to use the following settings in order to reproduce any error or warning you see on this page. |
| Package 122/1974 | Hostname | OS / Arch | INSTALL | BUILD | CHECK | BUILD BIN | ||||||||
| basilisk.utils 1.2.2 (landing page) Aaron Lun
| malbec1 | Linux (Ubuntu 18.04.5 LTS) / x86_64 | OK | OK | OK | |||||||||
| tokay1 | Windows Server 2012 R2 Standard / x64 | OK | OK | OK | OK | |||||||||
| merida1 | macOS 10.14.6 Mojave / x86_64 | OK | OK | OK | OK | |||||||||
| Package: basilisk.utils |
| Version: 1.2.2 |
| Command: rm -rf basilisk.utils.buildbin-libdir && mkdir basilisk.utils.buildbin-libdir && C:\Users\biocbuild\bbs-3.12-bioc\R\bin\R.exe CMD INSTALL --merge-multiarch --build --library=basilisk.utils.buildbin-libdir basilisk.utils_1.2.2.tar.gz |
| StartedAt: 2021-05-06 08:29:53 -0400 (Thu, 06 May 2021) |
| EndedAt: 2021-05-06 08:30:24 -0400 (Thu, 06 May 2021) |
| EllapsedTime: 30.6 seconds |
| RetCode: 0 |
| Status: OK |
| PackageFile: basilisk.utils_1.2.2.zip |
| PackageFileSize: 280.9 KiB |
##############################################################################
##############################################################################
###
### Running command:
###
### rm -rf basilisk.utils.buildbin-libdir && mkdir basilisk.utils.buildbin-libdir && C:\Users\biocbuild\bbs-3.12-bioc\R\bin\R.exe CMD INSTALL --merge-multiarch --build --library=basilisk.utils.buildbin-libdir basilisk.utils_1.2.2.tar.gz
###
##############################################################################
##############################################################################
install for i386
* installing *source* package 'basilisk.utils' ...
** using staged installation
** R
** inst
** byte-compile and prepare package for lazy loading
** help
*** installing help indices
converting help for package 'basilisk.utils'
finding HTML links ... done
clearExternalDir html
destroyOldVersions html
dir.create2 html
getBinaries html
getCondaDir html
getExternalDir html
finding level-2 HTML links ... done
getSystemDir html
installConda html
isWindows html
lockExternalDir html
setVariable html
unlink2 html
useSystemDir html
** building package indices
** installing vignettes
** testing if installed package can be loaded from temporary location
** testing if installed package can be loaded from final location
** testing if installed package keeps a record of temporary installation path
install for x64
* installing *source* package 'basilisk.utils' ...
** testing if installed package can be loaded
* MD5 sums
packaged installation of 'basilisk.utils' as basilisk.utils_1.2.2.zip
* DONE (basilisk.utils)