| Back to Multiple platform build/check report for BioC 3.12 | 
 | 
This page was generated on 2021-05-06 12:29:55 -0400 (Thu, 06 May 2021).
| To the developers/maintainers of the arrayMvout package: Please make sure to use the following settings in order to reproduce any error or warning you see on this page. | 
| Package 83/1974 | Hostname | OS / Arch | INSTALL | BUILD | CHECK | BUILD BIN | ||||||||
| arrayMvout 1.48.0  (landing page) V. Carey 
 | malbec1 | Linux (Ubuntu 18.04.5 LTS) / x86_64 | OK | OK | OK |  | ||||||||
| tokay1 | Windows Server 2012 R2 Standard / x64 | OK | OK | OK | OK |  | ||||||||
| merida1 | macOS 10.14.6 Mojave / x86_64 | OK | OK | OK | OK |  | ||||||||
| Package: arrayMvout | 
| Version: 1.48.0 | 
| Command: C:\cygwin\bin\curl.exe -O http://172.29.0.3/BBS/3.12/bioc/src/contrib/arrayMvout_1.48.0.tar.gz && rm -rf arrayMvout.buildbin-libdir && mkdir arrayMvout.buildbin-libdir && C:\Users\biocbuild\bbs-3.12-bioc\R\bin\R.exe CMD INSTALL --merge-multiarch --build --library=arrayMvout.buildbin-libdir arrayMvout_1.48.0.tar.gz && C:\Users\biocbuild\bbs-3.12-bioc\R\bin\R.exe CMD INSTALL arrayMvout_1.48.0.zip && rm arrayMvout_1.48.0.tar.gz arrayMvout_1.48.0.zip | 
| StartedAt: 2021-05-05 19:06:07 -0400 (Wed, 05 May 2021) | 
| EndedAt: 2021-05-05 19:07:28 -0400 (Wed, 05 May 2021) | 
| EllapsedTime: 80.9 seconds | 
| RetCode: 0 | 
| Status: OK | 
##############################################################################
##############################################################################
###
### Running command:
###
###   C:\cygwin\bin\curl.exe -O http://172.29.0.3/BBS/3.12/bioc/src/contrib/arrayMvout_1.48.0.tar.gz && rm -rf arrayMvout.buildbin-libdir && mkdir arrayMvout.buildbin-libdir && C:\Users\biocbuild\bbs-3.12-bioc\R\bin\R.exe CMD INSTALL --merge-multiarch --build --library=arrayMvout.buildbin-libdir arrayMvout_1.48.0.tar.gz && C:\Users\biocbuild\bbs-3.12-bioc\R\bin\R.exe CMD INSTALL arrayMvout_1.48.0.zip && rm arrayMvout_1.48.0.tar.gz arrayMvout_1.48.0.zip
###
##############################################################################
##############################################################################
  % Total    % Received % Xferd  Average Speed   Time    Time     Time  Current
                                 Dload  Upload   Total   Spent    Left  Speed
  0     0    0     0    0     0      0      0 --:--:-- --:--:-- --:--:--     0
100  297k  100  297k    0     0  6008k      0 --:--:-- --:--:-- --:--:-- 6079k
install for i386
* installing *source* package 'arrayMvout' ...
** using staged installation
** R
** data
** byte-compile and prepare package for lazy loading
No methods found in package 'RSQLite' for request: 'dbListFields' when loading 'lumi'
** help
*** installing help indices
  converting help for package 'arrayMvout'
    finding HTML links ... done
    ArrayOutliers-methods                   html  
    ArrayOutliers                           html  
    arrOutStruct-class                      html  
** building package indices
** installing vignettes
** testing if installed package can be loaded from temporary location
No methods found in package 'RSQLite' for request: 'dbListFields' when loading 'lumi'
** testing if installed package can be loaded from final location
No methods found in package 'RSQLite' for request: 'dbListFields' when loading 'lumi'
** testing if installed package keeps a record of temporary installation path
install for x64
* installing *source* package 'arrayMvout' ...
** testing if installed package can be loaded
No methods found in package 'RSQLite' for request: 'dbListFields' when loading 'lumi'
* MD5 sums
packaged installation of 'arrayMvout' as arrayMvout_1.48.0.zip
* DONE (arrayMvout)
* installing to library 'C:/Users/biocbuild/bbs-3.12-bioc/R/library'
package 'arrayMvout' successfully unpacked and MD5 sums checked