| Back to Multiple platform build/check report for BioC 3.12 |
|
This page was generated on 2021-05-06 12:29:54 -0400 (Thu, 06 May 2021).
|
To the developers/maintainers of the anota2seq package: Please make sure to use the following settings in order to reproduce any error or warning you see on this page. |
| Package 71/1974 | Hostname | OS / Arch | INSTALL | BUILD | CHECK | BUILD BIN | ||||||||
| anota2seq 1.12.0 (landing page) Christian Oertlin
| malbec1 | Linux (Ubuntu 18.04.5 LTS) / x86_64 | OK | OK | OK | |||||||||
| tokay1 | Windows Server 2012 R2 Standard / x64 | OK | OK | OK | OK | |||||||||
| merida1 | macOS 10.14.6 Mojave / x86_64 | OK | OK | OK | OK | |||||||||
| Package: anota2seq |
| Version: 1.12.0 |
| Command: rm -rf anota2seq.buildbin-libdir && mkdir anota2seq.buildbin-libdir && C:\Users\biocbuild\bbs-3.12-bioc\R\bin\R.exe CMD INSTALL --merge-multiarch --build --library=anota2seq.buildbin-libdir anota2seq_1.12.0.tar.gz |
| StartedAt: 2021-05-06 08:26:31 -0400 (Thu, 06 May 2021) |
| EndedAt: 2021-05-06 08:27:18 -0400 (Thu, 06 May 2021) |
| EllapsedTime: 47.8 seconds |
| RetCode: 0 |
| Status: OK |
| PackageFile: anota2seq_1.12.0.zip |
| PackageFileSize: 1.606 MiB |
##############################################################################
##############################################################################
###
### Running command:
###
### rm -rf anota2seq.buildbin-libdir && mkdir anota2seq.buildbin-libdir && C:\Users\biocbuild\bbs-3.12-bioc\R\bin\R.exe CMD INSTALL --merge-multiarch --build --library=anota2seq.buildbin-libdir anota2seq_1.12.0.tar.gz
###
##############################################################################
##############################################################################
install for i386
* installing *source* package 'anota2seq' ...
** using staged installation
** R
** data
*** moving datasets to lazyload DB
** inst
** byte-compile and prepare package for lazy loading
** help
*** installing help indices
converting help for package 'anota2seq'
finding HTML links ... done
Anota2seqDataSet-class html
anota2seq-plots html
anota2seqAnalyze html
anota2seqDataSetFromMatrix html
anota2seqGetContrasts html
anota2seqGetCovariates html
anota2seqGetDeltaData html
anota2seqGetNormalizedData html
anota2seqGetOutput html
anota2seqGetQualityControl html
anota2seqGetResidOutlierTest html
anota2seqGetThresholds html
anota2seqPerformQC html
anota2seqRegModes html
anota2seqResidOutlierTest html
anota2seqRun html
anota2seqSelSigGenes html
anota2seq_data html
show-Anota2seqDataSet-method html
** building package indices
** installing vignettes
** testing if installed package can be loaded from temporary location
** testing if installed package can be loaded from final location
** testing if installed package keeps a record of temporary installation path
install for x64
* installing *source* package 'anota2seq' ...
** testing if installed package can be loaded
* MD5 sums
packaged installation of 'anota2seq' as anota2seq_1.12.0.zip
* DONE (anota2seq)