| Back to Multiple platform build/check report for BioC 3.12 |
|
This page was generated on 2021-05-06 12:26:51 -0400 (Thu, 06 May 2021).
|
To the developers/maintainers of the annotate package: Please make sure to use the following settings in order to reproduce any error or warning you see on this page. |
| Package 61/1974 | Hostname | OS / Arch | INSTALL | BUILD | CHECK | BUILD BIN | ||||||||
| annotate 1.68.0 (landing page) Bioconductor Package Maintainer
| malbec1 | Linux (Ubuntu 18.04.5 LTS) / x86_64 | OK | OK | OK | |||||||||
| tokay1 | Windows Server 2012 R2 Standard / x64 | OK | OK | OK | OK | |||||||||
| merida1 | macOS 10.14.6 Mojave / x86_64 | OK | OK | OK | OK | |||||||||
| Package: annotate |
| Version: 1.68.0 |
| Command: /home/biocbuild/bbs-3.12-bioc/R/bin/R CMD check --install=check:annotate.install-out.txt --library=/home/biocbuild/bbs-3.12-bioc/R/library --no-vignettes --timings annotate_1.68.0.tar.gz |
| StartedAt: 2021-05-05 22:57:54 -0400 (Wed, 05 May 2021) |
| EndedAt: 2021-05-05 23:01:08 -0400 (Wed, 05 May 2021) |
| EllapsedTime: 193.9 seconds |
| RetCode: 0 |
| Status: OK |
| CheckDir: annotate.Rcheck |
| Warnings: 0 |
##############################################################################
##############################################################################
###
### Running command:
###
### /home/biocbuild/bbs-3.12-bioc/R/bin/R CMD check --install=check:annotate.install-out.txt --library=/home/biocbuild/bbs-3.12-bioc/R/library --no-vignettes --timings annotate_1.68.0.tar.gz
###
##############################################################################
##############################################################################
* using log directory ‘/home/biocbuild/bbs-3.12-bioc/meat/annotate.Rcheck’
* using R version 4.0.5 (2021-03-31)
* using platform: x86_64-pc-linux-gnu (64-bit)
* using session charset: UTF-8
* using option ‘--no-vignettes’
* checking for file ‘annotate/DESCRIPTION’ ... OK
* this is package ‘annotate’ version ‘1.68.0’
* checking package namespace information ... OK
* checking package dependencies ... OK
* checking if this is a source package ... OK
* checking if there is a namespace ... OK
* checking for hidden files and directories ... OK
* checking for portable file names ... OK
* checking for sufficient/correct file permissions ... OK
* checking whether package ‘annotate’ can be installed ... OK
* checking installed package size ... OK
* checking package directory ... OK
* checking ‘build’ directory ... OK
* checking DESCRIPTION meta-information ... OK
* checking top-level files ... OK
* checking for left-over files ... OK
* checking index information ... OK
* checking package subdirectories ... OK
* checking R files for non-ASCII characters ... OK
* checking R files for syntax errors ... OK
* checking whether the package can be loaded ... OK
* checking whether the package can be loaded with stated dependencies ... OK
* checking whether the package can be unloaded cleanly ... OK
* checking whether the namespace can be loaded with stated dependencies ... OK
* checking whether the namespace can be unloaded cleanly ... OK
* checking dependencies in R code ... OK
* checking S3 generic/method consistency ... OK
* checking replacement functions ... OK
* checking foreign function calls ... OK
* checking R code for possible problems ... OK
* checking Rd files ... OK
* checking Rd metadata ... OK
* checking Rd cross-references ... OK
* checking for missing documentation entries ... OK
* checking for code/documentation mismatches ... OK
* checking Rd \usage sections ... OK
* checking Rd contents ... OK
* checking for unstated dependencies in examples ... OK
* checking contents of ‘data’ directory ... OK
* checking data for non-ASCII characters ... OK
* checking data for ASCII and uncompressed saves ... OK
* checking files in ‘vignettes’ ... OK
* checking examples ... OK
Examples with CPU (user + system) or elapsed time > 5s
user system elapsed
chrCats 16.192 0.004 16.275
blastSequences 0.540 0.028 39.859
* checking for unstated dependencies in ‘tests’ ... OK
* checking tests ...
Running ‘annotate_unit_tests.R’
OK
* checking for unstated dependencies in vignettes ... OK
* checking package vignettes in ‘inst/doc’ ... OK
* checking running R code from vignettes ... SKIPPED
* checking re-building of vignette outputs ... SKIPPED
* checking PDF version of manual ... OK
* DONE
Status: OK
annotate.Rcheck/00install.out
############################################################################## ############################################################################## ### ### Running command: ### ### /home/biocbuild/bbs-3.12-bioc/R/bin/R CMD INSTALL annotate ### ############################################################################## ############################################################################## * installing to library ‘/home/biocbuild/bbs-3.12-bioc/R/library’ * installing *source* package ‘annotate’ ... ** using staged installation ** R ** data ** inst ** byte-compile and prepare package for lazy loading ** help *** installing help indices ** building package indices ** installing vignettes ** testing if installed package can be loaded from temporary location ** testing if installed package can be loaded from final location ** testing if installed package keeps a record of temporary installation path * DONE (annotate)
annotate.Rcheck/tests/annotate_unit_tests.Rout
R version 4.0.5 (2021-03-31) -- "Shake and Throw"
Copyright (C) 2021 The R Foundation for Statistical Computing
Platform: x86_64-pc-linux-gnu (64-bit)
R is free software and comes with ABSOLUTELY NO WARRANTY.
You are welcome to redistribute it under certain conditions.
Type 'license()' or 'licence()' for distribution details.
R is a collaborative project with many contributors.
Type 'contributors()' for more information and
'citation()' on how to cite R or R packages in publications.
Type 'demo()' for some demos, 'help()' for on-line help, or
'help.start()' for an HTML browser interface to help.
Type 'q()' to quit R.
> BiocGenerics:::testPackage("annotate")
Attaching package: 'BiocGenerics'
The following objects are masked from 'package:parallel':
clusterApply, clusterApplyLB, clusterCall, clusterEvalQ,
clusterExport, clusterMap, parApply, parCapply, parLapply,
parLapplyLB, parRapply, parSapply, parSapplyLB
The following objects are masked from 'package:stats':
IQR, mad, sd, var, xtabs
The following objects are masked from 'package:base':
Filter, Find, Map, Position, Reduce, anyDuplicated, append,
as.data.frame, basename, cbind, colnames, dirname, do.call,
duplicated, eval, evalq, get, grep, grepl, intersect, is.unsorted,
lapply, mapply, match, mget, order, paste, pmax, pmax.int, pmin,
pmin.int, rank, rbind, rownames, sapply, setdiff, sort, table,
tapply, union, unique, unsplit, which.max, which.min
Welcome to Bioconductor
Vignettes contain introductory material; view with
'browseVignettes()'. To cite Bioconductor, see
'citation("Biobase")', and for packages 'citation("pkgname")'.
Attaching package: 'S4Vectors'
The following object is masked from 'package:base':
expand.grid
Loading required package: org.Hs.eg.db
'select()' returned 1:many mapping between keys and columns
RUNIT TEST PROTOCOL -- Wed May 5 23:01:02 2021
***********************************************
Number of test functions: 1
Number of errors: 0
Number of failures: 0
1 Test Suite :
annotate RUnit Tests - 1 test function, 0 errors, 0 failures
Number of test functions: 1
Number of errors: 0
Number of failures: 0
>
> proc.time()
user system elapsed
7.200 0.228 7.644
annotate.Rcheck/annotate-Ex.timings
| name | user | system | elapsed | |
| ACCNUMStats | 1.716 | 0.080 | 1.796 | |
| GO2heatmap | 0.196 | 0.004 | 0.210 | |
| GOmnplot | 0.068 | 0.004 | 0.073 | |
| HTMLPage-class | 0 | 0 | 0 | |
| LL2homology | 0 | 0 | 0 | |
| PMIDAmat | 0.140 | 0.000 | 0.695 | |
| PWAmat | 2.316 | 0.016 | 2.338 | |
| UniGeneQuery | 0.000 | 0.000 | 0.001 | |
| accessionToUID | 0.792 | 0.060 | 3.004 | |
| annPkgName | 0.000 | 0.000 | 0.001 | |
| aqListGOIDs | 0.260 | 0.012 | 0.273 | |
| blastSequences | 0.540 | 0.028 | 39.859 | |
| buildChromLocation | 1.076 | 0.000 | 1.219 | |
| buildPubMedAbst | 0.124 | 0.000 | 0.671 | |
| chrCats | 16.192 | 0.004 | 16.275 | |
| chromLocation-class | 0.588 | 0.004 | 0.593 | |
| compatibleVersions | 0.036 | 0.000 | 0.038 | |
| dropECode | 0.056 | 0.000 | 0.056 | |
| entrezGeneByID | 0.004 | 0.000 | 0.001 | |
| entrezGeneQuery | 0.000 | 0.000 | 0.001 | |
| filterGOByOntology | 0.076 | 0.000 | 0.077 | |
| findNeighbors | 0.024 | 0.000 | 0.091 | |
| genbank | 0.312 | 0.016 | 0.929 | |
| getAnnMap | 0.056 | 0.000 | 0.382 | |
| getEvidence | 0.088 | 0.000 | 0.086 | |
| getGOTerm | 0.332 | 0.000 | 0.503 | |
| getOntology | 0.068 | 0.000 | 0.069 | |
| getPMInfo | 0.524 | 0.008 | 1.028 | |
| getSYMBOL | 0.148 | 0.004 | 1.304 | |
| getSeq4Acc | 0.076 | 0.000 | 0.512 | |
| hasGOannote | 0.036 | 0.000 | 0.039 | |
| hgByChroms | 0.020 | 0.000 | 0.021 | |
| hgCLengths | 0.000 | 0.004 | 0.002 | |
| hgu95Achroloc | 0.092 | 0.004 | 0.098 | |
| hgu95Achrom | 0.084 | 0.000 | 0.083 | |
| hgu95All | 0.092 | 0.000 | 0.092 | |
| hgu95Asym | 0.092 | 0.000 | 0.093 | |
| homoData-class | 0.004 | 0.000 | 0.004 | |
| htmlpage | 0.028 | 0.004 | 0.031 | |
| isValidkey | 0 | 0 | 0 | |
| makeAnchor | 0.000 | 0.000 | 0.001 | |
| organism | 0.892 | 0.008 | 0.905 | |
| p2LL | 0 | 0 | 0 | |
| pm.abstGrep | 1.516 | 0.024 | 2.693 | |
| pm.getabst | 1.268 | 0.008 | 2.459 | |
| pm.titles | 1.280 | 0.020 | 2.466 | |
| pmAbst2HTML | 0.140 | 0.012 | 0.635 | |
| pmid2MIAME | 0 | 0 | 0 | |
| pmidQuery | 0.004 | 0.000 | 0.001 | |
| pubMedAbst-class | 0.124 | 0.000 | 0.624 | |
| pubmed | 0.072 | 0.004 | 0.718 | |
| readGEOAnn | 0 | 0 | 0 | |
| serializeEnv | 0.004 | 0.000 | 0.002 | |
| setRepository | 0.004 | 0.000 | 0.001 | |
| updateSymbolsToValidKeys | 0.000 | 0.000 | 0.001 | |
| usedChromGenes | 0.100 | 0.012 | 0.114 | |